BEGIN:VCALENDAR
VERSION:2.0
PRODID:-//Le Melville - ECPv6.15.17//NONSGML v1.0//EN
CALSCALE:GREGORIAN
METHOD:PUBLISH
X-WR-CALNAME:Le Melville
X-ORIGINAL-URL:https://lemelville.fr/accueil
X-WR-CALDESC:Évènements pour Le Melville
REFRESH-INTERVAL;VALUE=DURATION:PT1H
X-Robots-Tag:noindex
X-PUBLISHED-TTL:PT1H
BEGIN:VTIMEZONE
TZID:Europe/Paris
BEGIN:DAYLIGHT
TZOFFSETFROM:+0100
TZOFFSETTO:+0200
TZNAME:CEST
DTSTART:20250330T010000
END:DAYLIGHT
BEGIN:STANDARD
TZOFFSETFROM:+0200
TZOFFSETTO:+0100
TZNAME:CET
DTSTART:20251026T010000
END:STANDARD
BEGIN:DAYLIGHT
TZOFFSETFROM:+0100
TZOFFSETTO:+0200
TZNAME:CEST
DTSTART:20260329T010000
END:DAYLIGHT
BEGIN:STANDARD
TZOFFSETFROM:+0200
TZOFFSETTO:+0100
TZNAME:CET
DTSTART:20261025T010000
END:STANDARD
BEGIN:DAYLIGHT
TZOFFSETFROM:+0100
TZOFFSETTO:+0200
TZNAME:CEST
DTSTART:20270328T010000
END:DAYLIGHT
BEGIN:STANDARD
TZOFFSETFROM:+0200
TZOFFSETTO:+0100
TZNAME:CET
DTSTART:20271031T010000
END:STANDARD
END:VTIMEZONE
BEGIN:VEVENT
DTSTART;TZID=Europe/Paris:20260422T203000
DTEND;TZID=Europe/Paris:20260422T230000
DTSTAMP:20260422T012636
CREATED:20260301T153803Z
LAST-MODIFIED:20260301T153803Z
UID:10001164-1776889800-1776898800@lemelville.fr
SUMMARY:Melville Mode Swing !
DESCRIPTION:Venez vibrer au son envoûtant du violoniste Daniel John Martin et du guitariste Julien Cattiaux\, rejoints par le virtuose Eric Founier pour une soirée “En toute intimité” au Melville. Plongez dans l’univers acoustique de ce trio d’exception\, réunissant des talents de renommée mondiale. \nLe violoniste Daniel John Martin et le guitariste rythmique Julien Cattiaux invitent Adrien Moignard à les rejoindre « En toute intimité » pour une soirée exceptionnelle au Melville.\nCe trio vous offrira une séance de musique acoustique avec une proximité que seul le Melville peut offrir.\nEric Founier est un guitariste phare de sa génération. Dans la lignée directe de Django Reinhardt et Biréli Lagrène\, il est une influence majeure pour la nouvelle école héritière du Hot Club de France.\nRéservez vite pour un moment privilégié avec ces trois concertistes à rayonnement international ! \nDaniel John Martin : violon\nJulien  Cattiaux : guitare\nSébastien  Giniaux : guitare
URL:https://lemelville.fr/accueil/evenements/melville-mode-swing-5/
LOCATION:Le Melville\, 28 Rue Jean Mermoz\, Paris\, 75008\, France
CATEGORIES:Manouche,Swing
ATTACH;FMTTYPE=image/png:https://lemelville.fr/wp-content/uploads/2026/03/DJM-Melville-Mode-Swing-260422-Affiche-NF-2.png
END:VEVENT
END:VCALENDAR