BEGIN:VCALENDAR
VERSION:2.0
PRODID:-//Le Melville - ECPv6.15.17//NONSGML v1.0//EN
CALSCALE:GREGORIAN
METHOD:PUBLISH
X-WR-CALNAME:Le Melville
X-ORIGINAL-URL:https://lemelville.fr/accueil
X-WR-CALDESC:Évènements pour Le Melville
REFRESH-INTERVAL;VALUE=DURATION:PT1H
X-Robots-Tag:noindex
X-PUBLISHED-TTL:PT1H
BEGIN:VTIMEZONE
TZID:Europe/Paris
BEGIN:DAYLIGHT
TZOFFSETFROM:+0100
TZOFFSETTO:+0200
TZNAME:CEST
DTSTART:20250330T010000
END:DAYLIGHT
BEGIN:STANDARD
TZOFFSETFROM:+0200
TZOFFSETTO:+0100
TZNAME:CET
DTSTART:20251026T010000
END:STANDARD
BEGIN:DAYLIGHT
TZOFFSETFROM:+0100
TZOFFSETTO:+0200
TZNAME:CEST
DTSTART:20260329T010000
END:DAYLIGHT
BEGIN:STANDARD
TZOFFSETFROM:+0200
TZOFFSETTO:+0100
TZNAME:CET
DTSTART:20261025T010000
END:STANDARD
BEGIN:DAYLIGHT
TZOFFSETFROM:+0100
TZOFFSETTO:+0200
TZNAME:CEST
DTSTART:20270328T010000
END:DAYLIGHT
BEGIN:STANDARD
TZOFFSETFROM:+0200
TZOFFSETTO:+0100
TZNAME:CET
DTSTART:20271031T010000
END:STANDARD
END:VTIMEZONE
BEGIN:VEVENT
DTSTART;TZID=Europe/Paris:20260423T203000
DTEND;TZID=Europe/Paris:20260423T230000
DTSTAMP:20260423T011408
CREATED:20260301T075909Z
LAST-MODIFIED:20260301T075909Z
UID:10001152-1776976200-1776985200@lemelville.fr
SUMMARY:Tom Guillois 4tet
DESCRIPTION:À 26 ans\, Tom Guillois brille sur la scène jazz parisienne. Passionné de contrebasse\, il joue avec les grands et compose sa musique\, entre tradition et modernité. Accompagné de jeunes talents\, il offre des concerts interactifs et vibrants. Une énergie contagieuse à découvrir ! \nÀ seulement 26 ans\, Tom Guillois s’impose comme l’une des jeunes voix de la scène jazz parisienne. Contrebassiste passionné\, il a déjà partagé la scène avec Alain-Jean Marie\, David Sauzay\, Hugo Lippi\, Yannick Benoit\, Thomas Gomez\, Noé Codjia\, Clément Trimouille\, Neil Saïdi\, Bastien Brison\, Pablo Campos et bien d’autres.\nInspiré par les grands maîtres de la contrebasse tels que Paul Chambers ou Oscar Pettiford\, il développe un jeu à la fois ancré dans la tradition et ouvert sur la modernité\, porté par ses propres compositions. Entouré de trois musiciens talentueux de sa génération\, il propose une musique vivante\, fondée sur l’interaction\, l’énergie et le partage\, offrant à chaque concert une expérience généreuse et vibrante. \nTom Guillois : contrebasse\nDavid Paycha : batterie\nNoé Huchard : piano\nAlessandro Torsiello : sax
URL:https://lemelville.fr/accueil/evenements/tom-guillois-4tet/
LOCATION:Le Melville\, 28 Rue Jean Mermoz\, Paris\, 75008\, France
CATEGORIES:Jazz Standard
ATTACH;FMTTYPE=image/png:https://lemelville.fr/wp-content/uploads/2026/03/Tom-Guillois-4tet-Affiche-NF.png
END:VEVENT
END:VCALENDAR