BEGIN:VCALENDAR
VERSION:2.0
PRODID:-//Le Melville - ECPv6.15.17//NONSGML v1.0//EN
CALSCALE:GREGORIAN
METHOD:PUBLISH
X-ORIGINAL-URL:https://lemelville.fr/accueil
X-WR-CALDESC:Évènements pour Le Melville
REFRESH-INTERVAL;VALUE=DURATION:PT1H
X-Robots-Tag:noindex
X-PUBLISHED-TTL:PT1H
BEGIN:VTIMEZONE
TZID:Europe/Paris
BEGIN:DAYLIGHT
TZOFFSETFROM:+0100
TZOFFSETTO:+0200
TZNAME:CEST
DTSTART:20230326T010000
END:DAYLIGHT
BEGIN:STANDARD
TZOFFSETFROM:+0200
TZOFFSETTO:+0100
TZNAME:CET
DTSTART:20231029T010000
END:STANDARD
BEGIN:DAYLIGHT
TZOFFSETFROM:+0100
TZOFFSETTO:+0200
TZNAME:CEST
DTSTART:20240331T010000
END:DAYLIGHT
BEGIN:STANDARD
TZOFFSETFROM:+0200
TZOFFSETTO:+0100
TZNAME:CET
DTSTART:20241027T010000
END:STANDARD
BEGIN:DAYLIGHT
TZOFFSETFROM:+0100
TZOFFSETTO:+0200
TZNAME:CEST
DTSTART:20250330T010000
END:DAYLIGHT
BEGIN:STANDARD
TZOFFSETFROM:+0200
TZOFFSETTO:+0100
TZNAME:CET
DTSTART:20251026T010000
END:STANDARD
BEGIN:DAYLIGHT
TZOFFSETFROM:+0100
TZOFFSETTO:+0200
TZNAME:CEST
DTSTART:20260329T010000
END:DAYLIGHT
BEGIN:STANDARD
TZOFFSETFROM:+0200
TZOFFSETTO:+0100
TZNAME:CET
DTSTART:20261025T010000
END:STANDARD
END:VTIMEZONE
BEGIN:VEVENT
DTSTART;TZID=Europe/Paris:20250313T210000
DTEND;TZID=Europe/Paris:20250313T230000
DTSTAMP:20260421T183148
CREATED:20250118T151020Z
LAST-MODIFIED:20250118T151020Z
UID:10000735-1741899600-1741906800@lemelville.fr
SUMMARY:Lazhar Zenou
DESCRIPTION:Dans un quatuor envoûtant\, Lazhar Zennou chante et joue de la guitare aux côtés de Rachid Belharbi au piano\, Khaled Sifi au cajun\, et Zakaria Bendaoud à la basse. Ce mélange de talents crée des mélodies arabo-andalouses à couper le souffle ! \nLazhar Zennou à la guitare\, chante ses déchirantes mélodies arabo-andalouse\, accompagné de Rachid Belharbi au piano\, Khaled Sifi au cajun\, et Zakaria Bendaoud à la basse. Le premier\, autodidacte de génie et le second\, de formation pianistique classique forment avec Khaled et Zak un quatuor bouleversant. \nLazhar Zennou : Chant\, Guitare\nRachid Belharbi : Piano\nKhaled Sifi : Cajun\nZakaria Bendaoud : Basse
URL:https://lemelville.fr/accueil/evenements/lazhar-zenou/
LOCATION:Le Melville\, 28 Rue Jean Mermoz\, Paris\, 75008\, France
CATEGORIES:Arabo-andalou
ATTACH;FMTTYPE=image/png:https://lemelville.fr/wp-content/uploads/2025/01/Lazhar-Zennou-Affiche-NF-1.png
END:VEVENT
BEGIN:VEVENT
DTSTART;TZID=Europe/Paris:20241128T203000
DTEND;TZID=Europe/Paris:20241128T233000
DTSTAMP:20260421T183148
CREATED:20241020T040741Z
LAST-MODIFIED:20241021T070953Z
UID:10000656-1732825800-1732836600@lemelville.fr
SUMMARY:Lazhar ZENNOU
DESCRIPTION:Lazhar ZENNOU à la guitare chante ses déchirantes mélodies arabo-andalouses\, accompagné de Rachid Belharbi au piano\, Khaled Sifi au Cajun\, et Zakaria Bendaoud à la basse. Le premier autodidacte de génie et le second de formation pianistique classique forment avec Khaled et Zak un quatuor bouleversant.  \n  \nLazhar Zennou : chant \nZakaria Bendaoud : basse \nRachid Belharbi : piano \nKhaled Sifi : Cajun
URL:https://lemelville.fr/accueil/evenements/lazhar-zennou-5/
LOCATION:Le Melville\, 28 Rue Jean Mermoz\, Paris\, 75008\, France
CATEGORIES:Arabo-andalou,World
ATTACH;FMTTYPE=image/png:https://lemelville.fr/wp-content/uploads/2023/09/Lazhar-Zennou.png
END:VEVENT
END:VCALENDAR