BEGIN:VCALENDAR
VERSION:2.0
PRODID:-//Le Melville - ECPv6.15.17//NONSGML v1.0//EN
CALSCALE:GREGORIAN
METHOD:PUBLISH
X-WR-CALNAME:Le Melville
X-ORIGINAL-URL:https://lemelville.fr/accueil
X-WR-CALDESC:Évènements pour Le Melville
REFRESH-INTERVAL;VALUE=DURATION:PT1H
X-Robots-Tag:noindex
X-PUBLISHED-TTL:PT1H
BEGIN:VTIMEZONE
TZID:Europe/Paris
BEGIN:DAYLIGHT
TZOFFSETFROM:+0100
TZOFFSETTO:+0200
TZNAME:CEST
DTSTART:20230326T010000
END:DAYLIGHT
BEGIN:STANDARD
TZOFFSETFROM:+0200
TZOFFSETTO:+0100
TZNAME:CET
DTSTART:20231029T010000
END:STANDARD
BEGIN:DAYLIGHT
TZOFFSETFROM:+0100
TZOFFSETTO:+0200
TZNAME:CEST
DTSTART:20240331T010000
END:DAYLIGHT
BEGIN:STANDARD
TZOFFSETFROM:+0200
TZOFFSETTO:+0100
TZNAME:CET
DTSTART:20241027T010000
END:STANDARD
BEGIN:DAYLIGHT
TZOFFSETFROM:+0100
TZOFFSETTO:+0200
TZNAME:CEST
DTSTART:20250330T010000
END:DAYLIGHT
BEGIN:STANDARD
TZOFFSETFROM:+0200
TZOFFSETTO:+0100
TZNAME:CET
DTSTART:20251026T010000
END:STANDARD
BEGIN:DAYLIGHT
TZOFFSETFROM:+0100
TZOFFSETTO:+0200
TZNAME:CEST
DTSTART:20260329T010000
END:DAYLIGHT
BEGIN:STANDARD
TZOFFSETFROM:+0200
TZOFFSETTO:+0100
TZNAME:CET
DTSTART:20261025T010000
END:STANDARD
BEGIN:DAYLIGHT
TZOFFSETFROM:+0100
TZOFFSETTO:+0200
TZNAME:CEST
DTSTART:20270328T010000
END:DAYLIGHT
BEGIN:STANDARD
TZOFFSETFROM:+0200
TZOFFSETTO:+0100
TZNAME:CET
DTSTART:20271031T010000
END:STANDARD
END:VTIMEZONE
BEGIN:VEVENT
DTSTART;TZID=Europe/Paris:20260415T203000
DTEND;TZID=Europe/Paris:20260415T230000
DTSTAMP:20260421T181641
CREATED:20260406T200601Z
LAST-MODIFIED:20260406T200601Z
UID:10001185-1776285000-1776294000@lemelville.fr
SUMMARY:Philippe Lejeune Trio
DESCRIPTION:Plonge dans l’univers envoûtant du pianiste Philippe LeJeune: une fusion parfaite entre swing et musicalité\, une complicité magique avec le public. De classiques du piano blues à des standards de jazz revisités\, embarque pour un voyage captivant au cœur de l’histoire du jazz ! 🎹✨ \nSwing et musicalité\, osmose entre les musiciens\, complicité avec le public\, tels sont les ingrédients propres au style pianistique du pianiste Philippe LeJeune. Un répertoire varié mais bien ancré dans les fondamentaux du jazz qu’il a développés au cours de ses nombreuses tournées en Europe et aux États-Unis.\nDes classiques du piano blues (un CD en duo de piano avec Memphis Slim) au jazz mainstream des grands standards revisités – c’est un voyage pianistique émaillé de multiples anecdotes historiques commenté et partagé avec son public. \nPhilip Lejeune : piano\nAmaury  Chaumond  : guitare\nLaurent Bataille : batterie
URL:https://lemelville.fr/accueil/evenements/philippe-lejeune-trio/
LOCATION:Le Melville\, 28 Rue Jean Mermoz\, Paris\, 75008\, France
CATEGORIES:Blues,Boogie
ATTACH;FMTTYPE=image/png:https://lemelville.fr/wp-content/uploads/2026/04/Philippe-Lejeune-Trio-Affiche-NF.png
END:VEVENT
BEGIN:VEVENT
DTSTART;TZID=Europe/Paris:20251204T203000
DTEND;TZID=Europe/Paris:20251204T230000
DTSTAMP:20260421T181641
CREATED:20251116T124014Z
LAST-MODIFIED:20251116T124014Z
UID:10001042-1764880200-1764889200@lemelville.fr
SUMMARY:Katerina Pipili 4tet
DESCRIPTION:Katerina\, passionnée de musique classique et de jazz\, crée un projet musical unique mêlant compositions originales et reprises. Son univers jazz teinté de créativité et d’interaction séduit par son mariage audacieux du classique et du moderne. 🎶 \nSon amour immense pour la musique\, combiné à sa formation en musique classique et jazz ainsi qu’à son expérience dans les concerts et performances\, donne naissance à un projet musical unique.\nKaterina propose des compositions originales et des reprises\, fortement influencées par l’univers du jazz.\nElle combine harmonieusement le "vieux" et le "nouveau"\, en mettant l’accent sur la créativité et l’interaction dans et avec la musique. \nKaterina Pipili : chant\nTommy Scott : piano\nGabriel Pierre : contrebasse\nGarcia Etoa Ottou : batterie
URL:https://lemelville.fr/accueil/evenements/katerina-pipili-4tet/
LOCATION:Le Melville\, 28 Rue Jean Mermoz\, Paris\, 75008\, France
CATEGORIES:Blues,Soul
ATTACH;FMTTYPE=image/png:https://lemelville.fr/wp-content/uploads/2025/11/Katerina-Pipili-4tet-Affiche-NF-1.png
END:VEVENT
BEGIN:VEVENT
DTSTART;TZID=Europe/Paris:20251024T210000
DTEND;TZID=Europe/Paris:20251024T233000
DTSTAMP:20260421T181641
CREATED:20250630T130025Z
LAST-MODIFIED:20250904T104357Z
UID:10000925-1761339600-1761348600@lemelville.fr
SUMMARY:Tiffany Muzellec 4tet - Jazz sur Seine 2025
DESCRIPTION:Tiffany\, fascinée par les comédies musicales et les grandes voix\, s’entoure de talentueux musiciens pour revisiter des standards émouvants. Sa voix chaleureuse\, alliée à la contrebasse\, la batterie et la guitare\, nous transporte du blues à la mélodie en un clin d’œil. \nPendant son enfance\, Tiffany est profondément marquée par la magie des grandes comédies musicales d’autrefois\, notamment par la musique de Singin’ In The Rain. En grandissant\, elle apprend à chanter en prenant pour modèles ses idoles telles que Doris Day\, Billie Holiday\, Nancy Wilson\, et plus tard\, des artistes plus contemporaines comme Samara Joy ou Laufey. En sillonnant les jams sessions marseillaises\, elle rencontre Simone Pace\, Nghia Duong et Léo Achard avec qui elle décide de lancer ce projet pour rendre hommage aux chansons qui l’ont toujours émue. La contrebasse uthentique de Nghia\, la batterie poétique de Léo et le jeu virtuose de Simone accompagnent sa voix sincère et chaleureuse\, nous transportant sans effort du blues le plus brut aux ballades les plus mélodieuses. \nTiffany Muzellec : chant\nSimone Pace : guitare\nNghia Duong : contrebasse\nLéo Achard : batterie
URL:https://lemelville.fr/accueil/evenements/tiffany-muzellec-4tet/
LOCATION:Le Melville\, 28 Rue Jean Mermoz\, Paris\, 75008\, France
CATEGORIES:Blues,Jazz
ATTACH;FMTTYPE=image/png:https://lemelville.fr/wp-content/uploads/2025/06/Tiffany-Muzellec-4tet-Affiche.png
END:VEVENT
BEGIN:VEVENT
DTSTART;TZID=Europe/Paris:20251015T203000
DTEND;TZID=Europe/Paris:20251015T230000
DTSTAMP:20260421T181641
CREATED:20250701T154203Z
LAST-MODIFIED:20250904T104649Z
UID:10000942-1760560200-1760569200@lemelville.fr
SUMMARY:Billy Collins' SwingInParis - Jazz sur Seine 2025
DESCRIPTION:Plonge dans l’univers endiablé de “Bad Boy” Billy Collins\, leader de SwinginParis. Ce New-Yorkais du Bronx excelle à chanter\, scater et jouer Dobro et banjo. Accompagné de son quartet\, il fait revivre les standards de jazz\, swing et blues\, pour une expérience musicale hors du temps. \nLeader de SwinginParis\, le guitariste “Bad Boy” Billy Collins est né à New York\, dans le Bronx. Il chante\, scat et joue guitare Dobro et banjo. Avec son quartet de Swinginparis\, il nous fera voyager au sons d’une autre époque. \nLeur répertoire qui évolue en permanence est constitué des plus grands standards de jazz\, swing\, blues\, gospel et jazz de la Nouvelle-Orléans mais aussi de véritables petits bijoux moins connus. \nLeurs influences vont de Benny Goodman à Muddy Waters\, de Louis Armstrong à Elvis Presley\, et de Fred Astaire à Bob Wills…… \nWilliam Collins : chant\, guitare\nGeorge Sebastiaan Wolfaardt : contrebasse\nHippolyte Fevre : trompette\nThéodore Kuzma : piano
URL:https://lemelville.fr/accueil/evenements/billy-collins-swinginparis-2/
LOCATION:Le Melville\, 28 Rue Jean Mermoz\, Paris\, 75008\, France
CATEGORIES:Blues,Jazz Standard
ATTACH;FMTTYPE=image/png:https://lemelville.fr/wp-content/uploads/2025/07/Billy-Collins-Affiche-Nf.png
END:VEVENT
BEGIN:VEVENT
DTSTART;TZID=Europe/Paris:20250703T203000
DTEND;TZID=Europe/Paris:20250703T230000
DTSTAMP:20260421T181641
CREATED:20250424T070406Z
LAST-MODIFIED:20250424T070406Z
UID:10000872-1751574600-1751583600@lemelville.fr
SUMMARY:Vik Sings The Blues
DESCRIPTION:Viktorija Gečytė\, finaliste du Concours International Sarah Vaughan\, et son quartet international vous embarquent dans un voyage blues inoubliable ! De Billie Holiday à Sting\, laissez-vous émouvoir par des interprétations captivantes qui font vibrer l’âme.🎶 \nViktorija Gečytė\, finaliste du prestigieux Concours International Sarah Vaughan aux côtés de Samara Joy\, De la joie débridée à la mélancolie\, aucune autre forme de musique ne communique plus d’émotion authentique que le blues !  C’est cette émotion et que Viktorija Gečytė et son quartet international se proposent de partager avec vous au gré de leurs interprétations blues de Billie Holiday\, Nina Simone\, Thelonious Monk\, Sting\, Tom Waits\, James Taylor et d’autres.  \nViktorija Gecyte : chant\nYoan Fernandez : guitare\nDaryl Hall : contrebasse\nMourad Benhammou : batterie
URL:https://lemelville.fr/accueil/evenements/vik-sings-the-blues-2/
LOCATION:Le Melville\, 28 Rue Jean Mermoz\, Paris\, 75008\, France
CATEGORIES:Blues
ATTACH;FMTTYPE=image/png:https://lemelville.fr/wp-content/uploads/2025/04/Vik-sings-the-blues-V2-Affiche-NF.png
END:VEVENT
BEGIN:VEVENT
DTSTART;TZID=Europe/Paris:20250628T210000
DTEND;TZID=Europe/Paris:20250628T233000
DTSTAMP:20260421T181641
CREATED:20250418T083002Z
LAST-MODIFIED:20250418T083336Z
UID:10000864-1751144400-1751153400@lemelville.fr
SUMMARY:Billy Collins' SwingInParis
DESCRIPTION:Découvrez “Bad Boy” Billy Collins\, leader de SwinginParis ! Originaire du Bronx\, ce guitariste multifacette chante\, scat et joue Dobro et banjo. Avec son quartet\, partez en voyage musical à travers les classiques du jazz\, swing\, blues et gospel. Des pépites méconnues aux standards incontournables\, un beau moment ! \nLeader de SwinginParis\, le guitariste “Bad Boy” Billy Collins est né à New York\, dans le Bronx. Il chante\, scat et joue guitare Dobro et banjo. Avec son quartet de Swinginparis\, il nous fera voyager au sons d’une autre époque. \nLeur répertoire qui évolue en permanence est constitué des plus grands standards de jazz\, swing\, blues\, gospel et jazz de la Nouvelle-Orléans mais aussi de véritables petits bijoux moins connus. \nLeurs influences vont de Benny Goodman à Muddy Waters\, de Louis Armstrong à Elvis Presley\, et de Fred Astaire à Bob Willson. \nWilliam Collins : chant\, guitare\nGeorge Sebastiaan Wolfaardt : contrebasse\nHippolyte Fèvre : chant\, trompette\nLopez Pablo : piano
URL:https://lemelville.fr/accueil/evenements/billy-collins-swinginparis/
LOCATION:Le Melville\, 28 Rue Jean Mermoz\, Paris\, 75008\, France
CATEGORIES:Blues,Swing
ATTACH;FMTTYPE=image/png:https://lemelville.fr/wp-content/uploads/2025/04/Billy-Collins-Affiche-Nf.png
END:VEVENT
BEGIN:VEVENT
DTSTART;TZID=Europe/Paris:20250529T203000
DTEND;TZID=Europe/Paris:20250529T230000
DTSTAMP:20260421T181641
CREATED:20250508T105712Z
LAST-MODIFIED:20250508T105712Z
UID:10000883-1748550600-1748559600@lemelville.fr
SUMMARY:Olinka Mitroshina Trio / Vocal Blues & compositions
DESCRIPTION:Originaire de Russie et ayant grandi en Lettonie pendant la période soviétique\, Olinka Mitroshina étudie le piano classique avant de s’installer à Paris en 1999. Après avoir obtenu une reconnaissance officielle dans la musique\, elle se passionne pour le Blues\, qu’elle interprète avec passion et intensité. \nD’origine russe\, dont elle a gardé la langue maternelle\, Olinka Mitroshina est née en Lettonie\, pays dans lequel elle a vécu la période Soviétique (URSS)\, ainsi que son historique changement politique en 1989. Elle y étudie le piano classique\, avant de venir s’installer en France en 1999 (depuis 2012 à Paris). Suite à cette longue période d’apprentissage\, qui lui a apporté une reconnaissance officielle diplômante\, elle « vend » son âme au Blues\, qu’elle incarne de manière vibrante aujourd’hui. \nOlinka Mitroshina : chant\, piano\nManu Codjia : guitare\nWilbur Thomson : contrebasse
URL:https://lemelville.fr/accueil/evenements/olinka-mitroshina-trio-vocal-blues-compositions/
LOCATION:Le Melville\, 28 Rue Jean Mermoz\, Paris\, 75008\, France
CATEGORIES:Blues,Jazz Standard
ATTACH;FMTTYPE=image/png:https://lemelville.fr/wp-content/uploads/2025/05/Olinka-Mitroshina-Wilbur-Affiche-Nf-1.png
END:VEVENT
BEGIN:VEVENT
DTSTART;TZID=Europe/Paris:20250528T203000
DTEND;TZID=Europe/Paris:20250528T230000
DTSTAMP:20260421T181641
CREATED:20250401T044544Z
LAST-MODIFIED:20250416T155244Z
UID:10000853-1748464200-1748473200@lemelville.fr
SUMMARY:Victor Demange
DESCRIPTION:Le pianiste Victor Demange\, entouré de musiciens talentueux\, délivre un swing enivrant mêlant boogie et blues à la saveur du vieux jazz de la Nouvelle Orléans. De Chuck Berry à des réarrangements classiques\, ce virtuose françias ensorcelle avec son style unique ! 🎹 \nVictor Demange est un pianiste virtuose au style original qui a su se faire une place sur la scène française. Régulièrement invité dans les festivals\, il compte plusieurs collaborations prestigieuses comme notamment Bob Baldori\, le pianiste qui a accompagné Chuck Berry pendant plus de 40 ans ou encore Fabrice Eulry\, pianiste français spécialiste du piano stride.\nAccompagné de ses deux musiciens de marque\, Mat Le Rouge au saxophone et Erik Maunoury à la batterie\, il propose un style swing\, boogie\, blues inspiré du vieux jazz de la Nouvelle Orléans. Il vous étonnera avec un répertoire varié allant de standards à des réarrangements de musique classique toujours dans un style de vieux jazz américain. \nVictor Demange : piano\nMat Le Rouge : sax\nErik Maunoury : batterie
URL:https://lemelville.fr/accueil/evenements/victor-demange-7/
LOCATION:Melville-hors-les-murs Bagatelle\, 42 route de Sèvre à Neully\, Paris\, 75116
CATEGORIES:Blues,Swing
ATTACH;FMTTYPE=image/png:https://lemelville.fr/wp-content/uploads/2025/04/Victor-Demange-Maunoury-Affiche-NF.png
END:VEVENT
BEGIN:VEVENT
DTSTART;TZID=Europe/Paris:20250207T210000
DTEND;TZID=Europe/Paris:20250207T233000
DTSTAMP:20260421T181641
CREATED:20241216T103556Z
LAST-MODIFIED:20241216T103556Z
UID:10000686-1738962000-1738971000@lemelville.fr
SUMMARY:Vik Sings The Blues
DESCRIPTION:De la joie débridée à la mélancolie\, aucune autre forme de musique ne communique plus d’émotion authentique que le blues ! \nC’est cette émotion et que Viktorija Gečytė et son quartet international se proposent de partager avec vous au gré de leurs interprétations blues de Billie Holiday\, Nina Simone\, Thelonious Monk\, Sting\, Tom Waits\, James Taylor et d’autres. \nViktorija “Vik” Gečytė : chant\nYoan Fernandez : guitare\nPeter Giron : contrebasse\nMourad Benhammou : batterie
URL:https://lemelville.fr/accueil/evenements/vik-sings-the-blues/
LOCATION:Le Melville\, 28 Rue Jean Mermoz\, Paris\, 75008\, France
CATEGORIES:Blues,Vocal Standard Jazz
ATTACH;FMTTYPE=image/png:https://lemelville.fr/wp-content/uploads/2024/12/Vik-sings-the-blues-Affiche-NF-1.png
END:VEVENT
BEGIN:VEVENT
DTSTART;TZID=Europe/Paris:20241023T203000
DTEND;TZID=Europe/Paris:20241023T233000
DTSTAMP:20260421T181641
CREATED:20240724T090456Z
LAST-MODIFIED:20240724T090456Z
UID:10000607-1729715400-1729726200@lemelville.fr
SUMMARY:Dry Bayou Rag Band
DESCRIPTION:La tradition et la joie de la Nouvelle Orléans.  \nDry Bayou vous amènera dans les rues de la Nouvelle Orléans où la joie et la fête font la tradition\, ces 4 musiciens doués et passionnés donneront à votre événement une ambiance unique et festive à la façon des orchestres de la Nouvelle Orléans et Chicago des années 1920.  \nDry Bayou Rag Band joue la musique de la Nouvelle Orléans et du sud du Mississippi du début des années 1900\, rags \, struts \, stomps\, blues et hot jazz. Morceaux de Clarence Williams \, Lil Hardin \, Louis Armstrong \, Kid Ory \, Paul Barbarin \, King Oliver \, W.C.Handy \, Jelly Roll Morton \, Jaboo Smith\, Jimmy Noone \,etc \, idéal pour l’écoute ou la danse.  \nMichel Bonnet : Trompette  \nDavid Lesprit : Clarinette  \nRomain Ponard : Tuba  \nWili Noya : Banjo  \n  \n 
URL:https://lemelville.fr/accueil/evenements/dry-bayou-rag-band/
LOCATION:Le Melville\, 28 Rue Jean Mermoz\, Paris\, 75008\, France
CATEGORIES:Blues,New Orleans,Swing
ATTACH;FMTTYPE=image/png:https://lemelville.fr/wp-content/uploads/2024/07/Dry-Bayou-Rag-Band-Affiche-NF.png
END:VEVENT
END:VCALENDAR