BEGIN:VCALENDAR
VERSION:2.0
PRODID:-//Le Melville - ECPv6.15.17//NONSGML v1.0//EN
CALSCALE:GREGORIAN
METHOD:PUBLISH
X-ORIGINAL-URL:https://lemelville.fr/accueil
X-WR-CALDESC:Évènements pour Le Melville
REFRESH-INTERVAL;VALUE=DURATION:PT1H
X-Robots-Tag:noindex
X-PUBLISHED-TTL:PT1H
BEGIN:VTIMEZONE
TZID:Europe/Paris
BEGIN:DAYLIGHT
TZOFFSETFROM:+0100
TZOFFSETTO:+0200
TZNAME:CEST
DTSTART:20240331T010000
END:DAYLIGHT
BEGIN:STANDARD
TZOFFSETFROM:+0200
TZOFFSETTO:+0100
TZNAME:CET
DTSTART:20241027T010000
END:STANDARD
BEGIN:DAYLIGHT
TZOFFSETFROM:+0100
TZOFFSETTO:+0200
TZNAME:CEST
DTSTART:20250330T010000
END:DAYLIGHT
BEGIN:STANDARD
TZOFFSETFROM:+0200
TZOFFSETTO:+0100
TZNAME:CET
DTSTART:20251026T010000
END:STANDARD
BEGIN:DAYLIGHT
TZOFFSETFROM:+0100
TZOFFSETTO:+0200
TZNAME:CEST
DTSTART:20260329T010000
END:DAYLIGHT
BEGIN:STANDARD
TZOFFSETFROM:+0200
TZOFFSETTO:+0100
TZNAME:CET
DTSTART:20261025T010000
END:STANDARD
END:VTIMEZONE
BEGIN:VEVENT
DTSTART;TZID=Europe/Paris:20250912T210000
DTEND;TZID=Europe/Paris:20250912T233000
DTSTAMP:20260422T030626
CREATED:20250701T102937Z
LAST-MODIFIED:20250701T102937Z
UID:10000938-1757710800-1757719800@lemelville.fr
SUMMARY:Victor Demange
DESCRIPTION:Le pianiste Victor Demange\, accompagné de ses talentueux compères\, offre un cocktail musical pétillant mêlant swing\, boogie et blues. De la Nouvelle Orléans à Chuck Berry\, il revisite avec brio standards et classiques dans un pur style jazz américain. Une expérience envoûtante à ne pas manquer ! \nVictor Demange est un pianiste virtuose au style original qui a su se faire une place sur la scène française. Régulièrement invité dans les festivals\, il compte plusieurs collaborations prestigieuses comme notamment Bob Baldori\, le pianiste qui a accompagné Chuck Berry pendant plus de 40 ans ou encore Fabrice Eulry\, pianiste français spécialiste du piano stride.\nAccompagné de ses deux musiciens de marque\, Mat Le Rouge au saxophone et Erik Maunoury à la batterie\, il propose un style swing\, boogie\, blues inspiré du vieux jazz de la Nouvelle Orléans. Il vous étonnera avec un répertoire varié allant de standards à des réarrangements de musique classique toujours dans un style de vieux jazz américain.  \nVictor Demange : piano\nMathias  Luszpinski (Le Rouge) : sax\nErik Maunoury : batterie
URL:https://lemelville.fr/accueil/evenements/victor-demange-9/
LOCATION:Le Melville\, 28 Rue Jean Mermoz\, Paris\, 75008\, France
CATEGORIES:Boogie,Jazz Standard
ATTACH;FMTTYPE=image/png:https://lemelville.fr/wp-content/uploads/2025/07/Victor-Demange-Maunoury-Affiche-NF.png
END:VEVENT
END:VCALENDAR