BEGIN:VCALENDAR
VERSION:2.0
PRODID:-//Le Melville - ECPv6.15.17//NONSGML v1.0//EN
CALSCALE:GREGORIAN
METHOD:PUBLISH
X-ORIGINAL-URL:https://lemelville.fr/accueil
X-WR-CALDESC:Évènements pour Le Melville
REFRESH-INTERVAL;VALUE=DURATION:PT1H
X-Robots-Tag:noindex
X-PUBLISHED-TTL:PT1H
BEGIN:VTIMEZONE
TZID:Europe/Paris
BEGIN:DAYLIGHT
TZOFFSETFROM:+0100
TZOFFSETTO:+0200
TZNAME:CEST
DTSTART:20240331T010000
END:DAYLIGHT
BEGIN:STANDARD
TZOFFSETFROM:+0200
TZOFFSETTO:+0100
TZNAME:CET
DTSTART:20241027T010000
END:STANDARD
BEGIN:DAYLIGHT
TZOFFSETFROM:+0100
TZOFFSETTO:+0200
TZNAME:CEST
DTSTART:20250330T010000
END:DAYLIGHT
BEGIN:STANDARD
TZOFFSETFROM:+0200
TZOFFSETTO:+0100
TZNAME:CET
DTSTART:20251026T010000
END:STANDARD
BEGIN:DAYLIGHT
TZOFFSETFROM:+0100
TZOFFSETTO:+0200
TZNAME:CEST
DTSTART:20260329T010000
END:DAYLIGHT
BEGIN:STANDARD
TZOFFSETFROM:+0200
TZOFFSETTO:+0100
TZNAME:CET
DTSTART:20261025T010000
END:STANDARD
END:VTIMEZONE
BEGIN:VEVENT
DTSTART;TZID=Europe/Paris:20250919T210000
DTEND;TZID=Europe/Paris:20250919T233000
DTSTAMP:20260422T085207
CREATED:20250714T115619Z
LAST-MODIFIED:20250714T115619Z
UID:10000949-1758315600-1758324600@lemelville.fr
SUMMARY:Nicola Sòn\, French Bossanoveur
DESCRIPTION:Les chansons brésiliennes en français depuis les années 1960… \nPlongez dans l’univers unique de Nicola Són\, surnommé par la presse brésilienne il y a quelques années « le plus brésilien des chanteurs français ». À travers ce projet live\, les grands classiques de la musique brésilienne\, et notamment la bossa nova\, sont réinterprétés en français avec élégance et sensibilité. Des années 60 à aujourd’hui\, ce voyage musical célèbre la rencontre des cultures\, mêlant poésie française et rythmes solaires brésiliens\, pour une expérience à la fois intime et envoûtante. \nMiguel Brigido Brandao Couto : batterie\nDaniel Gassin : piano\nDouglas Marcolino : accordéon\nNicola Son : chant\, guitare
URL:https://lemelville.fr/accueil/evenements/nicola-son-french-bossanoveur/
LOCATION:Le Melville\, 28 Rue Jean Mermoz\, Paris\, 75008\, France
CATEGORIES:Latin Bossa Nova,Latin Jazz
ATTACH;FMTTYPE=image/png:https://lemelville.fr/wp-content/uploads/2025/07/Nicola-Son-Affiche-NF.png
END:VEVENT
BEGIN:VEVENT
DTSTART;TZID=Europe/Paris:20250920T210000
DTEND;TZID=Europe/Paris:20250920T233000
DTSTAMP:20260422T085207
CREATED:20250919T162021Z
LAST-MODIFIED:20250919T162021Z
UID:10000978-1758402000-1758411000@lemelville.fr
SUMMARY:El Quinteto de Eli
DESCRIPTION:Elisa\, chanteuse latino\, et Laurent\, compositeur vénézuélien\, fusionnent talents et influences caribéennes pour créer un univers musical unique\, vibrant entre danse et contemplation. Ce soir\, accompagnés de leurs experts rythmiques\, ils emmènent le public dans un voyage envoûtant\, ponctué par la tromp \nElisa Lecuyer\, merveilleuse chanteuse latino américaine et  Laurent Lécuyer\, compositeur pianiste ayant exercé la majeure partie de sa carrière au Venezuela\, accompagné d’une rythmique de référence (Thérèse Henry et Guillermo Rojas) spécialiste des musiques caribéennes et brésiliennes\, développe de nouvelles compositions et arrangements formant un univers singulier empreint de mondes divers\, pont atlantique\, mêlant la danse à une discours musical plein de rebondissements\, dramatique et contemplatif. Miguel Munar les accompagnera ce soir à la trompette \nLaurent Lecuyer : piano\nGuillermo  Rojas : batterie\nMiguel Munar : trompette\nThérèse  Henry : basse\nElisa Lecuyer : chant
URL:https://lemelville.fr/accueil/evenements/el-quinteto-de-eli/
LOCATION:Le Melville\, 28 Rue Jean Mermoz\, Paris\, 75008\, France
CATEGORIES:Latin Bossa Nova,Latin Jazz
END:VEVENT
END:VCALENDAR