BEGIN:VCALENDAR
VERSION:2.0
PRODID:-//Le Melville - ECPv6.15.17//NONSGML v1.0//EN
CALSCALE:GREGORIAN
METHOD:PUBLISH
X-ORIGINAL-URL:https://lemelville.fr/accueil
X-WR-CALDESC:Évènements pour Le Melville
REFRESH-INTERVAL;VALUE=DURATION:PT1H
X-Robots-Tag:noindex
X-PUBLISHED-TTL:PT1H
BEGIN:VTIMEZONE
TZID:Europe/Paris
BEGIN:DAYLIGHT
TZOFFSETFROM:+0100
TZOFFSETTO:+0200
TZNAME:CEST
DTSTART:20250330T010000
END:DAYLIGHT
BEGIN:STANDARD
TZOFFSETFROM:+0200
TZOFFSETTO:+0100
TZNAME:CET
DTSTART:20251026T010000
END:STANDARD
BEGIN:DAYLIGHT
TZOFFSETFROM:+0100
TZOFFSETTO:+0200
TZNAME:CEST
DTSTART:20260329T010000
END:DAYLIGHT
BEGIN:STANDARD
TZOFFSETFROM:+0200
TZOFFSETTO:+0100
TZNAME:CET
DTSTART:20261025T010000
END:STANDARD
BEGIN:DAYLIGHT
TZOFFSETFROM:+0100
TZOFFSETTO:+0200
TZNAME:CEST
DTSTART:20270328T010000
END:DAYLIGHT
BEGIN:STANDARD
TZOFFSETFROM:+0200
TZOFFSETTO:+0100
TZNAME:CET
DTSTART:20271031T010000
END:STANDARD
END:VTIMEZONE
BEGIN:VEVENT
DTSTART;TZID=Europe/Paris:20260107T203000
DTEND;TZID=Europe/Paris:20260107T230000
DTSTAMP:20260422T030746
CREATED:20251129T113657Z
LAST-MODIFIED:20251129T113657Z
UID:10001062-1767817800-1767826800@lemelville.fr
SUMMARY:Manu Le Prince
DESCRIPTION:Manu Le Prince\, Alain Jean-Marie et Gilles Naturel s’unissent pour une fusion envoûtante de jazz classique et latin. Un trio de légendes qui fait vibrer l’auditoire dans une harmonie exceptionnelle. Un spectacle unique à ne pas manquer !  \nManu Le Prince\, Alain Jean-Marie et Gilles Naturel\, trois immenses musiciens se réunissent pour une promenade entre jazz standard et latin jazz. Une rare occasion de voir ces trois figures du Jazz réunis pour une l’immense plaisir de l’auditoire. \nManu Le Prince : chant\nGilles  Naturel : contrebasse\nAlain Jean-Marie : piano
URL:https://lemelville.fr/accueil/evenements/manu-le-prince-2/
LOCATION:Le Melville\, 28 Rue Jean Mermoz\, Paris\, 75008\, France
CATEGORIES:Latin Bossa Nova,Latin Jazz
ATTACH;FMTTYPE=image/png:https://lemelville.fr/wp-content/uploads/2025/11/Le-Prince-Naturel-Jean-Marie-Affiche-Nf.png
END:VEVENT
END:VCALENDAR