BEGIN:VCALENDAR
VERSION:2.0
PRODID:-//Le Melville - ECPv6.15.17//NONSGML v1.0//EN
CALSCALE:GREGORIAN
METHOD:PUBLISH
X-ORIGINAL-URL:https://lemelville.fr/accueil
X-WR-CALDESC:Évènements pour Le Melville
REFRESH-INTERVAL;VALUE=DURATION:PT1H
X-Robots-Tag:noindex
X-PUBLISHED-TTL:PT1H
BEGIN:VTIMEZONE
TZID:Europe/Paris
BEGIN:DAYLIGHT
TZOFFSETFROM:+0100
TZOFFSETTO:+0200
TZNAME:CEST
DTSTART:20250330T010000
END:DAYLIGHT
BEGIN:STANDARD
TZOFFSETFROM:+0200
TZOFFSETTO:+0100
TZNAME:CET
DTSTART:20251026T010000
END:STANDARD
BEGIN:DAYLIGHT
TZOFFSETFROM:+0100
TZOFFSETTO:+0200
TZNAME:CEST
DTSTART:20260329T010000
END:DAYLIGHT
BEGIN:STANDARD
TZOFFSETFROM:+0200
TZOFFSETTO:+0100
TZNAME:CET
DTSTART:20261025T010000
END:STANDARD
BEGIN:DAYLIGHT
TZOFFSETFROM:+0100
TZOFFSETTO:+0200
TZNAME:CEST
DTSTART:20270328T010000
END:DAYLIGHT
BEGIN:STANDARD
TZOFFSETFROM:+0200
TZOFFSETTO:+0100
TZNAME:CET
DTSTART:20271031T010000
END:STANDARD
END:VTIMEZONE
BEGIN:VEVENT
DTSTART;TZID=Europe/Paris:20260314T210000
DTEND;TZID=Europe/Paris:20260314T233000
DTSTAMP:20260421T235258
CREATED:20260209T105718Z
LAST-MODIFIED:20260209T105718Z
UID:10001135-1773522000-1773531000@lemelville.fr
SUMMARY:Louison Camio 4tet
DESCRIPTION:Plongez dans l’univers envoûtant de la chanteuse Louison\, entre bossa nova et samba\, où ses origines portugaises et son talent parisien se rencontrent.  \nEntre les harmonies de la bossa nova et l’énergie rythmique de la samba\, la chanteuse Louison nous ouvre les portes d’un univers musical aux couleurs métissées. Portée par ses origines portugaises et son ancrage parisien\, elle tisse un répertoire mêlant compositions originales\, arrangements sur mesure et clins d’œil aux grands noms de la musique brésilienne\, le tout subtilement imprégné de jazz. \nLouison Camio : chant\nLaurent De Oliveira : piano\nHervé Morisot : chant\, guitare\nNatale La Riccia  : basse
URL:https://lemelville.fr/accueil/evenements/louison-camio-4tet/
LOCATION:Le Melville\, 28 Rue Jean Mermoz\, Paris\, 75008\, France
CATEGORIES:Latin Bossa Nova,Latin Jazz
ATTACH;FMTTYPE=image/png:https://lemelville.fr/wp-content/uploads/2026/02/Louison-Camio-4tet-Affiche-NF.png
END:VEVENT
END:VCALENDAR