BEGIN:VCALENDAR
VERSION:2.0
PRODID:-//Le Melville - ECPv6.15.17//NONSGML v1.0//EN
CALSCALE:GREGORIAN
METHOD:PUBLISH
X-WR-CALNAME:Le Melville
X-ORIGINAL-URL:https://lemelville.fr/accueil
X-WR-CALDESC:Évènements pour Le Melville
REFRESH-INTERVAL;VALUE=DURATION:PT1H
X-Robots-Tag:noindex
X-PUBLISHED-TTL:PT1H
BEGIN:VTIMEZONE
TZID:Europe/Paris
BEGIN:DAYLIGHT
TZOFFSETFROM:+0100
TZOFFSETTO:+0200
TZNAME:CEST
DTSTART:20240331T010000
END:DAYLIGHT
BEGIN:STANDARD
TZOFFSETFROM:+0200
TZOFFSETTO:+0100
TZNAME:CET
DTSTART:20241027T010000
END:STANDARD
BEGIN:DAYLIGHT
TZOFFSETFROM:+0100
TZOFFSETTO:+0200
TZNAME:CEST
DTSTART:20250330T010000
END:DAYLIGHT
BEGIN:STANDARD
TZOFFSETFROM:+0200
TZOFFSETTO:+0100
TZNAME:CET
DTSTART:20251026T010000
END:STANDARD
BEGIN:DAYLIGHT
TZOFFSETFROM:+0100
TZOFFSETTO:+0200
TZNAME:CEST
DTSTART:20260329T010000
END:DAYLIGHT
BEGIN:STANDARD
TZOFFSETFROM:+0200
TZOFFSETTO:+0100
TZNAME:CET
DTSTART:20261025T010000
END:STANDARD
END:VTIMEZONE
BEGIN:VEVENT
DTSTART;TZID=Europe/Paris:20250123T203000
DTEND;TZID=Europe/Paris:20250123T233000
DTSTAMP:20260422T152727
CREATED:20241110T165910Z
LAST-MODIFIED:20241110T235554Z
UID:10000660-1737664200-1737675000@lemelville.fr
SUMMARY:Trio Sabor
DESCRIPTION:La Saudade et la Morna capverdiennes s’invitent au Melville ! Le Trio Sabor est formé de Timothée Isnard\, chanteur guitariste franco-capverdien\, Arthur Cayuelas (basse)\, et Nouhem Charliac (baterie). \nTimothée est diplômé du Conservatoire de Paris en guitare jazz et danse.nous emmèneront vers la chaleur du Cap-vert et revisiteront\, entre morna\, coladeira et la saudade\, les mélodies traditionnelles du Cap Vert et les classiques de Ferro Gaita ou Cesaria Evora. \nTimothée Isnard : guitare\,chant  \nArthur Cayuelas : basse \n Nouhem Charliac : batterie 
URL:https://lemelville.fr/accueil/evenements/trio-sabor-3/
LOCATION:Le Melville\, 28 Rue Jean Mermoz\, Paris\, 75008\, France
CATEGORIES:Cap Vert,World
ATTACH;FMTTYPE=image/png:https://lemelville.fr/wp-content/uploads/2024/11/Trio-Sabor-V2-Affiche-NF.png
END:VEVENT
END:VCALENDAR