BEGIN:VCALENDAR
VERSION:2.0
PRODID:-//Le Melville - ECPv6.15.17//NONSGML v1.0//EN
CALSCALE:GREGORIAN
METHOD:PUBLISH
X-WR-CALNAME:Le Melville
X-ORIGINAL-URL:https://lemelville.fr/accueil
X-WR-CALDESC:Évènements pour Le Melville
REFRESH-INTERVAL;VALUE=DURATION:PT1H
X-Robots-Tag:noindex
X-PUBLISHED-TTL:PT1H
BEGIN:VTIMEZONE
TZID:Europe/Paris
BEGIN:DAYLIGHT
TZOFFSETFROM:+0100
TZOFFSETTO:+0200
TZNAME:CEST
DTSTART:20240331T010000
END:DAYLIGHT
BEGIN:STANDARD
TZOFFSETFROM:+0200
TZOFFSETTO:+0100
TZNAME:CET
DTSTART:20241027T010000
END:STANDARD
BEGIN:DAYLIGHT
TZOFFSETFROM:+0100
TZOFFSETTO:+0200
TZNAME:CEST
DTSTART:20250330T010000
END:DAYLIGHT
BEGIN:STANDARD
TZOFFSETFROM:+0200
TZOFFSETTO:+0100
TZNAME:CET
DTSTART:20251026T010000
END:STANDARD
BEGIN:DAYLIGHT
TZOFFSETFROM:+0100
TZOFFSETTO:+0200
TZNAME:CEST
DTSTART:20260329T010000
END:DAYLIGHT
BEGIN:STANDARD
TZOFFSETFROM:+0200
TZOFFSETTO:+0100
TZNAME:CET
DTSTART:20261025T010000
END:STANDARD
END:VTIMEZONE
BEGIN:VEVENT
DTSTART;TZID=Europe/Paris:20250403T203000
DTEND;TZID=Europe/Paris:20250403T230000
DTSTAMP:20260422T110859
CREATED:20250119T091905Z
LAST-MODIFIED:20250119T091905Z
UID:10000754-1743712200-1743721200@lemelville.fr
SUMMARY:Capeba
DESCRIPTION:Plongée cap-verdienne au Melville avec Capeba : Timothée\, Abel et Arthur nous ensorcellent avec leurs mélodies chaleureuses et enivrantes. Laissez-vous transporter par la saudade et la morna\, revisitées avec talent et passion. Embarquement immédiat pour le Cap-Vert !  \nLa Saudade et la Morna capverdiennes s’invitent au Melville ! Le duo Capeba\, formé de Timothée Isnard\, chanteur guitariste franco-capverdien\, et d’Abel Charzat (violon)\, accompagné ce soir d’Arthur Cayuelas (basse). Timothée est diplômé du Conservatoire de Paris en guitare jazz et danse.nous emmèneront vers la chaleur du Cap-vert et revisiteront\, entre morna\, coladeira et la saudade\, les mélodies traditionnelles du Cap Vert et les classiques de Ferro Gaita ou Cesaria Evora. \nTimothee Isnard : guitare\nAbel Charzat : violon\nKeïna Etenor : basse
URL:https://lemelville.fr/accueil/evenements/capeba-4/
LOCATION:Le Melville\, 28 Rue Jean Mermoz\, Paris\, 75008\, France
CATEGORIES:Cap Vert
ATTACH;FMTTYPE=image/png:https://lemelville.fr/wp-content/uploads/2025/01/Capeba-V2-NF.png
END:VEVENT
END:VCALENDAR