BEGIN:VCALENDAR
VERSION:2.0
PRODID:-//Le Melville - ECPv6.15.17//NONSGML v1.0//EN
CALSCALE:GREGORIAN
METHOD:PUBLISH
X-WR-CALNAME:Le Melville
X-ORIGINAL-URL:https://lemelville.fr/accueil
X-WR-CALDESC:Évènements pour Le Melville
REFRESH-INTERVAL;VALUE=DURATION:PT1H
X-Robots-Tag:noindex
X-PUBLISHED-TTL:PT1H
BEGIN:VTIMEZONE
TZID:Europe/Paris
BEGIN:DAYLIGHT
TZOFFSETFROM:+0100
TZOFFSETTO:+0200
TZNAME:CEST
DTSTART:20240331T010000
END:DAYLIGHT
BEGIN:STANDARD
TZOFFSETFROM:+0200
TZOFFSETTO:+0100
TZNAME:CET
DTSTART:20241027T010000
END:STANDARD
BEGIN:DAYLIGHT
TZOFFSETFROM:+0100
TZOFFSETTO:+0200
TZNAME:CEST
DTSTART:20250330T010000
END:DAYLIGHT
BEGIN:STANDARD
TZOFFSETFROM:+0200
TZOFFSETTO:+0100
TZNAME:CET
DTSTART:20251026T010000
END:STANDARD
BEGIN:DAYLIGHT
TZOFFSETFROM:+0100
TZOFFSETTO:+0200
TZNAME:CEST
DTSTART:20260329T010000
END:DAYLIGHT
BEGIN:STANDARD
TZOFFSETFROM:+0200
TZOFFSETTO:+0100
TZNAME:CET
DTSTART:20261025T010000
END:STANDARD
END:VTIMEZONE
BEGIN:VEVENT
DTSTART;TZID=Europe/Paris:20250717T203000
DTEND;TZID=Europe/Paris:20250717T230000
DTSTAMP:20260422T070626
CREATED:20250527T122901Z
LAST-MODIFIED:20250527T122901Z
UID:10000894-1752784200-1752793200@lemelville.fr
SUMMARY:Bèlèverde
DESCRIPTION:”BèlèVerde”\nPhilippe Gouyer-Montout dit Philo\, Timothée Isnard : un duo interculturel intergénérationnel…Deux voix authentiques portées par deux instruments emblématiques que sont le tambour Djouba et la guitare.\nDe la Martinique en passant par le Cap Vert se révèle non pas un univers mais tout un multivers !\nCes deux talentueux artistes proposent un projet atypique qui rime avec ”swing authenticité et fraîcheur” ! \n”BèlèVerde” ne laissera point indifférents les amoureux du jazz\, de la biguine\, du blues sans oublier les musiques des racines qui relient la Martinique et le Cap Vert à leur diaspora africaine. \nTimothée  Isnard : guitare\nElie Nourry : sax\nPhilo : tambour bélé
URL:https://lemelville.fr/accueil/evenements/beleverde/
LOCATION:Le Melville\, 28 Rue Jean Mermoz\, Paris\, 75008\, France
CATEGORIES:Cap Vert,Latin Jazz
ATTACH;FMTTYPE=image/png:https://lemelville.fr/wp-content/uploads/2025/05/Beleverde-Affiche-Nf.png
END:VEVENT
END:VCALENDAR