BEGIN:VCALENDAR
VERSION:2.0
PRODID:-//Le Melville - ECPv6.15.17//NONSGML v1.0//EN
CALSCALE:GREGORIAN
METHOD:PUBLISH
X-ORIGINAL-URL:https://lemelville.fr/accueil
X-WR-CALDESC:Évènements pour Le Melville
REFRESH-INTERVAL;VALUE=DURATION:PT1H
X-Robots-Tag:noindex
X-PUBLISHED-TTL:PT1H
BEGIN:VTIMEZONE
TZID:Europe/Paris
BEGIN:DAYLIGHT
TZOFFSETFROM:+0100
TZOFFSETTO:+0200
TZNAME:CEST
DTSTART:20250330T010000
END:DAYLIGHT
BEGIN:STANDARD
TZOFFSETFROM:+0200
TZOFFSETTO:+0100
TZNAME:CET
DTSTART:20251026T010000
END:STANDARD
BEGIN:DAYLIGHT
TZOFFSETFROM:+0100
TZOFFSETTO:+0200
TZNAME:CEST
DTSTART:20260329T010000
END:DAYLIGHT
BEGIN:STANDARD
TZOFFSETFROM:+0200
TZOFFSETTO:+0100
TZNAME:CET
DTSTART:20261025T010000
END:STANDARD
BEGIN:DAYLIGHT
TZOFFSETFROM:+0100
TZOFFSETTO:+0200
TZNAME:CEST
DTSTART:20270328T010000
END:DAYLIGHT
BEGIN:STANDARD
TZOFFSETFROM:+0200
TZOFFSETTO:+0100
TZNAME:CET
DTSTART:20271031T010000
END:STANDARD
END:VTIMEZONE
BEGIN:VEVENT
DTSTART;TZID=Europe/Paris:20260131T210000
DTEND;TZID=Europe/Paris:20260131T233000
DTSTAMP:20260425T133724
CREATED:20251217T224644Z
LAST-MODIFIED:20251217T224644Z
UID:10001081-1769893200-1769902200@lemelville.fr
SUMMARY:Luciana Morelli: Words of the Wind
DESCRIPTION:La chanteuse Luciana Morelli brille dans son album “Words of the Wind”\, fusionnant poèmes et musique avec maestria. Sa voix évocatrice nous guide à travers des paysages sonores riches\, explorant amour\, nature\, solitude avec une touche de jazz et de passion argentine. Une expérience musicale captivante. \nLa chanteuse argentine résidant à Bâle\, Luciana Morelli\, a intégré avec maîtrise et polyvalence ses facettes d’interprète\, de compositrice et d’arrangeuse dans son nouvel album « Words of the Wind » (Habitable Records\, 2024). Des poèmes d’Emily Brontë\, Alejandra Pizarnik\, Anne Carson et Robin Myers trouvent leur expression musicale dans la voix de la chanteuse et dans ses compositions créatives\, où sa voix expressive guide l’auditeur à travers des mondes soigneusement choisis de textures instrumentales et vocales à l’état brut. Approfondissant des thèmes tels que la nature\, l’amour\, la mort\, la solitude\, l’identité\, le désir et la mémoire\, et s’inspirant de la musique argentine\, classique et du jazz\, chaque pièce mêle narration\, poésie et harmonies riches dans une palette personnelle et distinctive pour créer une image complète et dynamique de l’expérience humaine. \n«Morelli a créé une œuvre qui intéressera certainement les amateurs de musique et de littérature. Ce n’est pas seulement de la musique\, c’est une histoire racontée avec des sons». Laboratorium MF (PL)\n«Sa voix est extrêmement expressive\, elle place des accents précis et vibre avec la dramaturgie des textes. Les chansons sont interprétées de manière si créative que l’auditeur ne s’ennuie jamais. Il y a toujours quelque chose de nouveau à découvrir.» Jazz and More (Suisse) \n« … La voix envoûtante de Morelli. Sa voix et l’articulation de chaque mot dégagent une énergie différente de celle du poème original et transforment chaque chanson en une création à part entière. » Twisted Soul Music (Royaume-Uni) \nLuciana Morelli : chant\nPhilipp Hillebrand : clarinette\nMauricio Silva Orendain : piano\nTommy Fuller : contrebasse\nAxel Filip : batterie
URL:https://lemelville.fr/accueil/evenements/luciana-morelli-words-of-the-wind/
LOCATION:Le Melville\, 28 Rue Jean Mermoz\, Paris\, 75008\, France
CATEGORIES:Contemporary jazz,Vocal Jazz
ATTACH;FMTTYPE=image/png:https://lemelville.fr/wp-content/uploads/2025/12/Luciana-Morelli-Affiche-NF-2.png
END:VEVENT
END:VCALENDAR