BEGIN:VCALENDAR
VERSION:2.0
PRODID:-//Le Melville - ECPv6.15.17//NONSGML v1.0//EN
CALSCALE:GREGORIAN
METHOD:PUBLISH
X-ORIGINAL-URL:https://lemelville.fr/accueil
X-WR-CALDESC:Évènements pour Le Melville
REFRESH-INTERVAL;VALUE=DURATION:PT1H
X-Robots-Tag:noindex
X-PUBLISHED-TTL:PT1H
BEGIN:VTIMEZONE
TZID:Europe/Paris
BEGIN:DAYLIGHT
TZOFFSETFROM:+0100
TZOFFSETTO:+0200
TZNAME:CEST
DTSTART:20230326T010000
END:DAYLIGHT
BEGIN:STANDARD
TZOFFSETFROM:+0200
TZOFFSETTO:+0100
TZNAME:CET
DTSTART:20231029T010000
END:STANDARD
BEGIN:DAYLIGHT
TZOFFSETFROM:+0100
TZOFFSETTO:+0200
TZNAME:CEST
DTSTART:20240331T010000
END:DAYLIGHT
BEGIN:STANDARD
TZOFFSETFROM:+0200
TZOFFSETTO:+0100
TZNAME:CET
DTSTART:20241027T010000
END:STANDARD
BEGIN:DAYLIGHT
TZOFFSETFROM:+0100
TZOFFSETTO:+0200
TZNAME:CEST
DTSTART:20250330T010000
END:DAYLIGHT
BEGIN:STANDARD
TZOFFSETFROM:+0200
TZOFFSETTO:+0100
TZNAME:CET
DTSTART:20251026T010000
END:STANDARD
BEGIN:DAYLIGHT
TZOFFSETFROM:+0100
TZOFFSETTO:+0200
TZNAME:CEST
DTSTART:20260329T010000
END:DAYLIGHT
BEGIN:STANDARD
TZOFFSETFROM:+0200
TZOFFSETTO:+0100
TZNAME:CET
DTSTART:20261025T010000
END:STANDARD
END:VTIMEZONE
BEGIN:VEVENT
DTSTART;TZID=Europe/Paris:20250227T203000
DTEND;TZID=Europe/Paris:20250227T230000
DTSTAMP:20260425T133812
CREATED:20250225T113241Z
LAST-MODIFIED:20250225T113241Z
UID:10000797-1740688200-1740697200@lemelville.fr
SUMMARY:Loretta's
DESCRIPTION:Le trio Loretta’s enflamme la scène avec un premier set Old-Time et Bluegrass\, puis dévale le fleuve de la Country Music jusqu’au Western Swing jazzé. Lou Richard au chant et à la guitare\, Paolo Conti au banjo et steel guitar\, Matthieu Duretz à la contrebasse assurent le show ! 🎶 \nAprès un premier set dédié aux musiques Old-Time et Bluegrass de l’Est américain\, le trio Loretta’s descendra la grande rivière de la Country Music jusqu’à ses rives jazz avec un deuxième set Western Swing.   \nLou Richard : chant\, guitare\nPaolo Conti : banjo\, steel guitar\nMatthieu Duretz : contrebasse
URL:https://lemelville.fr/accueil/evenements/lorettas-5/
LOCATION:Le Melville\, 28 Rue Jean Mermoz\, Paris\, 75008\, France
CATEGORIES:Blue Grass,Country
ATTACH;FMTTYPE=image/png:https://lemelville.fr/wp-content/uploads/2025/02/Lorettas-02-25-Affiche-NF.png
END:VEVENT
BEGIN:VEVENT
DTSTART;TZID=Europe/Paris:20240704T203000
DTEND;TZID=Europe/Paris:20240704T233000
DTSTAMP:20260425T133812
CREATED:20240420T080716Z
LAST-MODIFIED:20240611T153707Z
UID:10000531-1720125000-1720135800@lemelville.fr
SUMMARY:Loretta's
DESCRIPTION:Après un premier set dédié aux musiques Old-Time et Bluegrass de l’Est américain\, le trio Loretta descendra la grande rivière de la Country Music jusqu’à ses rives jazz avec un deuxième set Western Swing. \nLou Richard : chant\, guitare   \nPaolo Conti : banjo\, steel guitar  \nMatthieu Duretz : contrebasse  \n 
URL:https://lemelville.fr/accueil/evenements/lorettas-3/
LOCATION:Le Melville\, 28 Rue Jean Mermoz\, Paris\, 75008\, France
CATEGORIES:Blue Grass,Country
ATTACH;FMTTYPE=image/png:https://lemelville.fr/wp-content/uploads/2024/04/Lorettas.png
END:VEVENT
END:VCALENDAR