BEGIN:VCALENDAR
VERSION:2.0
PRODID:-//Le Melville - ECPv6.15.17//NONSGML v1.0//EN
CALSCALE:GREGORIAN
METHOD:PUBLISH
X-WR-CALNAME:Le Melville
X-ORIGINAL-URL:https://lemelville.fr/accueil
X-WR-CALDESC:Évènements pour Le Melville
REFRESH-INTERVAL;VALUE=DURATION:PT1H
X-Robots-Tag:noindex
X-PUBLISHED-TTL:PT1H
BEGIN:VTIMEZONE
TZID:Europe/Paris
BEGIN:DAYLIGHT
TZOFFSETFROM:+0100
TZOFFSETTO:+0200
TZNAME:CEST
DTSTART:20250330T010000
END:DAYLIGHT
BEGIN:STANDARD
TZOFFSETFROM:+0200
TZOFFSETTO:+0100
TZNAME:CET
DTSTART:20251026T010000
END:STANDARD
BEGIN:DAYLIGHT
TZOFFSETFROM:+0100
TZOFFSETTO:+0200
TZNAME:CEST
DTSTART:20260329T010000
END:DAYLIGHT
BEGIN:STANDARD
TZOFFSETFROM:+0200
TZOFFSETTO:+0100
TZNAME:CET
DTSTART:20261025T010000
END:STANDARD
BEGIN:DAYLIGHT
TZOFFSETFROM:+0100
TZOFFSETTO:+0200
TZNAME:CEST
DTSTART:20270328T010000
END:DAYLIGHT
BEGIN:STANDARD
TZOFFSETFROM:+0200
TZOFFSETTO:+0100
TZNAME:CET
DTSTART:20271031T010000
END:STANDARD
END:VTIMEZONE
BEGIN:VEVENT
DTSTART;TZID=Europe/Paris:20260307T210000
DTEND;TZID=Europe/Paris:20260307T233000
DTSTAMP:20260421T193913
CREATED:20260207T083015Z
LAST-MODIFIED:20260207T083015Z
UID:10001124-1772917200-1772926200@lemelville.fr
SUMMARY:Seb Joulie Group
DESCRIPTION:Sébastien Joulie\, guitariste de jazz post-bop influencé par les grands\, enflamme la scène internationale avec son son moderne et organique. Son dernier album “LOADED” a séduit la critique. Ce soir\, il joue avec des musiciens exceptionnels pour une soirée jazz inoubliable. \nFigure incontournable de la scène jazz\, Sébastien Joulie perpétue la tradition du jazz post-bop à la guitare\, de Jimmy Raney à Grant Green\, en passant par Peter Bernstein\, avec qui il a étudié à New York. Compositeur et arrangeur\, il a déjà publié quatre albums sous son nom sur le prestigieux label Fresh Sound New Talent Records\, réunissant les plus grands noms du jazz international (Walter Smith III en 2013) et français (Pierre de Bethmann en 2017).\nIl pratique un jazz ancré dans sa dimension organique et engagée\, dominé par des sonorités résolument modernes. À noter que son dernier album\, LOADED\, paru fin 2024\, a été unanimement salué par la critique et a reçu le Choc Jazz magazine  \nIl jouear ce soir avec les merveilleux Stéphane Moutot (sax ténor)\,\nSlim Chikhaoui (Contrebasse) et Charles Clayette (Batterie) \nSébastien  Joulie  : guitare\nStéphane Moutot : sax ténor\nSlim Chikhaoui : contrebasse\nCharles Clayette : batterie
URL:https://lemelville.fr/accueil/evenements/seb-joulie-group/
LOCATION:Le Melville\, 28 Rue Jean Mermoz\, Paris\, 75008\, France
CATEGORIES:Hard Bop,Jazz Standard
ATTACH;FMTTYPE=image/png:https://lemelville.fr/wp-content/uploads/2026/02/Seb-Joulie-Groupe-Affiche-NF.png
END:VEVENT
END:VCALENDAR