BEGIN:VCALENDAR
VERSION:2.0
PRODID:-//Le Melville - ECPv6.15.17//NONSGML v1.0//EN
CALSCALE:GREGORIAN
METHOD:PUBLISH
X-WR-CALNAME:Le Melville
X-ORIGINAL-URL:https://lemelville.fr/accueil
X-WR-CALDESC:Évènements pour Le Melville
REFRESH-INTERVAL;VALUE=DURATION:PT1H
X-Robots-Tag:noindex
X-PUBLISHED-TTL:PT1H
BEGIN:VTIMEZONE
TZID:Europe/Paris
BEGIN:DAYLIGHT
TZOFFSETFROM:+0100
TZOFFSETTO:+0200
TZNAME:CEST
DTSTART:20250330T010000
END:DAYLIGHT
BEGIN:STANDARD
TZOFFSETFROM:+0200
TZOFFSETTO:+0100
TZNAME:CET
DTSTART:20251026T010000
END:STANDARD
BEGIN:DAYLIGHT
TZOFFSETFROM:+0100
TZOFFSETTO:+0200
TZNAME:CEST
DTSTART:20260329T010000
END:DAYLIGHT
BEGIN:STANDARD
TZOFFSETFROM:+0200
TZOFFSETTO:+0100
TZNAME:CET
DTSTART:20261025T010000
END:STANDARD
BEGIN:DAYLIGHT
TZOFFSETFROM:+0100
TZOFFSETTO:+0200
TZNAME:CEST
DTSTART:20270328T010000
END:DAYLIGHT
BEGIN:STANDARD
TZOFFSETFROM:+0200
TZOFFSETTO:+0100
TZNAME:CET
DTSTART:20271031T010000
END:STANDARD
END:VTIMEZONE
BEGIN:VEVENT
DTSTART;TZID=Europe/Paris:20260212T203000
DTEND;TZID=Europe/Paris:20260212T230000
DTSTAMP:20260421T193913
CREATED:20260104T073355Z
LAST-MODIFIED:20260104T073355Z
UID:10001091-1770928200-1770937200@lemelville.fr
SUMMARY:Azarine 6
DESCRIPTION:Découvrez le nouveau quintet Azarine6 d’Arshid Azarine pour des voyages musicaux uniques mêlant influences persanes et expérimentations ‘multi kulti’ ! Un sixième élément surprise s’invite à chaque performance pour enrichir l’aventure musicale. \nArshid Azarine nous propose cette fois son quintet Azarine6 pour de nouveaux voyages musicaux toujours teintés d’influences persanes mais avec une composition différente et dans un vrai laboratoire d’exploration  ‘multi kulti’! Le sixième élément est souvent un.e invité.e…  \nArshid Azarine : piano\nNicolas Bezins : trompette\nStephane Mouchabac : sax\nJean-Baptiste Lecanu : basse\nAssen Tzankov : batterie
URL:https://lemelville.fr/accueil/evenements/azarine-6-2/
LOCATION:Le Melville\, 28 Rue Jean Mermoz\, Paris\, 75008\, France
CATEGORIES:Jazz Ethno,Jazz Standard
ATTACH;FMTTYPE=image/png:https://lemelville.fr/wp-content/uploads/2026/01/Azarine-6-Affiche-NF.png
END:VEVENT
END:VCALENDAR