BEGIN:VCALENDAR
VERSION:2.0
PRODID:-//Le Melville - ECPv6.15.17//NONSGML v1.0//EN
CALSCALE:GREGORIAN
METHOD:PUBLISH
X-WR-CALNAME:Le Melville
X-ORIGINAL-URL:https://lemelville.fr/accueil
X-WR-CALDESC:Évènements pour Le Melville
REFRESH-INTERVAL;VALUE=DURATION:PT1H
X-Robots-Tag:noindex
X-PUBLISHED-TTL:PT1H
BEGIN:VTIMEZONE
TZID:Europe/Paris
BEGIN:DAYLIGHT
TZOFFSETFROM:+0100
TZOFFSETTO:+0200
TZNAME:CEST
DTSTART:20230326T010000
END:DAYLIGHT
BEGIN:STANDARD
TZOFFSETFROM:+0200
TZOFFSETTO:+0100
TZNAME:CET
DTSTART:20231029T010000
END:STANDARD
BEGIN:DAYLIGHT
TZOFFSETFROM:+0100
TZOFFSETTO:+0200
TZNAME:CEST
DTSTART:20240331T010000
END:DAYLIGHT
BEGIN:STANDARD
TZOFFSETFROM:+0200
TZOFFSETTO:+0100
TZNAME:CET
DTSTART:20241027T010000
END:STANDARD
BEGIN:DAYLIGHT
TZOFFSETFROM:+0100
TZOFFSETTO:+0200
TZNAME:CEST
DTSTART:20250330T010000
END:DAYLIGHT
BEGIN:STANDARD
TZOFFSETFROM:+0200
TZOFFSETTO:+0100
TZNAME:CET
DTSTART:20251026T010000
END:STANDARD
BEGIN:DAYLIGHT
TZOFFSETFROM:+0100
TZOFFSETTO:+0200
TZNAME:CEST
DTSTART:20260329T010000
END:DAYLIGHT
BEGIN:STANDARD
TZOFFSETFROM:+0200
TZOFFSETTO:+0100
TZNAME:CET
DTSTART:20261025T010000
END:STANDARD
BEGIN:DAYLIGHT
TZOFFSETFROM:+0100
TZOFFSETTO:+0200
TZNAME:CEST
DTSTART:20270328T010000
END:DAYLIGHT
BEGIN:STANDARD
TZOFFSETFROM:+0200
TZOFFSETTO:+0100
TZNAME:CET
DTSTART:20271031T010000
END:STANDARD
END:VTIMEZONE
BEGIN:VEVENT
DTSTART;TZID=Europe/Paris:20260319T203000
DTEND;TZID=Europe/Paris:20260319T230000
DTSTAMP:20260421T181640
CREATED:20260209T103457Z
LAST-MODIFIED:20260209T103457Z
UID:10001134-1773952200-1773961200@lemelville.fr
SUMMARY:BèlèVerde
DESCRIPTION:Duo interculturel et intergénérationnel\, BèlèVerde c’est Philo et Timothée avec tambour Djouba et guitare\, un multivers musical entre Martinique et Cap Vert. Jazz\, biguine\, blues et racines pour un projet atypique alliant swing\, authenticité et fraîcheur. \n”BèlèVerde”\nPhilippe Gouyer-Montout dit Philo\, Timothée Isnard : un duo interculturel intergénérationnel…Deux voix authentiques portées par deux instruments emblématiques que sont le tambour Djouba et la guitare.\nDe la Martinique en passant par le Cap Vert se révèle non pas un univers mais tout un multivers !\nCes deux talentueux artistes proposent un projet atypique qui rime avec ”swing authenticité et fraîcheur” ! \n”BèlèVerde” ne laissera point indifférents les amoureux du jazz\, de la biguine\, du blues sans oublier les musiques des racines qui relient la Martinique et le Cap Vert à leur diaspora africaine. \nTimothée  Isnard : guitare\nElie Nourry : sax\nPhilo : tambour bélé
URL:https://lemelville.fr/accueil/evenements/beleverde-3/
LOCATION:Le Melville\, 28 Rue Jean Mermoz\, Paris\, 75008\, France
CATEGORIES:Cap Vert,Jazz Ethno
ATTACH;FMTTYPE=image/png:https://lemelville.fr/wp-content/uploads/2026/02/Beleverde-Affiche-Nf.png
END:VEVENT
BEGIN:VEVENT
DTSTART;TZID=Europe/Paris:20260212T203000
DTEND;TZID=Europe/Paris:20260212T230000
DTSTAMP:20260421T181640
CREATED:20260104T073355Z
LAST-MODIFIED:20260104T073355Z
UID:10001091-1770928200-1770937200@lemelville.fr
SUMMARY:Azarine 6
DESCRIPTION:Découvrez le nouveau quintet Azarine6 d’Arshid Azarine pour des voyages musicaux uniques mêlant influences persanes et expérimentations ‘multi kulti’ ! Un sixième élément surprise s’invite à chaque performance pour enrichir l’aventure musicale. \nArshid Azarine nous propose cette fois son quintet Azarine6 pour de nouveaux voyages musicaux toujours teintés d’influences persanes mais avec une composition différente et dans un vrai laboratoire d’exploration  ‘multi kulti’! Le sixième élément est souvent un.e invité.e…  \nArshid Azarine : piano\nNicolas Bezins : trompette\nStephane Mouchabac : sax\nJean-Baptiste Lecanu : basse\nAssen Tzankov : batterie
URL:https://lemelville.fr/accueil/evenements/azarine-6-2/
LOCATION:Le Melville\, 28 Rue Jean Mermoz\, Paris\, 75008\, France
CATEGORIES:Jazz Ethno,Jazz Standard
ATTACH;FMTTYPE=image/png:https://lemelville.fr/wp-content/uploads/2026/01/Azarine-6-Affiche-NF.png
END:VEVENT
BEGIN:VEVENT
DTSTART;TZID=Europe/Paris:20250110T210000
DTEND;TZID=Europe/Paris:20250110T233000
DTSTAMP:20260421T181640
CREATED:20240724T090401Z
LAST-MODIFIED:20241110T154327Z
UID:10000610-1736542800-1736551800@lemelville.fr
SUMMARY:Deivys Rubalcaba - 5tet
DESCRIPTION:Du jazz cubain et afro-cubain avec le Deivys Rubalcaba et son 5tet\, avec pour objectif de défendre l’héritage de la musique cubaine en le fusionnant avec des éléments contemporains du latin jazz\, des rythmes cubains et afro-cubains.  \n  \nDeivys Rubalcaba : Timbales  \nRenaud Palisseaux : Piano  \nYves Mr Prud’homme : Congas  \nEmmanuel Paillardon : Bass  \nStéphane Montigny : trombonne
URL:https://lemelville.fr/accueil/evenements/deivys-rubalcaba-4tet/
LOCATION:Le Melville\, 28 Rue Jean Mermoz\, Paris\, 75008\, France
CATEGORIES:Jazz Ethno
ATTACH;FMTTYPE=image/png:https://lemelville.fr/wp-content/uploads/2024/07/Deivys-Rubalcaba-5tet-Affiche-NF.png
END:VEVENT
BEGIN:VEVENT
DTSTART;TZID=Europe/Paris:20250109T203000
DTEND;TZID=Europe/Paris:20250109T233000
DTSTAMP:20260421T181640
CREATED:20241018T145327Z
LAST-MODIFIED:20241018T153337Z
UID:10000654-1736454600-1736465400@lemelville.fr
SUMMARY:Arshid Azarine Trio
DESCRIPTION:Arshid Azarine et son trio “Jazz Persan” rend une visite exceptionnelle au Melville pour une soirée de dépaysement total.  \nLe pianiste chanteur Arshid Azarine\, accompagné de Habib Meftah Boushehri aux percussions et au chant et de Hervé de Ratuld à la basse et à la contrebasse fusionnent jazz et des éléments de musique traditionnelle persane. Une hybridation culturelle et musicale\, fondement du jazz !  \nArshid Azarine : piano    \nHabib Meftah Boushehri : voix\, percussions    \nHervé de Ratuld  : basse \n 
URL:https://lemelville.fr/accueil/evenements/arshid-azarine-trio-copy/
CATEGORIES:Jazz Ethno,World
ATTACH;FMTTYPE=image/png:https://lemelville.fr/wp-content/uploads/2024/10/Arshid-Azarine-TrioAffiche-NF.png
END:VEVENT
BEGIN:VEVENT
DTSTART;TZID=Europe/Paris:20241219T203000
DTEND;TZID=Europe/Paris:20241219T233000
DTSTAMP:20260421T181640
CREATED:20240121T091931Z
LAST-MODIFIED:20241110T155237Z
UID:10000465-1734640200-1734651000@lemelville.fr
SUMMARY:Capeba
DESCRIPTION:La Saudade et la Morna capverdiennes s’invitent au Melville !  \nLe trio Capeba\, formé de Timothée Isnard\, chanteur guitariste franco-capverdien\, Abel Charzat (violon) et Keïna Etenor (contrebasse) nous emmèneront vers la chaleur du Cap-vert et revisiteront\, entre morna\, coladeira et la saudade\, les mélodies traditionnelles du Cap Vert et les classiques de Ferro Gaita ou Cesaria Evora.  \nLe répertoire de Capeba voyage entre le jazz et le Cap-vert. Vous pourrez entendre le violon alterner aussi bien entre la morna et le blues\, le swing et la coladeira ou le funk et la batuku.  \n  \nThimothée Isnard : guitare chant  \nAbel Charzat : violon  \nKeïna Etenor : Contrebasse 
URL:https://lemelville.fr/accueil/evenements/capeba-3/
LOCATION:Le Melville\, 28 Rue Jean Mermoz\, Paris\, 75008\, France
CATEGORIES:Cap Vert,Jazz Ethno,World
ATTACH;FMTTYPE=image/png:https://lemelville.fr/wp-content/uploads/2024/01/Capeba-V2-NF.png
END:VEVENT
BEGIN:VEVENT
DTSTART;TZID=Europe/Paris:20241212T203000
DTEND;TZID=Europe/Paris:20241212T230000
DTSTAMP:20260421T181640
CREATED:20240731T190706Z
LAST-MODIFIED:20241110T144137Z
UID:10000647-1734035400-1734044400@lemelville.fr
SUMMARY:Tobrouk - Soirée privée
DESCRIPTION:Tobrouk est un duo de Jazz Ethno et Musique latine\, mêlant piano et percussions.  Antoine Dumas\, au piano et Elliot aux percussions (Derbouka) vous invitent au voyage des Caraïbes au Moyen Orient.\nAntoine Dumas : piano\nElliot Frésil : Derbouka\,Cajon
URL:https://lemelville.fr/accueil/evenements/tobrouk-5/
LOCATION:Le Melville\, 28 Rue Jean Mermoz\, Paris\, 75008\, France
CATEGORIES:Jazz Ethno,World
ATTACH;FMTTYPE=image/png:https://lemelville.fr/wp-content/uploads/2024/07/Tobrouk.png
END:VEVENT
BEGIN:VEVENT
DTSTART;TZID=Europe/Paris:20241126T203000
DTEND;TZID=Europe/Paris:20241126T233000
DTSTAMP:20260421T181640
CREATED:20240724T085134Z
LAST-MODIFIED:20240724T085134Z
UID:10000629-1732653000-1732663800@lemelville.fr
SUMMARY:The Young Trio : Music Love
DESCRIPTION:The Young Trio\, emmené par son leader et batteur Tomas Young\, revient au-devant de la scène parisienne plus fort que jamais. Ainsi\, accompagné par Ahmed Ghanem à la contrebasse et Pierre-Antoine Schaffangeon au piano\, The Young Trio nous distilleras une musique chaleureuse et moderne teintée de swing\, de groove et de rythmes afro-cubains.  \n  \n« The Music I Love » sera le thème de cette soirée envoutante où le trio présentera des compostions et arrangements de Tomas Young\, mais aussi plein d’autres surprises.  \nPierre-Antoine Schaffangeon : Piano  \n Ahmed Ghanem : Contrebasse  \n Tomas Young : Batteur 
URL:https://lemelville.fr/accueil/evenements/the-young-trio-music-love/
LOCATION:Le Melville\, 28 Rue Jean Mermoz\, Paris\, 75008\, France
CATEGORIES:Groove,Jazz Ethno,Jazz Standard,Swing
ATTACH;FMTTYPE=image/png:https://lemelville.fr/wp-content/uploads/2024/07/The-Young-Trio-Affiche-NF.png
END:VEVENT
BEGIN:VEVENT
DTSTART;TZID=Europe/Paris:20240716T203000
DTEND;TZID=Europe/Paris:20240716T230000
DTSTAMP:20260421T181640
CREATED:20240420T082735Z
LAST-MODIFIED:20240716T103329Z
UID:10000543-1721161800-1721170800@lemelville.fr
SUMMARY:Tobrouk
DESCRIPTION:Tobrouk est un duo de Jazz Ethno et Musique latine\, mêlant piano et percussions.  Antoine Dumas\, au piano et Elliot aux percussions (Derbouka) vous invitent au voyage des Caraïbes au Moyen Orient.\nAntoine Dumas : piano\nElliot Frésil : Derbouka\,Cajon
URL:https://lemelville.fr/accueil/evenements/tobrouk-3/
LOCATION:Le Melville\, 28 Rue Jean Mermoz\, Paris\, 75008\, France
CATEGORIES:Jazz Ethno,World
ATTACH;FMTTYPE=image/png:https://lemelville.fr/wp-content/uploads/2024/04/Tobrouk-Affiche.png
END:VEVENT
END:VCALENDAR