BEGIN:VCALENDAR
VERSION:2.0
PRODID:-//Le Melville - ECPv6.15.17//NONSGML v1.0//EN
CALSCALE:GREGORIAN
METHOD:PUBLISH
X-ORIGINAL-URL:https://lemelville.fr/accueil
X-WR-CALDESC:Évènements pour Le Melville
REFRESH-INTERVAL;VALUE=DURATION:PT1H
X-Robots-Tag:noindex
X-PUBLISHED-TTL:PT1H
BEGIN:VTIMEZONE
TZID:Europe/Paris
BEGIN:DAYLIGHT
TZOFFSETFROM:+0100
TZOFFSETTO:+0200
TZNAME:CEST
DTSTART:20240331T010000
END:DAYLIGHT
BEGIN:STANDARD
TZOFFSETFROM:+0200
TZOFFSETTO:+0100
TZNAME:CET
DTSTART:20241027T010000
END:STANDARD
BEGIN:DAYLIGHT
TZOFFSETFROM:+0100
TZOFFSETTO:+0200
TZNAME:CEST
DTSTART:20250330T010000
END:DAYLIGHT
BEGIN:STANDARD
TZOFFSETFROM:+0200
TZOFFSETTO:+0100
TZNAME:CET
DTSTART:20251026T010000
END:STANDARD
BEGIN:DAYLIGHT
TZOFFSETFROM:+0100
TZOFFSETTO:+0200
TZNAME:CEST
DTSTART:20260329T010000
END:DAYLIGHT
BEGIN:STANDARD
TZOFFSETFROM:+0200
TZOFFSETTO:+0100
TZNAME:CET
DTSTART:20261025T010000
END:STANDARD
END:VTIMEZONE
BEGIN:VEVENT
DTSTART;TZID=Europe/Paris:20250527T203000
DTEND;TZID=Europe/Paris:20250527T230000
DTSTAMP:20260422T071002
CREATED:20250406T115648Z
LAST-MODIFIED:20250406T115648Z
UID:10000855-1748377800-1748386800@lemelville.fr
SUMMARY:Tom Peyron Trio
DESCRIPTION:Ce trio de jazz parisien\, composé d’amis complices\, revisite avec passion les classiques du Great American Songbook. Leur musique allie swing\, tradition et spontanéité\, offrant une expérience envoûtante où la créativité fuse à chaque note ! 🎶 \nCe groupe réunit trois musiciens et amis de longue date\, habitués de la scène jazz parisienne.\nIls interprètent des standards du great american songbook\, un répertoire autour duquel ils peuvent créer et interagir librement dans l’instant.\nSwing\, tradition et lâcher prise sont les maîtres-mots qui définissent ce trio. \nTom  Peyron  : batterie\nTom Guillois : contrebasse\nYonathan Hes : sax
URL:https://lemelville.fr/accueil/evenements/tom-peyron-trio-5/
LOCATION:Le Melville\, 28 Rue Jean Mermoz\, Paris\, 75008\, France
CATEGORIES:Jazz
ATTACH;FMTTYPE=image/png:https://lemelville.fr/wp-content/uploads/2025/04/Tom-Peyron-Trio-250527-Affiche-NF.png
END:VEVENT
END:VCALENDAR