BEGIN:VCALENDAR
VERSION:2.0
PRODID:-//Le Melville - ECPv6.15.17//NONSGML v1.0//EN
CALSCALE:GREGORIAN
METHOD:PUBLISH
X-ORIGINAL-URL:https://lemelville.fr/accueil
X-WR-CALDESC:Évènements pour Le Melville
REFRESH-INTERVAL;VALUE=DURATION:PT1H
X-Robots-Tag:noindex
X-PUBLISHED-TTL:PT1H
BEGIN:VTIMEZONE
TZID:Europe/Paris
BEGIN:DAYLIGHT
TZOFFSETFROM:+0100
TZOFFSETTO:+0200
TZNAME:CEST
DTSTART:20240331T010000
END:DAYLIGHT
BEGIN:STANDARD
TZOFFSETFROM:+0200
TZOFFSETTO:+0100
TZNAME:CET
DTSTART:20241027T010000
END:STANDARD
BEGIN:DAYLIGHT
TZOFFSETFROM:+0100
TZOFFSETTO:+0200
TZNAME:CEST
DTSTART:20250330T010000
END:DAYLIGHT
BEGIN:STANDARD
TZOFFSETFROM:+0200
TZOFFSETTO:+0100
TZNAME:CET
DTSTART:20251026T010000
END:STANDARD
BEGIN:DAYLIGHT
TZOFFSETFROM:+0100
TZOFFSETTO:+0200
TZNAME:CEST
DTSTART:20260329T010000
END:DAYLIGHT
BEGIN:STANDARD
TZOFFSETFROM:+0200
TZOFFSETTO:+0100
TZNAME:CET
DTSTART:20261025T010000
END:STANDARD
END:VTIMEZONE
BEGIN:VEVENT
DTSTART;TZID=Europe/Paris:20251209T203000
DTEND;TZID=Europe/Paris:20251209T230000
DTSTAMP:20260421T211033
CREATED:20251112T183208Z
LAST-MODIFIED:20251112T183208Z
UID:10001039-1765312200-1765321200@lemelville.fr
SUMMARY:Noé Huchard Solo
DESCRIPTION:Noé Huchard\, jeune prodige du jazz français formé au CNSM de Paris\, rayonne avec ses performances aux côtés de grands noms comme Kurt Rosenwinkel. Couronné au Concours de piano Jazz Chorus\, présidé par Martial Solal\, il va enflammer nos oreilles avec la sortie imminente de son album “Young and Fine” \nNoé Huchard s’impose comme l’un des pianistes les plus prometteurs de la nouvelle génération du jazz français. Formé au CNSM de Paris\, il remporte en 2021 le Concours de piano Jazz Chorus à Lausanne\, présidé par Martial Solal. Il s’est produit aux côtés de musiciens tels que Kurt Rosenwinkel\, Rick Margitza ou Stéphane Belmondo.\nSon nouvel album Young and Fine paraîtra le 12 décembre 2025… dans 3 jours ! \nNoé Huchard : piano
URL:https://lemelville.fr/accueil/evenements/noe-huchard-solo/
LOCATION:Le Melville\, 28 Rue Jean Mermoz\, Paris\, 75008\, France
CATEGORIES:Jazz
ATTACH;FMTTYPE=image/png:https://lemelville.fr/wp-content/uploads/2025/11/Noe-Huchard-Solo-Affiche-NF.png
END:VEVENT
BEGIN:VEVENT
DTSTART;TZID=Europe/Paris:20251217T203000
DTEND;TZID=Europe/Paris:20251217T230000
DTSTAMP:20260421T211033
CREATED:20251120T085403Z
LAST-MODIFIED:20251120T085403Z
UID:10001049-1766003400-1766012400@lemelville.fr
SUMMARY:Anastasia 4tet
DESCRIPTION:Plonge dans l’univers envoûtant du quartet vocal guidé par la voix chaude d’Anastasia. Inspiré par le jazz du Great American Songbook\, le groupe revisite les standards avec créativité et modernité\, entre Ella Fitzgerald et Chet Baker. Un cocktail envoûtant d’énergie et d’intimité musicale. \nGuidé par la voix chaude et profonde d’Anastasia\, le quartet puise son inspiration\, son énergie et son intimité dans la tradition du jazz vocal et les textes envoutants du Great American Songbook. Avec des influences allant de Ella Fitzgerald à Samara Joy\, en passant par Chet Baker\, Sarah Vaughan ou Franck Sinatra\, les musiciens du quartet présentent des arrangements modernes de standards dans lesquels on reconnaît leur créativité et leur amour de l’orchestration. \nGautier Montegu  : piano\nGuillaume Leguerinel : batterie\nRayan Besançon  : contrebasse\nAnastasia Konstantinidou  : chant
URL:https://lemelville.fr/accueil/evenements/anastasia-4tet-3/
LOCATION:Le Melville\, 28 Rue Jean Mermoz\, Paris\, 75008\, France
CATEGORIES:Jazz,Soul
ATTACH;FMTTYPE=image/png:https://lemelville.fr/wp-content/uploads/2025/11/Anastasia-4tet-Affiche-NF-2.png
END:VEVENT
BEGIN:VEVENT
DTSTART;TZID=Europe/Paris:20251219T210000
DTEND;TZID=Europe/Paris:20251219T233000
DTSTAMP:20260421T211033
CREATED:20251118T114624Z
LAST-MODIFIED:20251118T114624Z
UID:10001044-1766178000-1766187000@lemelville.fr
SUMMARY:Remi Toulon Trio
DESCRIPTION:Rémi Toulon\, pianiste et compositeur jazz hyperactif\, a secoué la scène avec plus de vingt albums et une énergie débordante. Avec son trio primé\, il a conquis festivals et clubs\, jonglant entre ses propres morceaux et des collaborations passionnantes. Un vituose ! \nRémi Toulon s’est frotté au Jazz sous toutes ses formes\, son insatiable appétit musical l’a amené à participer à plus d’une vingtaine d’albums et à multiplier les rencontres en tant que pianiste\, compositeur ou arrangeur. \nC’est en 2011 qu’il enregistre l’album NOVEMBRE et remporte avec son trio le 1er prix du trophée International d’orchestres organisé par le festival Jazz à Montauban. Le trio devient vite habitué des clubs et festivals\, en tant que groupe defendant sa propre musique ou en tant que rythmique au service de divers solistes ou chanteurs.\nL’album QUIETLY (2014)\, sélectionné par FIP et France Musique\, est salué dès sa sortie comme « Révélation » par Jazzman/Jazz magazine.\nAvec cette même rythmique\, plus soudée que jamais\, Rémi Toulon signe ADAGIORINHO (2017) et THE CRAVE (2022) qui explorent en quintet la frontière ténue entre le Jazz et ses musiques cousines du brésil et des Caraïbes. \nDistillant une musique généreuse avec un plaisir de jouer évident\, Rémi Toulon défend une musique à la fois personnelle et ancrée dans la grande tradition du Jazz.  \n“Rémi Toulon\, musicien français éclectique et surdoué.”\nFrance Musique  \n“Impossible de rester impassible devant un tel sens du swing\, devant une joie de jouer aussi débordante !”\nTSF JAZZ \n“Ils ont une façon\, par leurs arrangements\, de réinventer l’art du trio jazz à chaque morceau\, qui est tout à fait réjouissante.”\nJazzman/Jazzmag  \nRémi Toulon : piano\nVincent Frade : batterie\nMarc Bollengier : contrebasse
URL:https://lemelville.fr/accueil/evenements/remi-toulon-trio-6/
LOCATION:Le Melville\, 28 Rue Jean Mermoz\, Paris\, 75008\, France
CATEGORIES:Jazz,Jazz Standard
ATTACH;FMTTYPE=image/png:https://lemelville.fr/wp-content/uploads/2025/11/Remi-Toulon-trio-251219-Affiche-Nf.png
END:VEVENT
END:VCALENDAR