BEGIN:VCALENDAR
VERSION:2.0
PRODID:-//Le Melville - ECPv6.15.17//NONSGML v1.0//EN
CALSCALE:GREGORIAN
METHOD:PUBLISH
X-ORIGINAL-URL:https://lemelville.fr/accueil
X-WR-CALDESC:Évènements pour Le Melville
REFRESH-INTERVAL;VALUE=DURATION:PT1H
X-Robots-Tag:noindex
X-PUBLISHED-TTL:PT1H
BEGIN:VTIMEZONE
TZID:Europe/Paris
BEGIN:DAYLIGHT
TZOFFSETFROM:+0100
TZOFFSETTO:+0200
TZNAME:CEST
DTSTART:20250330T010000
END:DAYLIGHT
BEGIN:STANDARD
TZOFFSETFROM:+0200
TZOFFSETTO:+0100
TZNAME:CET
DTSTART:20251026T010000
END:STANDARD
BEGIN:DAYLIGHT
TZOFFSETFROM:+0100
TZOFFSETTO:+0200
TZNAME:CEST
DTSTART:20260329T010000
END:DAYLIGHT
BEGIN:STANDARD
TZOFFSETFROM:+0200
TZOFFSETTO:+0100
TZNAME:CET
DTSTART:20261025T010000
END:STANDARD
BEGIN:DAYLIGHT
TZOFFSETFROM:+0100
TZOFFSETTO:+0200
TZNAME:CEST
DTSTART:20270328T010000
END:DAYLIGHT
BEGIN:STANDARD
TZOFFSETFROM:+0200
TZOFFSETTO:+0100
TZNAME:CET
DTSTART:20271031T010000
END:STANDARD
END:VTIMEZONE
BEGIN:VEVENT
DTSTART;TZID=Europe/Paris:20260203T203000
DTEND;TZID=Europe/Paris:20260203T230000
DTSTAMP:20260421T181549
CREATED:20260114T144714Z
LAST-MODIFIED:20260114T144714Z
UID:10001117-1770150600-1770159600@lemelville.fr
SUMMARY:Jean-Baptiste Franc Solo
DESCRIPTION:Jean-Baptiste Franc\, célèbre pianiste français\, maître du stride\, du swing et du blues\, enflamme les scènes du monde entier avec son charisme\, son talent d’improvisation et sa virtuosité exceptionnelle. De l’Olympia à Taipei en passant par Dresde\, il mêle tradition du jazz et modern \nJean-Baptiste Franc est un pianiste français reconnu pour sa maîtrise du stride\, du swing et du blues.\nLauréat du World Stride Piano Competition à l’Université d’Ole Miss (Mississippi\, États-Unis\, 2018)\, il est salué pour sa virtuosité\, son charisme scénique et ses brillantes capacités d’improvisation.\nSe produisant sur les scènes les plus prestigieuses du monde ainsi que pour une clientèle privée et corporative d’élite\, il allie la tradition du jazz à l’élégance et à l’énergie contemporaine.\nJean-Baptiste s’est produit en solo ou avec des ensembles à :\nL’Olympia (Paris)\nVictoria Hall (Genève)\nBal Blomet (Paris)\nSteinway’s showroom Dusseldorf et Dortmund – 2024 (feat. Pianiste Chris Hopkins) Bangkok Lindy Hop Festival\nTaipei Gipsy Jazz Festival\nKKL Luzern (Suisse)\nOpéras de Dresde et Francfort (Allemagne)\nRadio France\, Carrousel du Louvre\, Jazz in Marciac\, Zurich Stride Piano Festival et plus.. \nJean Baptiste  Franc J : piano
URL:https://lemelville.fr/accueil/evenements/jean-baptiste-franc-solo/
LOCATION:Le Melville\, 28 Rue Jean Mermoz\, Paris\, 75008\, France
CATEGORIES:Jazz
ATTACH;FMTTYPE=image/png:https://lemelville.fr/wp-content/uploads/2026/01/Jean-Baptiste-Franc-Solo-Affiche-NF.png
END:VEVENT
BEGIN:VEVENT
DTSTART;TZID=Europe/Paris:20260205T203000
DTEND;TZID=Europe/Paris:20260205T230000
DTSTAMP:20260421T181549
CREATED:20260104T070119Z
LAST-MODIFIED:20260104T070119Z
UID:10001087-1770323400-1770332400@lemelville.fr
SUMMARY:Audrey Pierre 4tet
DESCRIPTION:Découvrez Audrey Pierre\, une artiste jazz multifacette au talent impressionnant. Sa voix envoûtante\, sa composition habile et son charisme captivant transportent le public dans son univers audacieux. Accompagnée de talentueux musiciens\, elle offre un répertoire enivrant et symbiotique. \n“Avec une maturité étonnante\, la jeune femme fait preuve d’autant de talent pour la composition que pour le chant” Télérama\nChanteuse et compositrice\, Audrey Pierre compte parmi les voix remarquées de la scène jazz actuelle.\nSa voix grave et authentique\, son sens de la mélodie et sa prestance naturelle embarquent son public dans sa Magic Place\, un album salué par la presse\, révélant un univers personnel riche et audacieux. Avec Damien Groleau au piano\, Vladimir Torres à la contrebasse et Tom Moretti à\nla batterie\, le quartet nous offre un répertoire aux envolées instrumentales symbiotiques\, où la voix est un voyage\, le groove est sans frontière\, l’envoûtement est absolu. \nAudrey Pierre : chant\nVladimir Torres : contrebasse\nTom Moretti : batterie\nDamien Groleau : piano
URL:https://lemelville.fr/accueil/evenements/audrey-pierre-4tet/
LOCATION:Le Melville\, 28 Rue Jean Mermoz\, Paris\, 75008\, France
CATEGORIES:Groove,Jazz
ATTACH;FMTTYPE=image/png:https://lemelville.fr/wp-content/uploads/2026/01/Audrey-Pierr-Affiche-NF.png
END:VEVENT
END:VCALENDAR