BEGIN:VCALENDAR
VERSION:2.0
PRODID:-//Le Melville - ECPv6.15.17//NONSGML v1.0//EN
CALSCALE:GREGORIAN
METHOD:PUBLISH
X-ORIGINAL-URL:https://lemelville.fr/accueil
X-WR-CALDESC:Évènements pour Le Melville
REFRESH-INTERVAL;VALUE=DURATION:PT1H
X-Robots-Tag:noindex
X-PUBLISHED-TTL:PT1H
BEGIN:VTIMEZONE
TZID:Europe/Paris
BEGIN:DAYLIGHT
TZOFFSETFROM:+0100
TZOFFSETTO:+0200
TZNAME:CEST
DTSTART:20250330T010000
END:DAYLIGHT
BEGIN:STANDARD
TZOFFSETFROM:+0200
TZOFFSETTO:+0100
TZNAME:CET
DTSTART:20251026T010000
END:STANDARD
BEGIN:DAYLIGHT
TZOFFSETFROM:+0100
TZOFFSETTO:+0200
TZNAME:CEST
DTSTART:20260329T010000
END:DAYLIGHT
BEGIN:STANDARD
TZOFFSETFROM:+0200
TZOFFSETTO:+0100
TZNAME:CET
DTSTART:20261025T010000
END:STANDARD
BEGIN:DAYLIGHT
TZOFFSETFROM:+0100
TZOFFSETTO:+0200
TZNAME:CEST
DTSTART:20270328T010000
END:DAYLIGHT
BEGIN:STANDARD
TZOFFSETFROM:+0200
TZOFFSETTO:+0100
TZNAME:CET
DTSTART:20271031T010000
END:STANDARD
END:VTIMEZONE
BEGIN:VEVENT
DTSTART;TZID=Europe/Paris:20260306T210000
DTEND;TZID=Europe/Paris:20260306T233000
DTSTAMP:20260421T164624
CREATED:20260124T101017Z
LAST-MODIFIED:20260124T101017Z
UID:10001121-1772830800-1772839800@lemelville.fr
SUMMARY:Tommy Roots Trio
DESCRIPTION:Le Tommy Roots Trio réinvente le jazz en mêlant habilement classiques revisités et compositions originales. Un pianiste virtuose\, un saxophoniste ébouriffant et un batteur de génie offrent des improvisations audacieuses et des arrangements élégants. Ambiance nostalgique et innovante garantie ! 🎶 \nLe Tommy Roots Trio est un groupe de jazz moderne qui explore les racines du genre tout en y apportant une touche contemporaine. Composé d’un pianiste virtuose\, d’un saxophoniste ébouriffant et d’un batteurde genie\, ce trio se distingue par ses improvisations audacieuses et ses arrangements élégants. Leur répertoire mêle des classiques du jazz revisités à des compositions originales\, offrant une ambiance à la fois nostalgique et innovante. \nProkor Burlhak : sax\nMathieu Meyer : piano\nThomas Racine : batterie
URL:https://lemelville.fr/accueil/evenements/tommy-roots-trio-4/
LOCATION:Le Melville\, 28 Rue Jean Mermoz\, Paris\, 75008\, France
CATEGORIES:Jazz,Swing
ATTACH;FMTTYPE=image/png:https://lemelville.fr/wp-content/uploads/2026/01/Tommy-Roots-Trio-Affiche-Nf.png
END:VEVENT
BEGIN:VEVENT
DTSTART;TZID=Europe/Paris:20260310T203000
DTEND;TZID=Europe/Paris:20260310T230000
DTSTAMP:20260421T164624
CREATED:20260105T114932Z
LAST-MODIFIED:20260105T114932Z
UID:10001106-1773174600-1773183600@lemelville.fr
SUMMARY:Noé Huchard Solo
DESCRIPTION:Noé Huchard\, pianiste émergent du jazz français\, impressionne avec son dernier album “Young and Fine”. Lauréat du Concours de piano Jazz Chorus 2021\, il brille aux côtés de grands noms tels que Kurt Rosenwinkel. Une révélation à suivre de très près ! \nNoé Huchard s’impose comme l’un des pianistes les plus prometteurs de la nouvelle génération du jazz français. Formé au CNSM de Paris\, il remporte en 2021 le Concours de piano Jazz Chorus à Lausanne\, présidé par Martial Solal. Il s’est produit aux côtés de musiciens tels que Kurt Rosenwinkel\, Rick Margitza ou Stéphane Belmondo.\nNouvel album : “Young and Fine” à déguster ! \nNoé Huchard : piano
URL:https://lemelville.fr/accueil/evenements/noe-huchard-solo-2/
LOCATION:Le Melville\, 28 Rue Jean Mermoz\, Paris\, 75008\, France
CATEGORIES:Jazz
ATTACH;FMTTYPE=image/png:https://lemelville.fr/wp-content/uploads/2026/01/Noe-Huchard-Solo-Affiche-NF.png
END:VEVENT
BEGIN:VEVENT
DTSTART;TZID=Europe/Paris:20260312T203000
DTEND;TZID=Europe/Paris:20260312T230000
DTSTAMP:20260421T164624
CREATED:20260206T152524Z
LAST-MODIFIED:20260206T152524Z
UID:10001122-1773347400-1773356400@lemelville.fr
SUMMARY:Very Blue Trio
DESCRIPTION:Le compositeur créatif et contrebassiste talentueux Jean Bardy ce soir pour un concert en trio.\nEnergie\, swing et délicatesse au programme ! \nDix ans après la sortie du CD “Very Blue” \, enregistré en duo avec le pianiste hongrois Emil Spanyi\,  le contrebassiste et compositeur Jean Bardy revient avec son tout nouvel album “Au Café des Anges”.\nUn album très personnel enregistré avec un invité de marque\, l’accordéoniste Marc Berthoumieux\, mêlant subtilement au jazz les premières influences rock-folk ainsi que les accents bluesy de Jean Bardy.\nAu programme : énergie\, swing et délicatesse. \nJean Bardy : contrebasse\nEric Lohrer : guitare\nEmil Spanyi : piano
URL:https://lemelville.fr/accueil/evenements/very-blue-trio/
LOCATION:Le Melville\, 28 Rue Jean Mermoz\, Paris\, 75008\, France
CATEGORIES:Jazz
ATTACH;FMTTYPE=image/png:https://lemelville.fr/wp-content/uploads/2026/02/Jean-Bardy-Trio-260312-Affiche-NF.png
END:VEVENT
BEGIN:VEVENT
DTSTART;TZID=Europe/Paris:20260317T203000
DTEND;TZID=Europe/Paris:20260317T230000
DTSTAMP:20260421T164624
CREATED:20260115T170400Z
LAST-MODIFIED:20260115T170400Z
UID:10001118-1773779400-1773788400@lemelville.fr
SUMMARY:Kim Bernard Solo
DESCRIPTION:Kim Bernard\, virtuose du piano classique imprégné de jazz\, remporte en 2022 la Fondation Gautier Capuçon. Son premier album\, chez Warner Classics/Erato\, révèle un savoureux mélange de Chopin\, Debussy et Ravel. Métissant le classicisme français et le swing de jazz\, il promet au Melville un voyage inoubliable. \nPianiste classique formé auprès de nombreux grands maîtres comme Florent Boffard\, Laurent Cabasso ou encore Rena Sherehesvkaya\, et tout récemment auprès du célèbre pianiste de jazz Yaron Herman\, Kim Bernard devient en 2022 le premier lauréat de la Fondation Gautier Capuçon\, et enregistre à ce titre son premier disque dédié à Chopin\, Debussy et Ravel pour Warner Classics/Erato.\nIl est en parallèle un improvisateur passionné\, et a cultivé très intensément la pratique du jazz\, dont il fait part belle dans son approche artistique.\nSon identité musicale est le fruit d’un métissage entre son exploration du grand répertoire français du début du XXème siècle  et un large camaïeu de jazz\,  délicatement diapré entre Errol Garner\, Art Tatum\, Oscar Peterson et bien d’autres… \nKim Bernard : piano
URL:https://lemelville.fr/accueil/evenements/kim-bernard-solo-2/
LOCATION:Le Melville\, 28 Rue Jean Mermoz\, Paris\, 75008\, France
CATEGORIES:Jazz
ATTACH;FMTTYPE=image/png:https://lemelville.fr/wp-content/uploads/2026/01/Kim-Bernard-Solo-Affiche-NF.png
END:VEVENT
END:VCALENDAR