BEGIN:VCALENDAR
VERSION:2.0
PRODID:-//Le Melville - ECPv6.15.17//NONSGML v1.0//EN
CALSCALE:GREGORIAN
METHOD:PUBLISH
X-ORIGINAL-URL:https://lemelville.fr/accueil
X-WR-CALDESC:Évènements pour Le Melville
REFRESH-INTERVAL;VALUE=DURATION:PT1H
X-Robots-Tag:noindex
X-PUBLISHED-TTL:PT1H
BEGIN:VTIMEZONE
TZID:Europe/Paris
BEGIN:DAYLIGHT
TZOFFSETFROM:+0100
TZOFFSETTO:+0200
TZNAME:CEST
DTSTART:20250330T010000
END:DAYLIGHT
BEGIN:STANDARD
TZOFFSETFROM:+0200
TZOFFSETTO:+0100
TZNAME:CET
DTSTART:20251026T010000
END:STANDARD
BEGIN:DAYLIGHT
TZOFFSETFROM:+0100
TZOFFSETTO:+0200
TZNAME:CEST
DTSTART:20260329T010000
END:DAYLIGHT
BEGIN:STANDARD
TZOFFSETFROM:+0200
TZOFFSETTO:+0100
TZNAME:CET
DTSTART:20261025T010000
END:STANDARD
BEGIN:DAYLIGHT
TZOFFSETFROM:+0100
TZOFFSETTO:+0200
TZNAME:CEST
DTSTART:20270328T010000
END:DAYLIGHT
BEGIN:STANDARD
TZOFFSETFROM:+0200
TZOFFSETTO:+0100
TZNAME:CET
DTSTART:20271031T010000
END:STANDARD
END:VTIMEZONE
BEGIN:VEVENT
DTSTART;TZID=Europe/Paris:20260421T203000
DTEND;TZID=Europe/Paris:20260421T230000
DTSTAMP:20260421T151841
CREATED:20260301T075537Z
LAST-MODIFIED:20260301T075537Z
UID:10001151-1776803400-1776812400@lemelville.fr
SUMMARY:Manuel Anoyvega solo
DESCRIPTION:Manuel Anovega fusionne cool jazz et salsa. \nManuel Anovega\, légende du jazz cubain\, crée un pont entre Cuba et Paris\, entre jazz cool et salsa rythmée. Une leçon d’un vieux sage nourrit par une carrière d’accompagnateur d’artistes prestigieux. \nManuel est le pont qui traverse l’Atlantique et unit son Cuba natal à sa France d’adoption et\, ce soir en solo\, développe cette sensibilité qui parle à chacun au plus profond de son être. \nManuel Anoy : piano
URL:https://lemelville.fr/accueil/evenements/manuel-anoyvega-solo/
LOCATION:Le Melville\, 28 Rue Jean Mermoz\, Paris\, 75008\, France
CATEGORIES:Jazz,Latin Jazz
ATTACH;FMTTYPE=image/png:https://lemelville.fr/wp-content/uploads/2026/03/Manuel-Anoyvega-Solo-Affiche-NF.png
END:VEVENT
BEGIN:VEVENT
DTSTART;TZID=Europe/Paris:20260425T210000
DTEND;TZID=Europe/Paris:20260425T233000
DTSTAMP:20260421T151841
CREATED:20260301T081716Z
LAST-MODIFIED:20260301T081716Z
UID:10001154-1777150800-1777159800@lemelville.fr
SUMMARY:Anastasia 4tet
DESCRIPTION:Plonge dans l’univers envoûtant du quartet vocal guidé par la voix chaude d’Anastasia. Inspiré par le jazz du Great American Songbook\, le groupe revisite les standards avec créativité et modernité\, entre Ella Fitzgerald et Chet Baker. Un cocktail envoûtant d’énergie et d’intimité musicale. \nGuidé par la voix chaude et profonde d’Anastasia\, le quartet puise son inspiration\, son énergie et son intimité dans la tradition du jazz vocal et les textes envoutants du Great American Songbook. Avec des influences allant de Ella Fitzgerald à Samara Joy\, en passant par Chet Baker\, Sarah Vaughan ou Franck Sinatra\, les musiciens du quartet présentent des arrangements modernes de standards dans lesquels on reconnaît leur créativité et leur amour de l’orchestration. \nGautier Montegu  : piano\nGuillaume Leguerinel : batterie\nRayan Besançon  : contrebasse\nAnastasia Konstantinidou  : chant
URL:https://lemelville.fr/accueil/evenements/anastasia-4tet-4/
LOCATION:Le Melville\, 28 Rue Jean Mermoz\, Paris\, 75008\, France
CATEGORIES:Jazz,Soul
ATTACH;FMTTYPE=image/png:https://lemelville.fr/wp-content/uploads/2026/03/Anastasia-4tet-Affiche-NF.png
END:VEVENT
BEGIN:VEVENT
DTSTART;TZID=Europe/Paris:20260428T203000
DTEND;TZID=Europe/Paris:20260428T230000
DTSTAMP:20260421T151841
CREATED:20260301T081859Z
LAST-MODIFIED:20260301T081859Z
UID:10001155-1777408200-1777417200@lemelville.fr
SUMMARY:Kim Bernard Solo
DESCRIPTION:Kim Bernard\, virtuose du piano classique imprégné de jazz\, remporte en 2022 la Fondation Gautier Capuçon. Son premier album\, chez Warner Classics/Erato\, révèle un savoureux mélange de Chopin\, Debussy et Ravel. Métissant le classicisme français et le swing de jazz\, il promet au Melville un voyage inoubliable. \nPianiste classique formé auprès de nombreux grands maîtres comme Florent Boffard\, Laurent Cabasso ou encore Rena Sherehesvkaya\, et tout récemment auprès du célèbre pianiste de jazz Yaron Herman\, Kim Bernard devient en 2022 le premier lauréat de la Fondation Gautier Capuçon\, et enregistre à ce titre son premier disque dédié à Chopin\, Debussy et Ravel pour Warner Classics/Erato.\nIl est en parallèle un improvisateur passionné\, et a cultivé très intensément la pratique du jazz\, dont il fait part belle dans son approche artistique.\nSon identité musicale est le fruit d’un métissage entre son exploration du grand répertoire français du début du XXème siècle  et un large camaïeu de jazz\,  délicatement diapré entre Errol Garner\, Art Tatum\, Oscar Peterson et bien d’autres… \nKim Bernard : piano
URL:https://lemelville.fr/accueil/evenements/kim-bernard-solo-3/
LOCATION:Le Melville\, 28 Rue Jean Mermoz\, Paris\, 75008\, France
CATEGORIES:Jazz
ATTACH;FMTTYPE=image/png:https://lemelville.fr/wp-content/uploads/2026/03/Kim-Bernard-Solo-Affiche-NF.png
END:VEVENT
BEGIN:VEVENT
DTSTART;TZID=Europe/Paris:20260526T203000
DTEND;TZID=Europe/Paris:20260526T230000
DTSTAMP:20260421T151841
CREATED:20260325T160601Z
LAST-MODIFIED:20260325T160601Z
UID:10001179-1779827400-1779836400@lemelville.fr
SUMMARY:Noé Huchard Solo
DESCRIPTION:Noé Huchard\, pianiste émergent du jazz français\, impressionne avec son dernier album “Young and Fine”. Lauréat du Concours de piano Jazz Chorus 2021\, il brille aux côtés de grands noms tels que Kurt Rosenwinkel. Une révélation à suivre de très près ! \nNoé Huchard s’impose comme l’un des pianistes les plus prometteurs de la nouvelle génération du jazz français. Formé au CNSM de Paris\, il remporte en 2021 le Concours de piano Jazz Chorus à Lausanne\, présidé par Martial Solal. Il s’est produit aux côtés de musiciens tels que Kurt Rosenwinkel\, Rick Margitza ou Stéphane Belmondo.\nNouvel album : “Young and Fine” à déguster ! \nNoé Huchard : piano
URL:https://lemelville.fr/accueil/evenements/noe-huchard-solo-3/
LOCATION:Le Melville\, 28 Rue Jean Mermoz\, Paris\, 75008\, France
CATEGORIES:Jazz
ATTACH;FMTTYPE=image/png:https://lemelville.fr/wp-content/uploads/2026/03/Noe-Huchard-Solo-Affiche-NF.png
END:VEVENT
BEGIN:VEVENT
DTSTART;TZID=Europe/Paris:20260527T203000
DTEND;TZID=Europe/Paris:20260527T230000
DTSTAMP:20260421T151841
CREATED:20260120T125406Z
LAST-MODIFIED:20260120T125406Z
UID:10001120-1779913800-1779922800@lemelville.fr
SUMMARY:Fred Nardin Trio
DESCRIPTION:Fred Nardin\, maître incontesté du jazz parisien\, brille au piano avec une intensité rare. Lauréat prestigieux\, cofondateur d’un Big Band épique\, arrangeur talentueux pour Pascal Obispo\, il enchante avec son Trio[+] virtuose. Accompagné de Viktor Nyberg et Romain Sarron\, \nSur la scène Jazz parisienne\, Fred Nardin impose son piano avec une intensité rare. Lauréat du Django Reinhardt 2016 de l’Académie du Jazz\, cofondateur de l’Amazing Keystone Big Band\, orchestre récompensé d’une Victoire de la Musique et sideman recherché (Cécile McLorin Salvant\, Veronica Swift\, Leon Parker\, Stefano Di Battista)\, il signe également la réalisation et les arrangements des derniers albums de Pascal Obispo\, dont il est le directeur musical sur scène.\nPour cette date exceptionnelle\, il présente Trio [+]\, un opus encensé par la critique\, en compagnie de Viktor Nyberg à la contrebasse et Romain Sarron à la batterie.Ensemble\, ces trois musiciens offrent une musique ancrée dans la tradition du jazz tout en explorant des horizons contemporains\, mêlant virtuosité\, interaction et créativité. \nFred Nardin : piano\nRomain Sarron : batterie\nViktor Nyberg : contrebasse
URL:https://lemelville.fr/accueil/evenements/fred-nardin-trio/
LOCATION:Le Melville\, 28 Rue Jean Mermoz\, Paris\, 75008\, France
CATEGORIES:Jazz
ATTACH;FMTTYPE=image/png:https://lemelville.fr/wp-content/uploads/2026/01/Fred-Nardin-Trio-260527-Affiche-NF.png
END:VEVENT
BEGIN:VEVENT
DTSTART;TZID=Europe/Paris:20260707T203000
DTEND;TZID=Europe/Paris:20260707T230000
DTSTAMP:20260421T151841
CREATED:20260420T102423Z
LAST-MODIFIED:20260420T102423Z
UID:10001212-1783456200-1783465200@lemelville.fr
SUMMARY:Anastasia 4tet
DESCRIPTION:Plongez dans l’univers envoûtant du quartet vocal guidé par la voix chaude d’Anastasia. Inspiré par le jazz du Great American Songbook\, le groupe revisite les standards avec créativité et modernité\, entre Ella Fitzgerald et Chet Baker. Un cocktail envoûtant d’énergie et d’intimité musicale. \nGuidé par la voix chaude et profonde d’Anastasia\, le quartet puise son inspiration\, son énergie et son intimité dans la tradition du jazz vocal et les textes envoutants du Great American Songbook. Avec des influences allant de Ella Fitzgerald à Samara Joy\, en passant par Chet Baker\, Sarah Vaughan ou Franck Sinatra\, les musiciens du quartet présentent des arrangements modernes de standards dans lesquels on reconnaît leur créativité et leur amour de l’orchestration. \nGautier Montegu  : piano\nRayan Besançon  : contrebasse\nAnastasia Konstantinidou  : chant\nPhilippe Maniez : batterie
URL:https://lemelville.fr/accueil/evenements/anastasia-4tet-5/
LOCATION:Le Melville\, 28 Rue Jean Mermoz\, Paris\, 75008\, France
CATEGORIES:Jazz,Soul
ATTACH;FMTTYPE=image/png:https://lemelville.fr/wp-content/uploads/2026/04/Anastasia-4tet-7-juillet-26-Affiche-NF.png
END:VEVENT
END:VCALENDAR