BEGIN:VCALENDAR
VERSION:2.0
PRODID:-//Le Melville - ECPv6.15.17//NONSGML v1.0//EN
CALSCALE:GREGORIAN
METHOD:PUBLISH
X-WR-CALNAME:Le Melville
X-ORIGINAL-URL:https://lemelville.fr/accueil
X-WR-CALDESC:Évènements pour Le Melville
REFRESH-INTERVAL;VALUE=DURATION:PT1H
X-Robots-Tag:noindex
X-PUBLISHED-TTL:PT1H
BEGIN:VTIMEZONE
TZID:Europe/Paris
BEGIN:DAYLIGHT
TZOFFSETFROM:+0100
TZOFFSETTO:+0200
TZNAME:CEST
DTSTART:20250330T010000
END:DAYLIGHT
BEGIN:STANDARD
TZOFFSETFROM:+0200
TZOFFSETTO:+0100
TZNAME:CET
DTSTART:20251026T010000
END:STANDARD
BEGIN:DAYLIGHT
TZOFFSETFROM:+0100
TZOFFSETTO:+0200
TZNAME:CEST
DTSTART:20260329T010000
END:DAYLIGHT
BEGIN:STANDARD
TZOFFSETFROM:+0200
TZOFFSETTO:+0100
TZNAME:CET
DTSTART:20261025T010000
END:STANDARD
BEGIN:DAYLIGHT
TZOFFSETFROM:+0100
TZOFFSETTO:+0200
TZNAME:CEST
DTSTART:20270328T010000
END:DAYLIGHT
BEGIN:STANDARD
TZOFFSETFROM:+0200
TZOFFSETTO:+0100
TZNAME:CET
DTSTART:20271031T010000
END:STANDARD
END:VTIMEZONE
BEGIN:VEVENT
DTSTART;TZID=Europe/Paris:20260606T210000
DTEND;TZID=Europe/Paris:20260606T233000
DTSTAMP:20260421T181550
CREATED:20260420T102629Z
LAST-MODIFIED:20260420T102629Z
UID:10001213-1780779600-1780788600@lemelville.fr
SUMMARY:Anaïs RAMOS
DESCRIPTION:Anais\, bercée par le rythme cubain\, débute sa carrière aux côtés de grands noms de la musique. De Cuba à Paris\, sa voix envoûtante conquiert le public. Elle mêle Timba et Soul avec passion\, tissant des liens entre la Caraïbe et l’Afrique. Une artiste à ne pas louper ! \nNée à la Havane\, c’est dans l’univers familial qu’Anais trouve la source de sa passion musicale\, bercée au rythme des boleros que lui chante sa grand-mère\, et du piano maternel qui résonne dans toute la maison. Fascinée depuis toute petite par les groupes du quartiers qui se produisent en face de chez elle\, le destin s’en mêle et elle est a son tour repérée par ceux qui l’ont tant fait rêver. C’est au côté de grands noms tels qu’Odelkis Reve\, El Cabo ou encore Chamiso que débute sa carrière\, et qu’elle se produira\, dans tout Cuba avec l’orchestre d’Arnaldo y su Talisman faisant aussi une découvert dans le monde du spectacle au sein de l’équipe d’Havana Night  \nLes rencontre artistiques l’amènent à découvrir l’Europe: après Luxembourg et l’Espagne\, Anaïs découvre la France\, et Paris\, la ville des lumières. Elle y fait la rencontre de son compatriote Yosvani Quiros\, avec lequel elle collaborera dans la célèbre formation Fiesta Cubana. Le charme de cette jeune femme à la voix soul et envoutante aura vite raison d’un public Parisien\, conquis. \nOn la retrouvera alors dans les grandes scènes parisiennes\, à Argenteuil\, au Backup ou encore au New Morning. D’autres artistes d’univers très différents décident alors de travailler avec cette chanteuse à la sensibilité a fleur de peau; des rencontres se créent\, métissées. De sa collaboration avec Laurent Hounsavi\, Anaïs retissera le lien entre la Caraïbe et l’Afrique\, et se produira à Hong Kong en 2010. \nEntre Timba et Soul\, laissez vous transporter par cette voix chaude et envoutante \nAnaïs Barrera Ramos : chant\nNicola Anoyvega : sax\nConrado Ferrin Rodriguez  : percussions\nNelson Palacios Rodriguez  : piano
URL:https://lemelville.fr/accueil/evenements/anais-ramos/
LOCATION:Le Melville\, 28 Rue Jean Mermoz\, Paris\, 75008\, France
CATEGORIES:Latin Bossa-Nova,Latin Jazz
ATTACH;FMTTYPE=image/png:https://lemelville.fr/wp-content/uploads/2026/04/Anais-Ramos-4tet-Affiche-NF.png
END:VEVENT
END:VCALENDAR