BEGIN:VCALENDAR
VERSION:2.0
PRODID:-//Le Melville - ECPv6.15.17//NONSGML v1.0//EN
CALSCALE:GREGORIAN
METHOD:PUBLISH
X-ORIGINAL-URL:https://lemelville.fr/accueil
X-WR-CALDESC:Évènements pour Le Melville
REFRESH-INTERVAL;VALUE=DURATION:PT1H
X-Robots-Tag:noindex
X-PUBLISHED-TTL:PT1H
BEGIN:VTIMEZONE
TZID:Europe/Paris
BEGIN:DAYLIGHT
TZOFFSETFROM:+0100
TZOFFSETTO:+0200
TZNAME:CEST
DTSTART:20240331T010000
END:DAYLIGHT
BEGIN:STANDARD
TZOFFSETFROM:+0200
TZOFFSETTO:+0100
TZNAME:CET
DTSTART:20241027T010000
END:STANDARD
BEGIN:DAYLIGHT
TZOFFSETFROM:+0100
TZOFFSETTO:+0200
TZNAME:CEST
DTSTART:20250330T010000
END:DAYLIGHT
BEGIN:STANDARD
TZOFFSETFROM:+0200
TZOFFSETTO:+0100
TZNAME:CET
DTSTART:20251026T010000
END:STANDARD
BEGIN:DAYLIGHT
TZOFFSETFROM:+0100
TZOFFSETTO:+0200
TZNAME:CEST
DTSTART:20260329T010000
END:DAYLIGHT
BEGIN:STANDARD
TZOFFSETFROM:+0200
TZOFFSETTO:+0100
TZNAME:CET
DTSTART:20261025T010000
END:STANDARD
END:VTIMEZONE
BEGIN:VEVENT
DTSTART;TZID=Europe/Paris:20250411T210000
DTEND;TZID=Europe/Paris:20250411T233000
DTSTAMP:20260426T012243
CREATED:20250227T121823Z
LAST-MODIFIED:20250227T121823Z
UID:10000806-1744405200-1744414200@lemelville.fr
SUMMARY:Paul Carr Project 4tet
DESCRIPTION:Paul Carr\, musicien de renom\, cumule les succès avec 10 enregistrements au top du classement Jazz Week. Son dernier opus\, le Paul Carr Legacy Quartet\, promet un festival musical avec des pointures comme Buster Williams et Lewis Nash. De la Maison-Blanche à la Jordanie\, ses performances enflamment le monde entier.  \nPaul a publié 10 enregistrements\, dont plusieurs ont atteint le top 10 du classement de Jazz Week. Son enregistrement le plus récent est le Paul Carr Legacy Quartet\, avec le grand bassiste Buster Williams\, le pianiste Bruce Barth et le célèbre batteur Lewis Nash. Paul Carr s’est produit dans le monde entier\, notamment en Amérique du Sud\, en Europe et au Moyen-Orient. Il a eu le grand honneur de se produire lors de nombreux événements privés organisés par le président Clinton et pour feu le roi Hussein et la reine Noir de Jordanie dans leur résidence d’Aqaba\, en Jordanie. Il dirige cinq formations : le Paul Carr Quartet\, qui présente les enregistrements de jazz traditionnel de Paul ; le Paul Carr Legacy Quartet\, qui réunit des musiciens de renom qu’il admire ; le Paul Carr Collective\, dans lequel Paul collabore avec divers musiciens pour présenter des compositions originales et des reprises arrangées par les membres ; le Carr-Keys\, une collaboration entre Paul Carr et Marshall Keys\, qui fusionne les styles de jazz traditionnel et contemporain afin de permettre au public de mieux apprécier les deux styles ; et enfin le Mid-Atlantic Jazz Orchestra\, qui célèbre le big band.  \nPaul Carr : sax\nGautier Montegu  : piano
URL:https://lemelville.fr/accueil/evenements/paul-carr-project-4tet/
LOCATION:Le Melville\, 28 Rue Jean Mermoz\, Paris\, 75008\, France
CATEGORIES:Jazz Standard,Latin Jazz
ATTACH;FMTTYPE=image/png:https://lemelville.fr/wp-content/uploads/2025/02/Paul-Carr-Project-Affiche-NF.png
END:VEVENT
BEGIN:VEVENT
DTSTART;TZID=Europe/Paris:20250412T210000
DTEND;TZID=Europe/Paris:20250412T233000
DTSTAMP:20260426T012243
CREATED:20250227T123239Z
LAST-MODIFIED:20250227T123239Z
UID:10000807-1744491600-1744500600@lemelville.fr
SUMMARY:Paul Carr Project 4tet
DESCRIPTION:Paul Carr\, saxophoniste de renom\, a sorti 10 albums à succès et performé autour du globe avec des musiciens de talent. De la Maison Blanche à la Jordanie\, il enflamme les scènes avec ses formations originales alliant jazz traditionnel et contemporain. Une carrière riche et vibrante à voir pour son passage en France ! \nPaul a publié 10 enregistrements\, dont plusieurs ont atteint le top 10 du classement de Jazz Week. Son enregistrement le plus récent est le Paul Carr Legacy Quartet\, avec le grand bassiste Buster Williams\, le pianiste Bruce Barth et le célèbre batteur Lewis Nash. Paul Carr s’est produit dans le monde entier\, notamment en Amérique du Sud\, en Europe et au Moyen-Orient. Il a eu le grand honneur de se produire lors de nombreux événements privés organisés par le président Clinton et pour feu le roi Hussein et la reine Noir de Jordanie dans leur résidence d’Aqaba\, en Jordanie. Il dirige cinq formations; le Paul Carr Quartet\, qui présente les enregistrements de jazz traditionnel de Paul ; le Paul Carr Legacy Quartet\, qui réunit des musiciens de renom qu’il admire ; le Paul Carr Collective\, dans lequel Paul collabore avec divers musiciens pour présenter des compositions originales et des reprises arrangées par les membres ; le Carr-Keys\, une collaboration entre Paul Carr et Marshall Keys\, qui fusionne les styles de jazz traditionnel et contemporain afin de permettre au public de mieux apprécier les deux styles ; et enfin le Mid-Atlantic Jazz Orchestra\, qui célèbre le big band.  \nPaul Carr : sax\nMathieu Meyer : piano
URL:https://lemelville.fr/accueil/evenements/paul-carr-project-4tet-2/
LOCATION:Le Melville\, 28 Rue Jean Mermoz\, Paris\, 75008\, France
CATEGORIES:Jazz Standard,Latin Jazz
ATTACH;FMTTYPE=image/png:https://lemelville.fr/wp-content/uploads/2025/02/Paul-Carr-Project-Affiche-NF-1.png
END:VEVENT
BEGIN:VEVENT
DTSTART;TZID=Europe/Paris:20250424T203000
DTEND;TZID=Europe/Paris:20250424T230000
DTSTAMP:20260426T012243
CREATED:20250128T085059Z
LAST-MODIFIED:20250128T085059Z
UID:10000773-1745526600-1745535600@lemelville.fr
SUMMARY:Sara Miette Trio
DESCRIPTION:Un trio dynamique de la scène parisienne fusionne samba\, choro et mpb avec passion. Sara envoûte avec sa voix\, Edouard enchante au piano et Yoorim enivre à la flûte. Une explosion musicale à ne pas rater !  \nRéunis autour de leur amour de la musique brésilienne\, ces trois jeunes musiciens de la scène parisienne explorent ensemble le répertoire du samba\, choro et mpb. Forts de leurs voyages au Brésil\, on retrouve le mélodique Edouard Ravelomanantsoa au piano ; la flûtiste prolifique Yoorim Won ; et Sara Miette\, chanteuse énergique et pleine de fraicheur (Télérama). Une équipe dynamique de musiciens de la nouvelle scène à ne pas manquer ! \nSara Miette : chant\nEdouard Ravelomanantsoa : piano\nYoorim Won : flute
URL:https://lemelville.fr/accueil/evenements/sara-miette-trio/
LOCATION:Le Melville\, 28 Rue Jean Mermoz\, Paris\, 75008\, France
CATEGORIES:Latin Jazz
ATTACH;FMTTYPE=image/png:https://lemelville.fr/wp-content/uploads/2025/01/Sara-Miette-Affiche-NF.png
END:VEVENT
BEGIN:VEVENT
DTSTART;TZID=Europe/Paris:20250426T210000
DTEND;TZID=Europe/Paris:20250426T233000
DTSTAMP:20260426T012243
CREATED:20250128T085400Z
LAST-MODIFIED:20250128T085400Z
UID:10000775-1745701200-1745710200@lemelville.fr
SUMMARY:Nancy Murillo 4tet
DESCRIPTION:Plongée dans l’univers musical en Colombie avant de conquérir l’Europe\, Nancy Murillo enflamme les festivals avec Rico Changuï et son titre de “Sonera Moderna”. Accompagnée de talents comme Frédéric\, Sébastien et Richard\, elle réinvente la salsa et le folklore colombien. 🎶 \nAprès des études de chant\, de danse et d’art dramatique et des collaborations avec les groupes Bahia et Azul Amazonas dans son pays natal la Colombie\, Nancy Murillo arrive en Europe en 1993 où elle met depuis le feu à de nombreux festivals et soirées de musiques latines. Avec sa formation Rico Changuï\, Nancu Murillo autant inspiré par la reine de la salsa Celia Cruz que par Lupe\, concrétise son caractère de « Sonera Moderna » en interprétant un vaste répertoire de musiques latines et de folklore traditionnel colombien. \nNancy Murillo : Chant\nFrédéric Locarni : piano\nSébastien Fauqué : percussions\nRichard Nicolas : guitare
URL:https://lemelville.fr/accueil/evenements/nancy-murillo-4tet/
LOCATION:Le Melville\, 28 Rue Jean Mermoz\, Paris\, 75008\, France
CATEGORIES:Latin Jazz
ATTACH;FMTTYPE=image/png:https://lemelville.fr/wp-content/uploads/2025/01/Nancy-Murillo-Quartet-Affiche-NF.png
END:VEVENT
BEGIN:VEVENT
DTSTART;TZID=Europe/Paris:20250429T203000
DTEND;TZID=Europe/Paris:20250429T230000
DTSTAMP:20260426T012243
CREATED:20250210T130631Z
LAST-MODIFIED:20250210T130631Z
UID:10000779-1745958600-1745967600@lemelville.fr
SUMMARY:Sergio Gruz trio
DESCRIPTION:Un trio jazz enflammé mélangeant le new bop aux influences latino\, coloré et bien construit. Sergio Gruz au piano\, virtuose mélodique\, Gabriel Midon à la contrebasse et Fabrice Moreau à la batterie. Une explosion de plaisir musical à ne pas manquer ! 🎶🔥 \n« … un trio jazz\, dans une lignée new bop\, ouvert aux influences du folklore et de la chanson latino-américains\, un répertoire fort coloré\, contrasté et bien construit. Doté d’un sens mélodique manifeste… » – JazzMan\n« Gruz est un pianiste expressif qui possède un sens indubitable de la mélodie et de l’harmonie\, une grande vélocité de la main droite\, un peu à la façon de Michel Petrucciani\, une main gauche qui ponctue parfois par des accords ou par des contrepoints… Une musique du plaisir… » – JazzHot\n« On est frappé par une main gauche très présente voire prédominante\, alors que la droite est parfois nette et articulée\, parfois plus ornementale » – JazzMagazine\nTout est dit ! \nSergio Gruz : piano\nGabriel Midon : contrebasse\nFabrice Moreau : batterie
URL:https://lemelville.fr/accueil/evenements/sergio-gruz-trio/
LOCATION:Le Melville\, 28 Rue Jean Mermoz\, Paris\, 75008\, France
CATEGORIES:Latin Jazz
ATTACH;FMTTYPE=image/png:https://lemelville.fr/wp-content/uploads/2025/02/Sergio-Gruz-250429-Affiche-NF.png
END:VEVENT
END:VCALENDAR