BEGIN:VCALENDAR
VERSION:2.0
PRODID:-//Le Melville - ECPv6.15.17//NONSGML v1.0//EN
CALSCALE:GREGORIAN
METHOD:PUBLISH
X-ORIGINAL-URL:https://lemelville.fr/accueil
X-WR-CALDESC:Évènements pour Le Melville
REFRESH-INTERVAL;VALUE=DURATION:PT1H
X-Robots-Tag:noindex
X-PUBLISHED-TTL:PT1H
BEGIN:VTIMEZONE
TZID:Europe/Paris
BEGIN:DAYLIGHT
TZOFFSETFROM:+0100
TZOFFSETTO:+0200
TZNAME:CEST
DTSTART:20240331T010000
END:DAYLIGHT
BEGIN:STANDARD
TZOFFSETFROM:+0200
TZOFFSETTO:+0100
TZNAME:CET
DTSTART:20241027T010000
END:STANDARD
BEGIN:DAYLIGHT
TZOFFSETFROM:+0100
TZOFFSETTO:+0200
TZNAME:CEST
DTSTART:20250330T010000
END:DAYLIGHT
BEGIN:STANDARD
TZOFFSETFROM:+0200
TZOFFSETTO:+0100
TZNAME:CET
DTSTART:20251026T010000
END:STANDARD
BEGIN:DAYLIGHT
TZOFFSETFROM:+0100
TZOFFSETTO:+0200
TZNAME:CEST
DTSTART:20260329T010000
END:DAYLIGHT
BEGIN:STANDARD
TZOFFSETFROM:+0200
TZOFFSETTO:+0100
TZNAME:CET
DTSTART:20261025T010000
END:STANDARD
END:VTIMEZONE
BEGIN:VEVENT
DTSTART;TZID=Europe/Paris:20250517T210000
DTEND;TZID=Europe/Paris:20250517T233000
DTSTAMP:20260425T235637
CREATED:20250228T100731Z
LAST-MODIFIED:20250228T100731Z
UID:10000813-1747515600-1747524600@lemelville.fr
SUMMARY:Griffith-Santos Jazz Samba Band
DESCRIPTION:Oliver Griffith et Caio Marcio Santos fusionnent les rythmes brésiliens et le jazz latino avec brio ! Accompagnés par le talentueux Miguel Couto et Nicola Sabato\, ils offrent une expérience musicale enivrante. Des artistes aux parcours fascinants à découvrir sur Spotify !  \n Le saxophoniste/flutiste américain Oliver Griffith et le guitariste virtuose brésilien Caio Marco Santos présentent un programme de sambas\, bossa novas\, choros\, et jazz latino dans la tradition de Stan Getz avec Charlie Byrd\, Luis Bonfa\, Joao Gilberto\, et Antonio Carlos Jobim. Ils seront accompagnés par le percussionniste brésilien Miguel Couto et le reconnu bassiste Franco-Italien Nicola Sabato.  \nOliver Griffith\, qui a étudié le jazz et l’ethnomusicologie\, a organisé des groupes de jazz et a joué dans des festivals en Afrique\, en Amérique du Sud\, et en Europe. Il a été soliste avec des stars internationales comme Franco de Vita et Mary Wilson and the Supreme\, a enregistré un album avec les reconnus musiciens Dave Friedman et Joe Cohn\, et a joué sur trois autres.  \n  \nhttps://www.griffithjazz.com/  \nCaio Marcio Santos\, membre d’une famille éminente de musiciens\, est diplômé en guitare et composition classique au Brésil ou il a joué avec des stars internationales telles que Maria Béthania\, Yamandú Costa\, Hamilton de Holanda\, et Guinga\, entre autres.  Il a remporté des prix de composition et écrit régulièrement pour des films. Il a produit deux de ses propres albums et a joué sur plusieurs autres.   \n  \nhttps://linkaband.com/caio-marcio-santos  \nNicola Sabato joue régulièrement avec les meilleurs jazzmen français tels que Pierrick Pedron\, Dany Doriz\, Fabien Mary\, Marc Fosset\, et Michel Sardaby et\, lors de leurs tournés en France\, et appelé par les stars américaines tel que Harry Allen\, Jeff Hamilton\, Kirk Lightsey\, Craig Handy\, Ted Curson\, et Doug Raney. Il a joué dans la plupart des grands festivals de jazz en France et a signé cinq albums.   \n  \nMiguel Couto est diplômé en percussion symphonique au Brésil ou il a accompagné des artistes populaires tels que Adriana Calcanhoto\, Luiz Melodia\, Jards Macalé\, et Márcio Faraco. Il a joué comme percussionniste symphonique avec les plus grands orchestres du pays et a composé pour des clients tels que Google\, Nike\, Petrobras\, et TV Globo.  \nOliver Griffith : sax\nCaïo Marcio : guitare\nMiguel Brigido Brandao Couto : batterie\nNicola Sabato : contrebasse
URL:https://lemelville.fr/accueil/evenements/griffith-santos-jazz-samba-band/
LOCATION:Le Melville\, 28 Rue Jean Mermoz\, Paris\, 75008\, France
CATEGORIES:Latin Jazz,Samba
ATTACH;FMTTYPE=image/png:https://lemelville.fr/wp-content/uploads/2025/02/Griffith-Santos-Jazz-Samba-Affiche-NF.png
END:VEVENT
BEGIN:VEVENT
DTSTART;TZID=Europe/Paris:20250522T203000
DTEND;TZID=Europe/Paris:20250522T230000
DTSTAMP:20260425T235637
CREATED:20250227T084551Z
LAST-MODIFIED:20250227T084551Z
UID:10000800-1747945800-1747954800@lemelville.fr
SUMMARY:Gassin Sabato Couto Trio
DESCRIPTION:Ce trio fusionne brillamment ces influences pour créer une musique envoûtante\, élégante et pleine de virtuosité. \nLe trio musical du pianiste Daniel Gassin\, du bassiste Nicola Sabato et du batteur Miguel Couto mène une recherche passionnante sur les rythmes à l’origine du jazz et des rythmes brésiliens. Leur musique fusionne avec élégance et virtuosité ces influences pour créer un son unique et captivant.  \nDaniel Gassin : piano\nNicola Sabato : contrebasse\nMiguel Brigido Brandao Couto : batterie
URL:https://lemelville.fr/accueil/evenements/gassin-sabato-couto-trio/
LOCATION:Le Melville\, 28 Rue Jean Mermoz\, Paris\, 75008\, France
CATEGORIES:Jazz Standard,Latin Jazz
ATTACH;FMTTYPE=image/png:https://lemelville.fr/wp-content/uploads/2025/02/GSC-Trio-Affiche-NV.png
END:VEVENT
BEGIN:VEVENT
DTSTART;TZID=Europe/Paris:20250531T210000
DTEND;TZID=Europe/Paris:20250531T233000
DTSTAMP:20260425T235637
CREATED:20250321T145834Z
LAST-MODIFIED:20250321T145834Z
UID:10000827-1748725200-1748734200@lemelville.fr
SUMMARY:Virginia Cambuci & Les Tambaquis
DESCRIPTION:Un quintet envoûtant mélange musique brésilienne et chansons françaises\, célébrant l’harmonie entre deux cultures. Un projet passionnant pour sublimer l’année du Brésil en France en 2025. Un répertoire unique qui enchantera le public du Melville. \nIl s’agit d’un quintet qui met en lumière mes nouvelles compositions\, alliant musique brésilienne et chansons en français\, et qui reflète ma passion pour ces deux pays. Ce projet s’inscrit parfaitement dans le cadre de l’année du Brésil en France en 2025\, une occasion idéale pour mettre en avant les richesses musicales et poétiques de cette double influence. \nNotre formation propose un répertoire inédit\, qui saura séduire le public du Melville. \nVirginia Cambuci : guitare\, chant\nGerson Saeki : basse\, chant\nLaurent Avenard : guitare\nWilliam Lecomte : piano\nLuis Cavani : batterie\, chant
URL:https://lemelville.fr/accueil/evenements/virginia-cambuci-les-tambaquis/
LOCATION:Le Melville\, 28 Rue Jean Mermoz\, Paris\, 75008\, France
CATEGORIES:Latin Bossa-Nova,Latin Jazz
ATTACH;FMTTYPE=image/png:https://lemelville.fr/wp-content/uploads/2025/03/Bossa-Cambuci-Affiche-NF-V2.png
END:VEVENT
END:VCALENDAR