BEGIN:VCALENDAR
VERSION:2.0
PRODID:-//Le Melville - ECPv6.15.17//NONSGML v1.0//EN
CALSCALE:GREGORIAN
METHOD:PUBLISH
X-WR-CALNAME:Le Melville
X-ORIGINAL-URL:https://lemelville.fr/accueil
X-WR-CALDESC:Évènements pour Le Melville
REFRESH-INTERVAL;VALUE=DURATION:PT1H
X-Robots-Tag:noindex
X-PUBLISHED-TTL:PT1H
BEGIN:VTIMEZONE
TZID:Europe/Paris
BEGIN:DAYLIGHT
TZOFFSETFROM:+0100
TZOFFSETTO:+0200
TZNAME:CEST
DTSTART:20240331T010000
END:DAYLIGHT
BEGIN:STANDARD
TZOFFSETFROM:+0200
TZOFFSETTO:+0100
TZNAME:CET
DTSTART:20241027T010000
END:STANDARD
BEGIN:DAYLIGHT
TZOFFSETFROM:+0100
TZOFFSETTO:+0200
TZNAME:CEST
DTSTART:20250330T010000
END:DAYLIGHT
BEGIN:STANDARD
TZOFFSETFROM:+0200
TZOFFSETTO:+0100
TZNAME:CET
DTSTART:20251026T010000
END:STANDARD
BEGIN:DAYLIGHT
TZOFFSETFROM:+0100
TZOFFSETTO:+0200
TZNAME:CEST
DTSTART:20260329T010000
END:DAYLIGHT
BEGIN:STANDARD
TZOFFSETFROM:+0200
TZOFFSETTO:+0100
TZNAME:CET
DTSTART:20261025T010000
END:STANDARD
END:VTIMEZONE
BEGIN:VEVENT
DTSTART;TZID=Europe/Paris:20251018T210000
DTEND;TZID=Europe/Paris:20251018T233000
DTSTAMP:20260425T164725
CREATED:20250714T134450Z
LAST-MODIFIED:20250904T104505Z
UID:10000956-1760821200-1760830200@lemelville.fr
SUMMARY:Arlet Feuillard Caribbean 4tet - Jazz sur Seine 2025
DESCRIPTION:Le talentueux Arlet Feuillard\, pianiste et percussionniste guadeloupéen\, enflamme la scène jazz parisienne aux côtés d’artistes de renom. Retrouvez-le au Melville dans une formation inédite aux influences caribéennes\, accompagné de Elvin Bironien\, Laurent Rinna et Andy Béral. \nOriginaire de la Guadeloupe et basé à Paris\, le pianiste et percussionniste Arlet Feuillard est très présent sur la scène jazz parisienne et joue aux côtés d’artistes reconnus comme Naïka\, Sonny Troupé ou encore Max Cilla. On le retrouve également dans des groupes tels que Sapocaya et Rumba Paname.\nCette fois-ci au piano\, il revient au Melville pour vous présenter une formation inédite.\nAccompagné de ses comparses Elvin Bironien (basse)\, Laurent Rinna (percussions) et Andy Bérald (batterie)\, il vous proposera un programme musical issu de ses influences Caribéennes.\nEntre compositions et classiques du répertoire antillais\, laissez-vous embarquer le temps d’une soirée dans son univers haut en couleurs. \nArlet Feuillard : piano\nAndy Berald Catelo : batterie\nElvin Bironien : basse\nLaurent Rinna : tambour bélé
URL:https://lemelville.fr/accueil/evenements/arlet-feuillard-caribbean-4tet/
LOCATION:Le Melville\, 28 Rue Jean Mermoz\, Paris\, 75008\, France
CATEGORIES:Latin Jazz
ATTACH;FMTTYPE=image/png:https://lemelville.fr/wp-content/uploads/2025/07/Arlet-Feuillard-Carabbean-4tet-Affiche-NF.png
END:VEVENT
BEGIN:VEVENT
DTSTART;TZID=Europe/Paris:20251025T210000
DTEND;TZID=Europe/Paris:20251025T233000
DTSTAMP:20260425T164725
CREATED:20250926T132609Z
LAST-MODIFIED:20250926T132609Z
UID:10000994-1761426000-1761435000@lemelville.fr
SUMMARY:Virginia Cambuci & Les Tambaquis
DESCRIPTION:Viens découvrir la Bossa Nova\, le jazz brésilien\, avec les chefs-d’œuvre de João Gilberto\, Antônio Carlos Jobim et d’autres compositeurs emblématiques. Virginia Cambuci\, musicienne brésilienne\, te transporte avec piano et guitare dans un monde de douceur et de splendeur musicale. \nDans la sélection délicate et difﬁcile d’un répertoire véritablement brésilien\,  les standards ne sont pas les seuls à faire partie de ce riche répertoire. La Bossa Nova étant reconnue comme  le jazz brésilien\, les plus belles œuvres de João Gilberto\, Antônio Carlos Jobim\, Carlos Lyra\, Dorival Caymmi\, Baden Powell et entre autres compositeurs de cette musique unique ne peuvent être  oubliées.   \nPour cette occasion\, le piano et la guitare sont les outils choisis pour interpréter la beauté de la musique brésilienne avec douceur et resplendissance.   \nVirginia Cambuci\, née au Brésil\, musicienne\, compositrice et chanteuse\, l’artiste a partagé la scène avec de grands musiciens tels que : Philippe Powell\, Carlinhos Patriolino\, Tito Freitas et d’autres.\n   \n   \nAna Virginia Oliveira Pimentel : chant\, guitare\nGerson Saeki : basse\, chant\nLaurent Avenard : guitare\nWilliam Lecomte : piano\nLuis Cavani : batterie\, chant
URL:https://lemelville.fr/accueil/evenements/virginia-cambuci-les-tambaquis-2/
LOCATION:Le Melville\, 28 Rue Jean Mermoz\, Paris\, 75008\, France
CATEGORIES:Latin Bossa-Nova,Latin Jazz
ATTACH;FMTTYPE=image/png:https://lemelville.fr/wp-content/uploads/2025/09/Bossa-Cambuci-Affiche-NF-V2-1.png
END:VEVENT
END:VCALENDAR