BEGIN:VCALENDAR
VERSION:2.0
PRODID:-//Le Melville - ECPv6.15.17//NONSGML v1.0//EN
CALSCALE:GREGORIAN
METHOD:PUBLISH
X-WR-CALNAME:Le Melville
X-ORIGINAL-URL:https://lemelville.fr/accueil
X-WR-CALDESC:Évènements pour Le Melville
REFRESH-INTERVAL;VALUE=DURATION:PT1H
X-Robots-Tag:noindex
X-PUBLISHED-TTL:PT1H
BEGIN:VTIMEZONE
TZID:Europe/Paris
BEGIN:DAYLIGHT
TZOFFSETFROM:+0100
TZOFFSETTO:+0200
TZNAME:CEST
DTSTART:20240331T010000
END:DAYLIGHT
BEGIN:STANDARD
TZOFFSETFROM:+0200
TZOFFSETTO:+0100
TZNAME:CET
DTSTART:20241027T010000
END:STANDARD
BEGIN:DAYLIGHT
TZOFFSETFROM:+0100
TZOFFSETTO:+0200
TZNAME:CEST
DTSTART:20250330T010000
END:DAYLIGHT
BEGIN:STANDARD
TZOFFSETFROM:+0200
TZOFFSETTO:+0100
TZNAME:CET
DTSTART:20251026T010000
END:STANDARD
BEGIN:DAYLIGHT
TZOFFSETFROM:+0100
TZOFFSETTO:+0200
TZNAME:CEST
DTSTART:20260329T010000
END:DAYLIGHT
BEGIN:STANDARD
TZOFFSETFROM:+0200
TZOFFSETTO:+0100
TZNAME:CET
DTSTART:20261025T010000
END:STANDARD
BEGIN:DAYLIGHT
TZOFFSETFROM:+0100
TZOFFSETTO:+0200
TZNAME:CEST
DTSTART:20270328T010000
END:DAYLIGHT
BEGIN:STANDARD
TZOFFSETFROM:+0200
TZOFFSETTO:+0100
TZNAME:CET
DTSTART:20271031T010000
END:STANDARD
END:VTIMEZONE
BEGIN:VEVENT
DTSTART;TZID=Europe/Paris:20251210T203000
DTEND;TZID=Europe/Paris:20251210T230000
DTSTAMP:20260425T133439
CREATED:20251112T173227Z
LAST-MODIFIED:20251112T173227Z
UID:10001037-1765398600-1765407600@lemelville.fr
SUMMARY:Square Noon
DESCRIPTION:Trois amis\, Alexandre\, Axel et Arlo\, enflamment le Melville avec leur jazz envoûtant. La complicité des musiciens de l’Imep est palpable\, transportant le public dans un univers vibrant. Alexandre au piano\, Axel à la batterie et Arlo à la basse forment un trio explosif à ne pas manquer ! \nTrois amis\, Alexandre\, Axel et Arlo\, enflamment le Melville avec leur musique jazz. La complicité de ces musiciens\, amis de l’Imep\, est palpable. Ensemble ils transportent dans un univers vibrant et plein d’enthousisame. Alexandre au piano\, Axel à la batterie et Arlo à la basse\, un trio explosif à découvrir ! \nAlexandre Lombard-Buffet : piano\nAxel Allwright : batterie\nArlo Lardé : contrebasse
URL:https://lemelville.fr/accueil/evenements/square-noon-33/
LOCATION:Le Melville\, 28 Rue Jean Mermoz\, Paris\, 75008\, France
CATEGORIES:Latin Jazz
ATTACH;FMTTYPE=image/png:https://lemelville.fr/wp-content/uploads/2025/11/Square-Noon-250625-Affiche-NF.png
END:VEVENT
BEGIN:VEVENT
DTSTART;TZID=Europe/Paris:20251231T213000
DTEND;TZID=Europe/Paris:20260101T010000
DTSTAMP:20260425T133439
CREATED:20251023T144926Z
LAST-MODIFIED:20251023T150014Z
UID:10001028-1767216600-1767229200@lemelville.fr
SUMMARY:Nancy Murillo 4tet
DESCRIPTION:Nancy Murillo enflamme l’Europe avec sa musique latine depuis 1993. Héritière de Celia Cruz et La Lupe\, elle incarne la “Sonera Moderna” avec ses rythmes colombiens. Mélange explosif de tradition et de modernité\, elle promet une année 2026 haute en couleurs au Melville. \nDepuis son arrivée en Europe\, en 1993\, Nancy Murillo met le feu à toutes les scènes\, festivals et soirées de musiques latines où elle se produit. Inspirée par la reine de la salsa – Celia Cruz y la Lupe\, elle concrétise son caractère de « Sonera Moderna » en interprétant un vaste répertoire de musiques latines et de folklore traditionnel colombien. \nNancy nous fait l’honneur de sa présence pour célébrer la nouvelle année 2026 au Melville. \nQuelle joyeuse et festive perspective ! \nNancy Murillo : chant\nFrederic Locarni : piano\nJorge Andrade : congas\nNicola Anoyvega Mora N : sax\nOtto Paez : basse
URL:https://lemelville.fr/accueil/evenements/nancy-murillo-4tet-2/
LOCATION:Le Melville\, 28 Rue Jean Mermoz\, Paris\, 75008\, France
CATEGORIES:Latin Jazz
ATTACH;FMTTYPE=image/png:https://lemelville.fr/wp-content/uploads/2025/10/Nancy-Murillo-Quartet-Affiche-couleur-NF.png
END:VEVENT
END:VCALENDAR