BEGIN:VCALENDAR
VERSION:2.0
PRODID:-//Le Melville - ECPv6.15.17//NONSGML v1.0//EN
CALSCALE:GREGORIAN
METHOD:PUBLISH
X-ORIGINAL-URL:https://lemelville.fr/accueil
X-WR-CALDESC:Évènements pour Le Melville
REFRESH-INTERVAL;VALUE=DURATION:PT1H
X-Robots-Tag:noindex
X-PUBLISHED-TTL:PT1H
BEGIN:VTIMEZONE
TZID:Europe/Paris
BEGIN:DAYLIGHT
TZOFFSETFROM:+0100
TZOFFSETTO:+0200
TZNAME:CEST
DTSTART:20240331T010000
END:DAYLIGHT
BEGIN:STANDARD
TZOFFSETFROM:+0200
TZOFFSETTO:+0100
TZNAME:CET
DTSTART:20241027T010000
END:STANDARD
BEGIN:DAYLIGHT
TZOFFSETFROM:+0100
TZOFFSETTO:+0200
TZNAME:CEST
DTSTART:20250330T010000
END:DAYLIGHT
BEGIN:STANDARD
TZOFFSETFROM:+0200
TZOFFSETTO:+0100
TZNAME:CET
DTSTART:20251026T010000
END:STANDARD
BEGIN:DAYLIGHT
TZOFFSETFROM:+0100
TZOFFSETTO:+0200
TZNAME:CEST
DTSTART:20260329T010000
END:DAYLIGHT
BEGIN:STANDARD
TZOFFSETFROM:+0200
TZOFFSETTO:+0100
TZNAME:CET
DTSTART:20261025T010000
END:STANDARD
END:VTIMEZONE
BEGIN:VEVENT
DTSTART;TZID=Europe/Paris:20250208T210000
DTEND;TZID=Europe/Paris:20250208T233000
DTSTAMP:20260422T123105
CREATED:20250126T113028Z
LAST-MODIFIED:20250126T113028Z
UID:10000764-1739048400-1739057400@lemelville.fr
SUMMARY:MANIGUA
DESCRIPTION:Le Melville s’anime au son enivrant de la salsa venant tout droit de Porto Rico\, avec un sextet débordant d’énergie et de parfums de rhum. Ces musiciens talentueux fusionnent salsa\, folklore colombien et latin jazz pour offrir une expérience musicale captivante. Une soirée enflammée en perspective! \nComme souvent le samedi\, le son de la salsa envahit Le Melville. Ce sextet à l’énergie débordante nous emmènera\, cette fois\, vers Porto Rico dans les parfums du rhum et les rythmes fous. \nLes chemins de ces musiciens se croisent après avoir participé activement au mouvement salsa à Paris. Cette passion pour la salsa les a amenés à partager et fusionner leurs pratiques musicales. La diversité de leurs origines\, de leurs formations et de leurs expériences fait de cette union musicale une expérience enrichissante où la salsa et le folklore colombien avec des touches de latin jazz\, sont les protagonistes. Dans cette occasion\, réunis avec Manigua ils transmettent la passion pour ce genre musical au public du Melville et continuent à maintenir la culture salsa vivante et actuelle. \nJosue Omaña Trompette\nMartín Fuenmayor : Chant – Contrebasse\nJulián Jimenez : Piano\nJim López : Percussion\nNestor Sanz : Percussion\nHolman Reyes : Trombone
URL:https://lemelville.fr/accueil/evenements/manigua-7/
LOCATION:Le Melville\, 28 Rue Jean Mermoz\, Paris\, 75008\, France
CATEGORIES:Latin Salsa
ATTACH;FMTTYPE=image/png:https://lemelville.fr/wp-content/uploads/2025/01/Manigua-Affiche-Nf.png
END:VEVENT
BEGIN:VEVENT
DTSTART;TZID=Europe/Paris:20250222T210000
DTEND;TZID=Europe/Paris:20250222T233000
DTSTAMP:20260422T123105
CREATED:20250126T113531Z
LAST-MODIFIED:20250126T113531Z
UID:10000765-1740258000-1740267000@lemelville.fr
SUMMARY:Paris Latino
DESCRIPTION:Le Melville se transforme en fiesta latina avec le Quatuor Paris Latino ! Salsa\, rythmes cubains et ambiance caliente assurés. \nSalsa caliente avec le Quatuor Paris Latino dans l’écrin du Melville ! Ce jeudi\, le restaurant gastronomique club de Jazz se fait latino pour une soirée festive au son de salsa et de rythmes cubain. Le Quaturo Paris Latino\, avec José Palomo (chant et Guitare)\, Guillermo Benavides (chant et contrebass)\, Manuel Anoyvega (chant et Piano) et Nicolas Anoyvega (Saxo) viennet faire vibrer les bois et velour du Melville. Ca va swinguer ! \nJosé Palomo : percussion et voix\nGuillermo Benavides : voix et contrebasse\nManuel Anoyvega : voix et Piano\nNicolas Anoyvega : saxo
URL:https://lemelville.fr/accueil/evenements/paris-latino-10/
LOCATION:Le Melville\, 28 Rue Jean Mermoz\, Paris\, 75008\, France
CATEGORIES:Latin Salsa
ATTACH;FMTTYPE=image/png:https://lemelville.fr/wp-content/uploads/2025/01/Paris-Latino-Affiche-Nf-2.png
END:VEVENT
END:VCALENDAR