BEGIN:VCALENDAR
VERSION:2.0
PRODID:-//Le Melville - ECPv6.15.17//NONSGML v1.0//EN
CALSCALE:GREGORIAN
METHOD:PUBLISH
X-ORIGINAL-URL:https://lemelville.fr/accueil
X-WR-CALDESC:Évènements pour Le Melville
REFRESH-INTERVAL;VALUE=DURATION:PT1H
X-Robots-Tag:noindex
X-PUBLISHED-TTL:PT1H
BEGIN:VTIMEZONE
TZID:Europe/Paris
BEGIN:DAYLIGHT
TZOFFSETFROM:+0100
TZOFFSETTO:+0200
TZNAME:CEST
DTSTART:20240331T010000
END:DAYLIGHT
BEGIN:STANDARD
TZOFFSETFROM:+0200
TZOFFSETTO:+0100
TZNAME:CET
DTSTART:20241027T010000
END:STANDARD
BEGIN:DAYLIGHT
TZOFFSETFROM:+0100
TZOFFSETTO:+0200
TZNAME:CEST
DTSTART:20250330T010000
END:DAYLIGHT
BEGIN:STANDARD
TZOFFSETFROM:+0200
TZOFFSETTO:+0100
TZNAME:CET
DTSTART:20251026T010000
END:STANDARD
BEGIN:DAYLIGHT
TZOFFSETFROM:+0100
TZOFFSETTO:+0200
TZNAME:CEST
DTSTART:20260329T010000
END:DAYLIGHT
BEGIN:STANDARD
TZOFFSETFROM:+0200
TZOFFSETTO:+0100
TZNAME:CET
DTSTART:20261025T010000
END:STANDARD
END:VTIMEZONE
BEGIN:VEVENT
DTSTART;TZID=Europe/Paris:20250708T203000
DTEND;TZID=Europe/Paris:20250708T230000
DTSTAMP:20260422T055904
CREATED:20250626T084945Z
LAST-MODIFIED:20250626T093637Z
UID:10000923-1752006600-1752015600@lemelville.fr
SUMMARY:COCO CANELA
DESCRIPTION:Rencontre explosive à Paris : Coco Canela\, un cocktail musical caliente où fusionnent le charme de Cuba et l’énergie de la Ville Lumière. Décollage immédiat vers une aventure culturelle enivrante ! 🎶🇨🇺🎵🥂 #CocoCanela \nCoco Canela est la rencontre de trois musiciennes cubaines installées à Paris\, animées par une envie folle de partager leur culture dans notre capitale…. mais c’est à cinq que va s’enflammer la scène de Bagatelle ! \nTeresa Labrada : flûte\, chant\nJuan Manuel Nieto : piano\nAude Publes Garcia : chant\nClara Noll : percussions\, chant\nMonica Lopez : basse\, chant
URL:https://lemelville.fr/accueil/evenements/coco-canela-2/
LOCATION:Melville-hors-les-murs Bagatelle\, 42 route de Sèvre à Neully\, Paris\, 75116
CATEGORIES:Latin Jazz,Latin Salsa
ATTACH;FMTTYPE=image/png:https://lemelville.fr/wp-content/uploads/2025/06/Coco-Canella-Bagatelle-Affiche-2-NF-1.png
END:VEVENT
BEGIN:VEVENT
DTSTART;TZID=Europe/Paris:20250719T210000
DTEND;TZID=Europe/Paris:20250719T233000
DTSTAMP:20260422T055904
CREATED:20250527T095018Z
LAST-MODIFIED:20250527T095018Z
UID:10000890-1752958800-1752967800@lemelville.fr
SUMMARY:MANIGUA
DESCRIPTION:Des artistes passionnés nous transportent à Porto Rico avec leur salsa envoûtante et leurs rythmes endiablés. Un mélange explosif de sonorités latines au Melville\, où la musique et la danse sont à l’honneur. \nCe sextet à l’énergie débordante nous emmènera\, cette fois\, vers Porto Rico dans les parfums du rhum et les rythmes fous. \nLes chemins de ces musiciens se croisent après avoir participé activement au mouvement salsa à Paris. Cette passion pour la salsa les a amenés à partager et fusionner leurs pratiques musicales. La diversité de leurs origines\, de leurs formations et de leurs expériences fait de cette union musicale une expérience enrichissante où la salsa et le folklore colombien avec des touches de latin jazz\, sont les protagonistes. Dans cette occasion\, réunis avec Manigua ils transmettent la passion pour ce genre musical au public du Melville et continuent à maintenir la culture salsa vivante et actuelle. \nJulián Jimenez Ossa : piano\nJim Lopez Achito  : percussions\nNestor Alberto  Sanz Diaz  : percussions\nHolmann Reyes : trombonne\nMartin Fuenmayor : chant\, contrebasse\nJosué David Omana Hernadez : trompette
URL:https://lemelville.fr/accueil/evenements/manigua-9/
LOCATION:Le Melville\, 28 Rue Jean Mermoz\, Paris\, 75008\, France
CATEGORIES:Latin Salsa
ATTACH;FMTTYPE=image/png:https://lemelville.fr/wp-content/uploads/2025/05/Manigua-Affiche-Nf.png
END:VEVENT
BEGIN:VEVENT
DTSTART;TZID=Europe/Paris:20250726T210000
DTEND;TZID=Europe/Paris:20250726T233000
DTSTAMP:20260422T055904
CREATED:20250527T115430Z
LAST-MODIFIED:20250527T115430Z
UID:10000892-1753563600-1753572600@lemelville.fr
SUMMARY:Paris Latino
DESCRIPTION:Le Melville se met à l’heure latine avec le Quatuor Paris Latino : salsa\, rythmes cubains et ambiance caliente au menu ! José\, Guillermo\, Manuel et Nicolas vont enflammer la scène pour une soirée aux sons envoûtants. Ça va être caliente au Melville ce jeudi ! 🔥🎶 #SalsaParty \nSalsa caliente avec le Quatuor Paris Latino dans l’écrin du Melville ! Ce jeudi\, le restaurant gastronomique club de Jazz se fait latino pour une soirée festive au son de salsa et de rythmes cubain. Le Quaturo Paris Latino\, avec José Palomo (chant et Guitare)\, Guillermo Benavides (chant et contrebass)\, Manuel Anoyvega (chant et Piano) et Nicolas Anoyvega (Saxo) viennet faire vibrer les bois et velour du Melville. Ca va swinguer ! \nJosé Palomo : chant\, percussions\nGuillermo Benavides : contrebasse\nManuel Anoyvega : piano\nNicola Anoyvega : sax
URL:https://lemelville.fr/accueil/evenements/paris-latino-12/
LOCATION:Le Melville\, 28 Rue Jean Mermoz\, Paris\, 75008\, France
CATEGORIES:Latin Salsa
ATTACH;FMTTYPE=image/png:https://lemelville.fr/wp-content/uploads/2025/05/Paris-Latino-Affiche-Nf-1.png
END:VEVENT
END:VCALENDAR