BEGIN:VCALENDAR
VERSION:2.0
PRODID:-//Le Melville - ECPv6.15.17//NONSGML v1.0//EN
CALSCALE:GREGORIAN
METHOD:PUBLISH
X-ORIGINAL-URL:https://lemelville.fr/accueil
X-WR-CALDESC:Évènements pour Le Melville
REFRESH-INTERVAL;VALUE=DURATION:PT1H
X-Robots-Tag:noindex
X-PUBLISHED-TTL:PT1H
BEGIN:VTIMEZONE
TZID:Europe/Paris
BEGIN:DAYLIGHT
TZOFFSETFROM:+0100
TZOFFSETTO:+0200
TZNAME:CEST
DTSTART:20240331T010000
END:DAYLIGHT
BEGIN:STANDARD
TZOFFSETFROM:+0200
TZOFFSETTO:+0100
TZNAME:CET
DTSTART:20241027T010000
END:STANDARD
BEGIN:DAYLIGHT
TZOFFSETFROM:+0100
TZOFFSETTO:+0200
TZNAME:CEST
DTSTART:20250330T010000
END:DAYLIGHT
BEGIN:STANDARD
TZOFFSETFROM:+0200
TZOFFSETTO:+0100
TZNAME:CET
DTSTART:20251026T010000
END:STANDARD
BEGIN:DAYLIGHT
TZOFFSETFROM:+0100
TZOFFSETTO:+0200
TZNAME:CEST
DTSTART:20260329T010000
END:DAYLIGHT
BEGIN:STANDARD
TZOFFSETFROM:+0200
TZOFFSETTO:+0100
TZNAME:CET
DTSTART:20261025T010000
END:STANDARD
END:VTIMEZONE
BEGIN:VEVENT
DTSTART;TZID=Europe/Paris:20250913T210000
DTEND;TZID=Europe/Paris:20250913T233000
DTSTAMP:20260422T030838
CREATED:20250701T103829Z
LAST-MODIFIED:20250824T105001Z
UID:10000939-1757797200-1757806200@lemelville.fr
SUMMARY:MANIGUA
DESCRIPTION:Six passionnés de salsa\, ayant arpenté les pavés parisiens\, s’unissent à Porto Rico pour enflammer les rythmes latinos au son du rhum. Fusion de talents et d’expériences\, leur musique festive et envoûtante mêle salsa\, folklore colombien et latin jazz. Avec Manigua\, ils partagent leur amour de la Salsa. \nCe sextet à l’énergie débordante nous emmènera\, cette fois\, vers Porto Rico dans les parfums du rhum et les rythmes fous. \nLes chemins de ces musiciens se croisent après avoir participé activement au mouvement salsa à Paris. Cette passion pour la salsa les a amenés à partager et fusionner leurs pratiques musicales. La diversité de leurs origines\, de leurs formations et de leurs expériences fait de cette union musicale une expérience enrichissante où la salsa et le folklore colombien avec des touches de latin jazz\, sont les protagonistes. Dans cette occasion\, réunis avec Manigua ils transmettent la passion pour ce genre musical au public du Melville et continuent à maintenir la culture salsa vivante et actuelle. \nJulián Jimenez Ossa : piano\nGuillermo Rojas : percussions\nNestor Alberto Sanz Diaz : percussions\nHolmann Reyes : trombonne\nMartin Fuenmayor : chant\nMiguel Angel Munar Molina : trompette\nEmmanuel Paillardon : contrebasse
URL:https://lemelville.fr/accueil/evenements/manigua-8/
LOCATION:Le Melville\, 28 Rue Jean Mermoz\, Paris\, 75008\, France
CATEGORIES:Latin Jazz,Latin Salsa
ATTACH;FMTTYPE=image/png:https://lemelville.fr/wp-content/uploads/2025/02/Manigua-Affiche-Nf.png
END:VEVENT
BEGIN:VEVENT
DTSTART;TZID=Europe/Paris:20250927T210000
DTEND;TZID=Europe/Paris:20250927T233000
DTSTAMP:20260422T030838
CREATED:20250703T204127Z
LAST-MODIFIED:20250703T204127Z
UID:10000944-1759006800-1759015800@lemelville.fr
SUMMARY:Paris Latino
DESCRIPTION:Ce jeudi\, le Melville se transforme en fiesta latina avec le Quatuor Paris Latino ! Au programme : salsa enflammée et rythmes cubains. José\, Guillermo\, Manuel et Nicolas vont enflammer la scène et faire danser tous les amoureux de musique caliente. Ambiance assurée ! 🎶🔥 \nSalsa caliente avec le Quatuor Paris Latino dans l’écrin du Melville ! Ce jeudi\, le restaurant gastronomique club de Jazz se fait latino pour une soirée festive au son de salsa et de rythmes cubain. Le Quaturo Paris Latino\, avec José Palomo (chant et Guitare)\, Guillermo Benavides (chant et contrebass)\, Manuel Anoyvega (chant et Piano) et Nicolas Anoyvega (Saxo) viennet faire vibrer les bois et velour du Melville. Ca va swinguer ! \nJose Palomo : percussions\, chant\nGuillermo Benavides : contrebasse\, chant\nManuel Anoyvega : piano\, chant\nNicolas Anoyvega : sax
URL:https://lemelville.fr/accueil/evenements/paris-latino-13/
LOCATION:Le Melville\, 28 Rue Jean Mermoz\, Paris\, 75008\, France
CATEGORIES:Latin Salsa
ATTACH;FMTTYPE=image/png:https://lemelville.fr/wp-content/uploads/2025/07/Paris-Latino-Affiche-Nf.png
END:VEVENT
END:VCALENDAR