BEGIN:VCALENDAR
VERSION:2.0
PRODID:-//Le Melville - ECPv6.15.17//NONSGML v1.0//EN
CALSCALE:GREGORIAN
METHOD:PUBLISH
X-WR-CALNAME:Le Melville
X-ORIGINAL-URL:https://lemelville.fr/accueil
X-WR-CALDESC:Évènements pour Le Melville
REFRESH-INTERVAL;VALUE=DURATION:PT1H
X-Robots-Tag:noindex
X-PUBLISHED-TTL:PT1H
BEGIN:VTIMEZONE
TZID:Europe/Paris
BEGIN:DAYLIGHT
TZOFFSETFROM:+0100
TZOFFSETTO:+0200
TZNAME:CEST
DTSTART:20250330T010000
END:DAYLIGHT
BEGIN:STANDARD
TZOFFSETFROM:+0200
TZOFFSETTO:+0100
TZNAME:CET
DTSTART:20251026T010000
END:STANDARD
BEGIN:DAYLIGHT
TZOFFSETFROM:+0100
TZOFFSETTO:+0200
TZNAME:CEST
DTSTART:20260329T010000
END:DAYLIGHT
BEGIN:STANDARD
TZOFFSETFROM:+0200
TZOFFSETTO:+0100
TZNAME:CET
DTSTART:20261025T010000
END:STANDARD
BEGIN:DAYLIGHT
TZOFFSETFROM:+0100
TZOFFSETTO:+0200
TZNAME:CEST
DTSTART:20270328T010000
END:DAYLIGHT
BEGIN:STANDARD
TZOFFSETFROM:+0200
TZOFFSETTO:+0100
TZNAME:CET
DTSTART:20271031T010000
END:STANDARD
END:VTIMEZONE
BEGIN:VEVENT
DTSTART;TZID=Europe/Paris:20260207T210000
DTEND;TZID=Europe/Paris:20260207T233000
DTSTAMP:20260421T193913
CREATED:20260104T110241Z
LAST-MODIFIED:20260104T110241Z
UID:10001103-1770498000-1770507000@lemelville.fr
SUMMARY:Carlos Napoles Quartet
DESCRIPTION:Carlos Nàpoles Y Calle Esperanza\, une explosion de rythmes afro-caribéens et cubains ! La musique cubaine s’unit à salsa\, rumba\, boléro et chachacha. Une aventure humaine pleine de fête et de passion pour les couleurs latines. Prêt pour ce voyage musical enivrant ? \nCe vibrant quartet est une formation musicale cubaine fruit de la fusion de rythmes afro-caribéens et cubains. C’est l’espérance et la fête ! Un voyage musical qui part de la musique cubaine actuelle en passant par la salsa\, la rumba\, le boléro\, le chachacha et le son cubain.\nCarlos Nàpoles Y Calle Esperanza est surtout une aventure humaine toujours en interaction avec un publique qui aime la danse et les couleurs latines de l’Amérique du sud\, Porto Rico\, Colombie\, Venezuela\, Brésil\, Cuba… \nCarlos Luis Napoles Alfonso : guitare\, chant\nFrederic  Locarni  : piano\nOsmel Perez : percussions\nLino Belet Fernández  : guitare\, très\nEmilie Laroubine : flûte
URL:https://lemelville.fr/accueil/evenements/carlos-napoles-quartet-9/
LOCATION:Le Melville\, 28 Rue Jean Mermoz\, Paris\, 75008\, France
CATEGORIES:Latin Salsa
ATTACH;FMTTYPE=image/png:https://lemelville.fr/wp-content/uploads/2026/01/Carlos-Napoles-Quartet-Affiche-Nouvelle-NF-1.png
END:VEVENT
BEGIN:VEVENT
DTSTART;TZID=Europe/Paris:20260221T210000
DTEND;TZID=Europe/Paris:20260221T233000
DTSTAMP:20260421T193913
CREATED:20260104T084407Z
LAST-MODIFIED:20260104T084407Z
UID:10001097-1771707600-1771716600@lemelville.fr
SUMMARY:MANIGUA
DESCRIPTION:Six musiciens survoltés nous transportent à Porto Rico entre rhum et rythmes endiablés. Fusion de salsa\, folklore colombien et latin jazz\, leur concert au Melville avec Manigua assure une expérience musicale enrichissante\, perpétuant la culture salsa avec passion et modernité. \nCe sextet à l’énergie débordante nous emmènera\, cette fois\, vers Porto Rico dans les parfums du rhum et les rythmes fous. \nLes chemins de ces musiciens se croisent après avoir participé activement au mouvement salsa à Paris. Cette passion pour la salsa les a amenés à partager et fusionner leurs pratiques musicales. La diversité de leurs origines\, de leurs formations et de leurs expériences fait de cette union musicale une expérience enrichissante où la salsa et le folklore colombien avec des touches de latin jazz\, sont les protagonistes. Dans cette occasion\, réunis avec Manigua ils transmettent la passion pour ce genre musical au public du Melville et continuent à maintenir la culture salsa vivante et actuelle. \nMartin Fuenmayor : chant\, bajo\nJulián Jimenez Ossa : piano\nNestor Alberto  Sanz Diaz  : congas\nJim Lopez : bongo\nHolmann Reyes : trombonne
URL:https://lemelville.fr/accueil/evenements/manigua-10/
LOCATION:Le Melville\, 28 Rue Jean Mermoz\, Paris\, 75008\, France
CATEGORIES:Latin Salsa
ATTACH;FMTTYPE=image/png:https://lemelville.fr/wp-content/uploads/2026/01/Manigua-Affiche-Nf.png
END:VEVENT
END:VCALENDAR