BEGIN:VCALENDAR
VERSION:2.0
PRODID:-//Le Melville - ECPv6.15.17//NONSGML v1.0//EN
CALSCALE:GREGORIAN
METHOD:PUBLISH
X-ORIGINAL-URL:https://lemelville.fr/accueil
X-WR-CALDESC:Évènements pour Le Melville
REFRESH-INTERVAL;VALUE=DURATION:PT1H
X-Robots-Tag:noindex
X-PUBLISHED-TTL:PT1H
BEGIN:VTIMEZONE
TZID:Europe/Paris
BEGIN:DAYLIGHT
TZOFFSETFROM:+0100
TZOFFSETTO:+0200
TZNAME:CEST
DTSTART:20250330T010000
END:DAYLIGHT
BEGIN:STANDARD
TZOFFSETFROM:+0200
TZOFFSETTO:+0100
TZNAME:CET
DTSTART:20251026T010000
END:STANDARD
BEGIN:DAYLIGHT
TZOFFSETFROM:+0100
TZOFFSETTO:+0200
TZNAME:CEST
DTSTART:20260329T010000
END:DAYLIGHT
BEGIN:STANDARD
TZOFFSETFROM:+0200
TZOFFSETTO:+0100
TZNAME:CET
DTSTART:20261025T010000
END:STANDARD
BEGIN:DAYLIGHT
TZOFFSETFROM:+0100
TZOFFSETTO:+0200
TZNAME:CEST
DTSTART:20270328T010000
END:DAYLIGHT
BEGIN:STANDARD
TZOFFSETFROM:+0200
TZOFFSETTO:+0100
TZNAME:CET
DTSTART:20271031T010000
END:STANDARD
END:VTIMEZONE
BEGIN:VEVENT
DTSTART;TZID=Europe/Paris:20260509T210000
DTEND;TZID=Europe/Paris:20260509T233000
DTSTAMP:20260421T181549
CREATED:20260305T142350Z
LAST-MODIFIED:20260305T142350Z
UID:10001174-1778360400-1778369400@lemelville.fr
SUMMARY:Marta Domingo 5tet
DESCRIPTION:Voyagez au rythme envoûtant de l’Espagne et de l’Amérique latine avec ce quintette féminin : rumba flamenca\, son cubain\, bolero\, salsa et cha-cha-cha au programme ! Compositions originales et classiques revisités pour une soirée dansante\, ensoleillée et poétique. \nAvec ce quintette féminin\, plongez dans la lumière de l’Espagne et de l’Amérique latine.\nRumba flamenca\, son cubain\, bolero\, salsa et cha-cha-cha.\nUn voyage musical mêlant compositions originales et versions personnelles de classiques.\nUne soirée dansante\, pleine de soleil\, de groove et de poésie. \nMarta Domingo Marin : chant\nEmilie Laroubine : flûte\, sax\nClaire Lamothe : piano\nClara Noll : basse\nMagali Boucharlat : percussions
URL:https://lemelville.fr/accueil/evenements/marta-domingo-5tet-2/
LOCATION:Le Melville\, 28 Rue Jean Mermoz\, Paris\, 75008\, France
CATEGORIES:Latin Jazz,Latin Salsa
ATTACH;FMTTYPE=image/png:https://lemelville.fr/wp-content/uploads/2026/03/Marta-Domingo-5tet-bis-Affiche-NF.png
END:VEVENT
END:VCALENDAR