BEGIN:VCALENDAR
VERSION:2.0
PRODID:-//Le Melville - ECPv6.15.17//NONSGML v1.0//EN
CALSCALE:GREGORIAN
METHOD:PUBLISH
X-ORIGINAL-URL:https://lemelville.fr/accueil
X-WR-CALDESC:Évènements pour Le Melville
REFRESH-INTERVAL;VALUE=DURATION:PT1H
X-Robots-Tag:noindex
X-PUBLISHED-TTL:PT1H
BEGIN:VTIMEZONE
TZID:Europe/Paris
BEGIN:DAYLIGHT
TZOFFSETFROM:+0100
TZOFFSETTO:+0200
TZNAME:CEST
DTSTART:20240331T010000
END:DAYLIGHT
BEGIN:STANDARD
TZOFFSETFROM:+0200
TZOFFSETTO:+0100
TZNAME:CET
DTSTART:20241027T010000
END:STANDARD
BEGIN:DAYLIGHT
TZOFFSETFROM:+0100
TZOFFSETTO:+0200
TZNAME:CEST
DTSTART:20250330T010000
END:DAYLIGHT
BEGIN:STANDARD
TZOFFSETFROM:+0200
TZOFFSETTO:+0100
TZNAME:CET
DTSTART:20251026T010000
END:STANDARD
BEGIN:DAYLIGHT
TZOFFSETFROM:+0100
TZOFFSETTO:+0200
TZNAME:CEST
DTSTART:20260329T010000
END:DAYLIGHT
BEGIN:STANDARD
TZOFFSETFROM:+0200
TZOFFSETTO:+0100
TZNAME:CET
DTSTART:20261025T010000
END:STANDARD
END:VTIMEZONE
BEGIN:VEVENT
DTSTART;TZID=Europe/Paris:20250903T203000
DTEND;TZID=Europe/Paris:20250903T230000
DTSTAMP:20260422T030758
CREATED:20250714T105441Z
LAST-MODIFIED:20250714T105441Z
UID:10000948-1756931400-1756940400@lemelville.fr
SUMMARY:Melville Mode Swing
DESCRIPTION:Daniel John Martin\, virtuose du jazz\, fait revivre l’héritage de Django Reinhardt et Stéphane Grappelli. Au Melville\, il met en avant la jeune génération de musiciens passionnés par le jazz “manouche”. Une immersion captivante dans la French touch musicale\, alliant émotion et authenticité. \nDepuis de nombreuses années\, Daniel John\, Martin sillonne les scènes de jazz\, en France et à l’étranger\, en partageant des moments uniques avec des musiciens animés par la même passion : l’héritage vivant de Django Reinhardt et Stéphane Grappelli. Qu’ils soient guitaristes\, violonistes ou contrebassistes\, tous vibrent au son de cette musique acoustique si singulière\, forgée par le génie du célèbre duo parisien.\nC’est dans cet esprit de transmission et de passion qu’est née l’envie de proposer ces soirées dédiées à ce que l’on appelle aujourd’hui le jazz « manouche » ou « gypsy ». Daniel John Martin présente donc\, chaque premier mercredi du mois au Melville\, les talents d’une nouvelle génération\, brillamment engagée dans cette tradition musicale.\nUn moment de partage\, d’émotion et d’authenticité\, porté par cette « French touch » qui fait toute la magie du genre. \nDaniel John Martin : violon\nAdrien Tarraga : guitare\nJulien  Cattiaux : guitare
URL:https://lemelville.fr/accueil/evenements/melville-mode-swing/
LOCATION:Le Melville\, 28 Rue Jean Mermoz\, Paris\, 75008\, France
CATEGORIES:Manouche,Swing
ATTACH;FMTTYPE=image/png:https://lemelville.fr/wp-content/uploads/2025/07/DJM-Melville-Mode-Swing-250903-Affiche-NF.png
END:VEVENT
END:VCALENDAR