BEGIN:VCALENDAR
VERSION:2.0
PRODID:-//Le Melville - ECPv6.15.17//NONSGML v1.0//EN
CALSCALE:GREGORIAN
METHOD:PUBLISH
X-ORIGINAL-URL:https://lemelville.fr/accueil
X-WR-CALDESC:Évènements pour Le Melville
REFRESH-INTERVAL;VALUE=DURATION:PT1H
X-Robots-Tag:noindex
X-PUBLISHED-TTL:PT1H
BEGIN:VTIMEZONE
TZID:Europe/Paris
BEGIN:DAYLIGHT
TZOFFSETFROM:+0100
TZOFFSETTO:+0200
TZNAME:CEST
DTSTART:20250330T010000
END:DAYLIGHT
BEGIN:STANDARD
TZOFFSETFROM:+0200
TZOFFSETTO:+0100
TZNAME:CET
DTSTART:20251026T010000
END:STANDARD
BEGIN:DAYLIGHT
TZOFFSETFROM:+0100
TZOFFSETTO:+0200
TZNAME:CEST
DTSTART:20260329T010000
END:DAYLIGHT
BEGIN:STANDARD
TZOFFSETFROM:+0200
TZOFFSETTO:+0100
TZNAME:CET
DTSTART:20261025T010000
END:STANDARD
BEGIN:DAYLIGHT
TZOFFSETFROM:+0100
TZOFFSETTO:+0200
TZNAME:CEST
DTSTART:20270328T010000
END:DAYLIGHT
BEGIN:STANDARD
TZOFFSETFROM:+0200
TZOFFSETTO:+0100
TZNAME:CET
DTSTART:20271031T010000
END:STANDARD
END:VTIMEZONE
BEGIN:VEVENT
DTSTART;TZID=Europe/Paris:20260430T203000
DTEND;TZID=Europe/Paris:20260430T230000
DTSTAMP:20260421T150322
CREATED:20260301T082812Z
LAST-MODIFIED:20260301T082812Z
UID:10001157-1777581000-1777590000@lemelville.fr
SUMMARY:The Rooftop BarberShop
DESCRIPTION:The Rooftop Barbershop revisite avec énergie et harmonie le jazz des années 20-30 à trois voix. Un trio talentueux mêlant voix\, clarinette\, guitare et contrebasse. \nDans l’esprit des quatuors Barbershop\, et de groupes vocaux tels que les Mills Brothers ou les Andrews Sisters\, The Rooftop Barbershop reprend et arrange\, à trois voix\, un répertoire jazz New-Orleans et Swing des années 20 aux années 30.  \nRemi Fahed : chant\, clarinette\nLucas Montagnier : chant\, guitare\nAntoine Bonvoisin : chant\, contrebasse
URL:https://lemelville.fr/accueil/evenements/the-rooftop-barbershop-3/
LOCATION:Le Melville\, 28 Rue Jean Mermoz\, Paris\, 75008\, France
CATEGORIES:New Orleans,Swing
ATTACH;FMTTYPE=image/png:https://lemelville.fr/wp-content/uploads/2026/03/The-Rooftop-Barber-Shop-Affiche-NF.png
END:VEVENT
END:VCALENDAR