BEGIN:VCALENDAR
VERSION:2.0
PRODID:-//Le Melville - ECPv6.15.17//NONSGML v1.0//EN
CALSCALE:GREGORIAN
METHOD:PUBLISH
X-ORIGINAL-URL:https://lemelville.fr/accueil
X-WR-CALDESC:Évènements pour Le Melville
REFRESH-INTERVAL;VALUE=DURATION:PT1H
X-Robots-Tag:noindex
X-PUBLISHED-TTL:PT1H
BEGIN:VTIMEZONE
TZID:Europe/Paris
BEGIN:DAYLIGHT
TZOFFSETFROM:+0100
TZOFFSETTO:+0200
TZNAME:CEST
DTSTART:20240331T010000
END:DAYLIGHT
BEGIN:STANDARD
TZOFFSETFROM:+0200
TZOFFSETTO:+0100
TZNAME:CET
DTSTART:20241027T010000
END:STANDARD
BEGIN:DAYLIGHT
TZOFFSETFROM:+0100
TZOFFSETTO:+0200
TZNAME:CEST
DTSTART:20250330T010000
END:DAYLIGHT
BEGIN:STANDARD
TZOFFSETFROM:+0200
TZOFFSETTO:+0100
TZNAME:CET
DTSTART:20251026T010000
END:STANDARD
BEGIN:DAYLIGHT
TZOFFSETFROM:+0100
TZOFFSETTO:+0200
TZNAME:CEST
DTSTART:20260329T010000
END:DAYLIGHT
BEGIN:STANDARD
TZOFFSETFROM:+0200
TZOFFSETTO:+0100
TZNAME:CET
DTSTART:20261025T010000
END:STANDARD
END:VTIMEZONE
BEGIN:VEVENT
DTSTART;TZID=Europe/Paris:20250725T210000
DTEND;TZID=Europe/Paris:20250725T233000
DTSTAMP:20260422T060923
CREATED:20250621T103903Z
LAST-MODIFIED:20250621T103903Z
UID:10000921-1753477200-1753486200@lemelville.fr
SUMMARY:Katherine Curnow
DESCRIPTION:Get ready to groove with singer Katherine Curnow as she belts out neosoul hits by Erykah Badu\, D’angelo\, and more. This Filipino-born Australian artist has wowed audiences worldwide with her soulful voice. Don’t miss her with her talented band in Paris!🎤🎶 \nJoin Australian vocalist Katherine Curnow as she serenades you with the sweet sounds of neosoul\, soul and groove by artists such as Erykah Badu\, D’angelo\, Jill Scott\, Anita Baker and many more. \nKatherine Curnow is a filipino-born Australian R&B\, soul\, neosoul and pop vocalist and singer-songwriter based in Paris. \nWith a career spanning over 17 years singing lead and background vocals for local and international artists/projects in Perth (Aus)\, London (UK)\, Paris and France. She recently was the background vocalist for Tony award winner and Grammy nominated soul artist Melba Moore and was the support act for Grammy award winning R&B group 112 for the Perth leg of their Australian tour. \nKatherine Curnow : chant\nAndy Berald-Catelo : batterie\nFlorian Berret : piano\nEnzo Accursi : guitare
URL:https://lemelville.fr/accueil/evenements/katherine-curnow/
LOCATION:Le Melville\, 28 Rue Jean Mermoz\, Paris\, 75008\, France
CATEGORIES:Jazz Standard,Soul
ATTACH;FMTTYPE=image/png:https://lemelville.fr/wp-content/uploads/2025/06/Katherine-Curnow-Affiche-NF.png
END:VEVENT
END:VCALENDAR