BEGIN:VCALENDAR
VERSION:2.0
PRODID:-//Le Melville - ECPv6.15.17//NONSGML v1.0//EN
CALSCALE:GREGORIAN
METHOD:PUBLISH
X-WR-CALNAME:Le Melville
X-ORIGINAL-URL:https://lemelville.fr/accueil
X-WR-CALDESC:Évènements pour Le Melville
REFRESH-INTERVAL;VALUE=DURATION:PT1H
X-Robots-Tag:noindex
X-PUBLISHED-TTL:PT1H
BEGIN:VTIMEZONE
TZID:Europe/Paris
BEGIN:DAYLIGHT
TZOFFSETFROM:+0100
TZOFFSETTO:+0200
TZNAME:CEST
DTSTART:20240331T010000
END:DAYLIGHT
BEGIN:STANDARD
TZOFFSETFROM:+0200
TZOFFSETTO:+0100
TZNAME:CET
DTSTART:20241027T010000
END:STANDARD
BEGIN:DAYLIGHT
TZOFFSETFROM:+0100
TZOFFSETTO:+0200
TZNAME:CEST
DTSTART:20250330T010000
END:DAYLIGHT
BEGIN:STANDARD
TZOFFSETFROM:+0200
TZOFFSETTO:+0100
TZNAME:CET
DTSTART:20251026T010000
END:STANDARD
BEGIN:DAYLIGHT
TZOFFSETFROM:+0100
TZOFFSETTO:+0200
TZNAME:CEST
DTSTART:20260329T010000
END:DAYLIGHT
BEGIN:STANDARD
TZOFFSETFROM:+0200
TZOFFSETTO:+0100
TZNAME:CET
DTSTART:20261025T010000
END:STANDARD
END:VTIMEZONE
BEGIN:VEVENT
DTSTART;TZID=Europe/Paris:20251022T203000
DTEND;TZID=Europe/Paris:20251022T230000
DTSTAMP:20260422T013437
CREATED:20250630T171550Z
LAST-MODIFIED:20250904T104439Z
UID:10000930-1761165000-1761174000@lemelville.fr
SUMMARY:Anastasia 4tet - Jazz sur Seine 2025
DESCRIPTION:Le quartet de jazz\, inspiré par Ella Fitzgerald\, Samara Joy et d’autres\, revisite les classiques avec créativité et passion. Anastasia guide avec sa voix envoûtante\, plongeant dans l’intimité du Great American Songbook pour une expérience musicale captivante. \nGuidé par la voix chaude et profonde d’Anastasia\, le quartet puise son inspiration\, son énergie et son intimité dans la tradition du jazz vocal et les textes envoutants du Great American Songbook. Avec des influences allant de Ella Fitzgerald à Samara Joy\, en passant par Chet Baker\, Sarah Vaughan ou Franck Sinatra\, les musiciens du quartet présentent des arrangements modernes de standards dans lesquels on reconnaît leur créativité et leur amour de l’orchestration. \nGautier Montegu : piano\nGuillaume Leguerinel : batterie\nRayan Besançon : contrebasse\nAnastasia Konstandinidou : chant
URL:https://lemelville.fr/accueil/evenements/anastasia-4tet-2/
LOCATION:Le Melville\, 28 Rue Jean Mermoz\, Paris\, 75008\, France
CATEGORIES:Jazz,Soul
ATTACH;FMTTYPE=image/png:https://lemelville.fr/wp-content/uploads/2025/06/Anastasia-4tet-Affiche-NF-1.png
END:VEVENT
END:VCALENDAR