BEGIN:VCALENDAR
VERSION:2.0
PRODID:-//Le Melville - ECPv6.15.17//NONSGML v1.0//EN
CALSCALE:GREGORIAN
METHOD:PUBLISH
X-WR-CALNAME:Le Melville
X-ORIGINAL-URL:https://lemelville.fr/accueil
X-WR-CALDESC:Évènements pour Le Melville
REFRESH-INTERVAL;VALUE=DURATION:PT1H
X-Robots-Tag:noindex
X-PUBLISHED-TTL:PT1H
BEGIN:VTIMEZONE
TZID:Europe/Paris
BEGIN:DAYLIGHT
TZOFFSETFROM:+0100
TZOFFSETTO:+0200
TZNAME:CEST
DTSTART:20220327T010000
END:DAYLIGHT
BEGIN:STANDARD
TZOFFSETFROM:+0200
TZOFFSETTO:+0100
TZNAME:CET
DTSTART:20221030T010000
END:STANDARD
BEGIN:DAYLIGHT
TZOFFSETFROM:+0100
TZOFFSETTO:+0200
TZNAME:CEST
DTSTART:20230326T010000
END:DAYLIGHT
BEGIN:STANDARD
TZOFFSETFROM:+0200
TZOFFSETTO:+0100
TZNAME:CET
DTSTART:20231029T010000
END:STANDARD
BEGIN:DAYLIGHT
TZOFFSETFROM:+0100
TZOFFSETTO:+0200
TZNAME:CEST
DTSTART:20240331T010000
END:DAYLIGHT
BEGIN:STANDARD
TZOFFSETFROM:+0200
TZOFFSETTO:+0100
TZNAME:CET
DTSTART:20241027T010000
END:STANDARD
BEGIN:DAYLIGHT
TZOFFSETFROM:+0100
TZOFFSETTO:+0200
TZNAME:CEST
DTSTART:20250330T010000
END:DAYLIGHT
BEGIN:STANDARD
TZOFFSETFROM:+0200
TZOFFSETTO:+0100
TZNAME:CET
DTSTART:20251026T010000
END:STANDARD
BEGIN:DAYLIGHT
TZOFFSETFROM:+0100
TZOFFSETTO:+0200
TZNAME:CEST
DTSTART:20260329T010000
END:DAYLIGHT
BEGIN:STANDARD
TZOFFSETFROM:+0200
TZOFFSETTO:+0100
TZNAME:CET
DTSTART:20261025T010000
END:STANDARD
END:VTIMEZONE
BEGIN:VEVENT
DTSTART;TZID=Europe/Paris:20250129T203000
DTEND;TZID=Europe/Paris:20250129T233000
DTSTAMP:20260421T224107
CREATED:20240505T144310Z
LAST-MODIFIED:20241110T221242Z
UID:10000559-1738182600-1738193400@lemelville.fr
SUMMARY:Victor Demange
DESCRIPTION:Du blues\, du boogie\, du stride. Ça va swinguer ! \nVictor Demange est un pianiste au style original qui a su se faire une place sur la scène française. Régulièrement invité dans les festivals\, il compte plusieurs collaborations prestigieuses comme notamment Bob Baldori\, le pianiste qui a accompagné Chuck Berry pendant plus de 40 ans ou encore Fabrice Eulry\, pianiste français spécialiste du piano stride.\nAccompagné de ses deux musiciens de marque\, Mat Le Rouge au saxophone et Thomas Racine à la batterie\, il propose un style swing\, blues & boogie inspiré du vieux jazz de la Nouvelle Orléans. Il vous étonnera avec un répertoire varié allant de standards à des réarrangements de musique classique toujours dans un style de vieux jazz américain. \nVictor Demange : piano\nMat Le Rouge : sax\nSimon Boyer : batterie
URL:https://lemelville.fr/accueil/evenements/victor-demange-5/
LOCATION:Le Melville\, 28 Rue Jean Mermoz\, Paris\, 75008\, France
CATEGORIES:Stride, Be-Bop,Swing
ATTACH;FMTTYPE=image/png:https://lemelville.fr/wp-content/uploads/2024/05/Victor-Demange-Trio-Affiche.png
END:VEVENT
BEGIN:VEVENT
DTSTART;TZID=Europe/Paris:20241203T203000
DTEND;TZID=Europe/Paris:20241203T233000
DTSTAMP:20260421T224107
CREATED:20240724T084930Z
LAST-MODIFIED:20240724T084930Z
UID:10000633-1733257800-1733268600@lemelville.fr
SUMMARY:Victor Demange
DESCRIPTION:Du blues\, du boogie\, du stride. Ça va swinguer ! \nVictor Demange est un pianiste au style original qui a su se faire une place sur la scène française. Régulièrement invité dans les festivals\, il compte plusieurs collaborations prestigieuses comme notamment Bob Baldori\, le pianiste qui a accompagné Chuck Berry pendant plus de 40 ans ou encore Fabrice Eulry\, pianiste français spécialiste du piano stride.\nAccompagné de ses deux musiciens de marque\, Mat Le Rouge au saxophone et Thomas Racine à la batterie\, il propose un style swing\, blues & boogie inspiré du vieux jazz de la Nouvelle Orléans. Il vous étonnera avec un répertoire varié allant de standards à des réarrangements de musique classique toujours dans un style de vieux jazz américain. \nVictor Demange : piano\nMat Le Rouge : sax\nSimon Boyer : batterie
URL:https://lemelville.fr/accueil/evenements/victor-demange-6/
LOCATION:Le Melville\, 28 Rue Jean Mermoz\, Paris\, 75008\, France
CATEGORIES:Stride, Be-Bop,Swing
ATTACH;FMTTYPE=image/png:https://lemelville.fr/wp-content/uploads/2024/07/Victor-Demange-Affiche-NF.png
END:VEVENT
BEGIN:VEVENT
DTSTART;TZID=Europe/Paris:20241019T210000
DTEND;TZID=Europe/Paris:20241019T233000
DTSTAMP:20260421T224107
CREATED:20240724T085238Z
LAST-MODIFIED:20240928T131937Z
UID:10000605-1729371600-1729380600@lemelville.fr
SUMMARY:Swing That !
DESCRIPTION:SWING THAT ! rend hommage au swing populaire  \n De la Nouvelle-Orléans aux comédies musicales en passant par les succès de Nat King Cole ou de Benny Goodman\, on a tous quelque part en tête ces jolies mélodies qui nous font claquer des doigts et nous racontent de belles histoires.  \nSWING THAT rend hommage à ce répertoire\, en distillant avec amour une sélection d’airs in french ou en anglais qui vous ferons fredonner certains passages à coup sûr…  \n… et pourquoi pas danser puisque Swing That a aussi pour vocation d’accompagner les bals-swing\, redevenus très en vogue à Paris.  \nGeorges Wolfaardt : contrebasse  \nAmaury Faye : piano  \nAdrien Tarraga : Guitare \nDavid Lesprit clarinette\, sax s\, chant. 
URL:https://lemelville.fr/accueil/evenements/swing-that-4/
LOCATION:Le Melville\, 28 Rue Jean Mermoz\, Paris\, 75008\, France
CATEGORIES:New Orleans,Stride, Be-Bop,Swing
ATTACH;FMTTYPE=image/png:https://lemelville.fr/wp-content/uploads/2024/07/SWING-THAT-Affiche-NF-1.png
END:VEVENT
BEGIN:VEVENT
DTSTART;TZID=Europe/Paris:20240504T203000
DTEND;TZID=Europe/Paris:20240504T233000
DTSTAMP:20260421T224107
CREATED:20240419T185146Z
LAST-MODIFIED:20240611T153954Z
UID:10000501-1714854600-1714865400@lemelville.fr
SUMMARY:Victor Demange
DESCRIPTION:Du blues\, du boogie\, du stride. Ça va swinguer ! \nVictor Demange est un pianiste au style original qui a su se faire une place sur la scène française. Régulièrement invité dans les festivals\, il compte plusieurs collaborations prestigieuses comme notamment Bob Baldori\, le pianiste qui a accompagné Chuck Berry pendant plus de 40 ans ou encore Fabrice Eulry\, pianiste français spécialiste du piano stride.\nAccompagné de ses deux musiciens de marque\, Mat Le Rouge au saxophone et Thomas Racine à la batterie\, il propose un style swing\, blues & boogie inspiré du vieux jazz de la Nouvelle Orléans. Il vous étonnera avec un répertoire varié allant de standards à des réarrangements de musique classique toujours dans un style de vieux jazz américain. \nVictor Demange : piano\nMat Le Rouge : sax\nSimon Boyer : batterie
URL:https://lemelville.fr/accueil/evenements/victor-demange-4/
LOCATION:Le Melville\, 28 Rue Jean Mermoz\, Paris\, 75008\, France
CATEGORIES:Stride, Be-Bop,Swing
ATTACH;FMTTYPE=image/png:https://lemelville.fr/wp-content/uploads/2024/04/Victor-Demange-Trio-Boyer-Affiche-1.png
END:VEVENT
BEGIN:VEVENT
DTSTART;TZID=Europe/Paris:20240405T203000
DTEND;TZID=Europe/Paris:20240405T233000
DTSTAMP:20260421T224107
CREATED:20231104T150329Z
LAST-MODIFIED:20240611T153954Z
UID:10000406-1712349000-1712359800@lemelville.fr
SUMMARY:Victor Demange
DESCRIPTION:Du blues\, du boogie\, du stride. Ça va swinguer ! \nVictor Demange est un pianiste au style original qui a su se faire une place sur la scène française. Régulièrement invité dans les festivals\, il compte plusieurs collaborations prestigieuses comme notamment Bob Baldori\, le pianiste qui a accompagné Chuck Berry pendant plus de 40 ans ou encore Fabrice Eulry\, pianiste français spécialiste du piano stride.\nAccompagné de ses deux musiciens de marque\, Mat Le Rouge au saxophone et Simon Boyer à la batterie\, il propose un style swing\, blues & boogie inspiré du vieux jazz de la Nouvelle Orléans. Il vous étonnera avec un répertoire varié allant de standards à des réarrangements de musique classique toujours dans un style de vieux jazz américain. \n  \nVictor Demange : piano  \nMat Le Rouge : sax  \nSimon Boyer : batterie 
URL:https://lemelville.fr/accueil/evenements/victor-demange-2/
LOCATION:Le Melville\, 28 Rue Jean Mermoz\, Paris\, 75008\, France
CATEGORIES:Stride, Be-Bop
ATTACH;FMTTYPE=image/png:https://lemelville.fr/wp-content/uploads/2023/11/Victor-Demange-Trio-Boyer-Affiche.png
END:VEVENT
BEGIN:VEVENT
DTSTART;TZID=Europe/Paris:20240201T203000
DTEND;TZID=Europe/Paris:20240201T233000
DTSTAMP:20260421T224107
CREATED:20231216T161827Z
LAST-MODIFIED:20240611T153954Z
UID:10000434-1706819400-1706830200@lemelville.fr
SUMMARY:Victor Demange
DESCRIPTION:Du blues\, du boogie\, du stride. Ça va swinguer ! \nVictor Demange est un pianiste au style original qui a su se faire une place sur la scène française. Régulièrement invité dans les festivals\, il compte plusieurs collaborations prestigieuses comme notamment Bob Baldori\, le pianiste qui a accompagné Chuck Berry pendant plus de 40 ans ou encore Fabrice Eulry\, pianiste français spécialiste du piano stride.\nAccompagné de ses deux musiciens de marque\, Mat Le Rouge au saxophone et Thomas Racine à la batterie\, il propose un style swing\, blues & boogie inspiré du vieux jazz de la Nouvelle Orléans. Il vous étonnera avec un répertoire varié allant de standards à des réarrangements de musique classique toujours dans un style de vieux jazz américain.
URL:https://lemelville.fr/accueil/evenements/victor-demange-3/
CATEGORIES:Stride, Be-Bop
ATTACH;FMTTYPE=image/png:https://lemelville.fr/wp-content/uploads/2023/09/victor-demange.png
END:VEVENT
BEGIN:VEVENT
DTSTART;TZID=Europe/Paris:20231117T180000
DTEND;TZID=Europe/Paris:20231117T233000
DTSTAMP:20260421T224107
CREATED:20231006T205654Z
LAST-MODIFIED:20240611T153954Z
UID:10000383-1700244000-1700263800@lemelville.fr
SUMMARY:Victor Demange Trio
DESCRIPTION:Victor Demange est un pianiste au style original qui a su se faire une place sur la scène française. Régulièrement invité dans les festivals\, il compte plusieurs collaborations prestigieuses comme notamment Bob Baldori\, le pianiste qui a accompagné Chuck Berry pendant plus de 40 ans ou encore Fabrice Eulry\, pianiste français spécialiste du piano stride.  Accompagné de ses deux musiciens de marque\, Mat Le Rouge au saxophone et Thomas Racine à la batterie\, il propose un style swing\, blues & boogie inspiré du vieux jazz de la Nouvelle Orléans. Il vous étonnera avec un répertoire varié allant de standards à des réarrangements de musique classique toujours dans un style de vieux jazz américain. 
URL:https://lemelville.fr/accueil/evenements/victor-demange-trio/
CATEGORIES:Stride, Be-Bop
ATTACH;FMTTYPE=image/png:https://lemelville.fr/wp-content/uploads/2023/09/victor-demange.png
END:VEVENT
BEGIN:VEVENT
DTSTART;TZID=Europe/Paris:20230922T190000
DTEND;TZID=Europe/Paris:20230922T230000
DTSTAMP:20260421T224107
CREATED:20230921T134444Z
LAST-MODIFIED:20240611T153954Z
UID:10000344-1695409200-1695423600@lemelville.fr
SUMMARY:Victor Demange
DESCRIPTION:Du blues\, du boogie\, du stride. Ça va swinguer ! \nVictor Demange est un pianiste au style original qui a su se faire une place sur la scène française. Régulièrement invité dans les festivals\, il compte plusieurs collaborations prestigieuses comme notamment Bob Baldori\, le pianiste qui a accompagné Chuck Berry pendant plus de 40 ans ou encore Fabrice Eulry\, pianiste français spécialiste du piano stride. Accompagné de ses deux musiciens de marque\, Mat Le Rouge au saxophone et Thomas Racine à la batterie\, il propose un style swing\, blues & boogie inspiré du vieux jazz de la Nouvelle Orléans. Il vous étonnera avec un répertoire varié allant de standards à des réarrangements de musique classique toujours dans un style de vieux jazz américain.
URL:https://lemelville.fr/accueil/evenements/victor-demange/
LOCATION:Le Melville\, 28 Rue Jean Mermoz\, Paris\, 75008\, France
CATEGORIES:Stride, Be-Bop
ATTACH;FMTTYPE=image/png:https://lemelville.fr/wp-content/uploads/2023/09/victor-demange.png
END:VEVENT
END:VCALENDAR