BEGIN:VCALENDAR
VERSION:2.0
PRODID:-//Le Melville - ECPv6.15.17//NONSGML v1.0//EN
CALSCALE:GREGORIAN
METHOD:PUBLISH
X-WR-CALNAME:Le Melville
X-ORIGINAL-URL:https://lemelville.fr/accueil
X-WR-CALDESC:Évènements pour Le Melville
REFRESH-INTERVAL;VALUE=DURATION:PT1H
X-Robots-Tag:noindex
X-PUBLISHED-TTL:PT1H
BEGIN:VTIMEZONE
TZID:Europe/Paris
BEGIN:DAYLIGHT
TZOFFSETFROM:+0100
TZOFFSETTO:+0200
TZNAME:CEST
DTSTART:20240331T010000
END:DAYLIGHT
BEGIN:STANDARD
TZOFFSETFROM:+0200
TZOFFSETTO:+0100
TZNAME:CET
DTSTART:20241027T010000
END:STANDARD
BEGIN:DAYLIGHT
TZOFFSETFROM:+0100
TZOFFSETTO:+0200
TZNAME:CEST
DTSTART:20250330T010000
END:DAYLIGHT
BEGIN:STANDARD
TZOFFSETFROM:+0200
TZOFFSETTO:+0100
TZNAME:CET
DTSTART:20251026T010000
END:STANDARD
BEGIN:DAYLIGHT
TZOFFSETFROM:+0100
TZOFFSETTO:+0200
TZNAME:CEST
DTSTART:20260329T010000
END:DAYLIGHT
BEGIN:STANDARD
TZOFFSETFROM:+0200
TZOFFSETTO:+0100
TZNAME:CET
DTSTART:20261025T010000
END:STANDARD
END:VTIMEZONE
BEGIN:VEVENT
DTSTART;TZID=Europe/Paris:20250401T203000
DTEND;TZID=Europe/Paris:20250401T230000
DTSTAMP:20260425T133751
CREATED:20250118T172335Z
LAST-MODIFIED:20250118T172335Z
UID:10000747-1743539400-1743548400@lemelville.fr
SUMMARY:Tommy Roots Trio
DESCRIPTION:Le Tommy Roots Trio\, composé de Matthieu Meyer au piano\, Prokhor Burlak au saxo ténor et Thomas Racine à la batterie\, revisite les classiques du jazz avec une touche moderne. Leur musique audacieuse et élégante offre une ambiance à la fois nostalgique et innovante\, mêlant improvisations et compositions originales \nLe Tommy Roots Trio est un groupe de jazz moderne qui explore les racines du genre tout en y apportant une touche contemporaine. Composé  d’un pianiste virtuose\, d’un saxophoniste ébouriffant et d’un batteurde genie\, ce trio se distingue par ses improvisations audacieuses et ses arrangements élégants. Leur répertoire mêle des classiques du jazz revisités à des compositions originales\, offrant une ambiance à la fois nostalgique et innovante.  \nMatthieu meyer : piano\nProkhor Burlak : Saxo Ténor\nThomas Racine : Drums
URL:https://lemelville.fr/accueil/evenements/tommy-roots-trio-2/
LOCATION:Le Melville\, 28 Rue Jean Mermoz\, Paris\, 75008\, France
CATEGORIES:Swing New Orleans
ATTACH;FMTTYPE=image/png:https://lemelville.fr/wp-content/uploads/2025/01/Tommy-Roots-Trio-Affiche-Nf.png
END:VEVENT
END:VCALENDAR