BEGIN:VCALENDAR
VERSION:2.0
PRODID:-//Le Melville - ECPv6.15.17//NONSGML v1.0//EN
CALSCALE:GREGORIAN
METHOD:PUBLISH
X-ORIGINAL-URL:https://lemelville.fr/accueil
X-WR-CALDESC:Évènements pour Le Melville
REFRESH-INTERVAL;VALUE=DURATION:PT1H
X-Robots-Tag:noindex
X-PUBLISHED-TTL:PT1H
BEGIN:VTIMEZONE
TZID:Europe/Paris
BEGIN:DAYLIGHT
TZOFFSETFROM:+0100
TZOFFSETTO:+0200
TZNAME:CEST
DTSTART:20230326T010000
END:DAYLIGHT
BEGIN:STANDARD
TZOFFSETFROM:+0200
TZOFFSETTO:+0100
TZNAME:CET
DTSTART:20231029T010000
END:STANDARD
BEGIN:DAYLIGHT
TZOFFSETFROM:+0100
TZOFFSETTO:+0200
TZNAME:CEST
DTSTART:20240331T010000
END:DAYLIGHT
BEGIN:STANDARD
TZOFFSETFROM:+0200
TZOFFSETTO:+0100
TZNAME:CET
DTSTART:20241027T010000
END:STANDARD
BEGIN:DAYLIGHT
TZOFFSETFROM:+0100
TZOFFSETTO:+0200
TZNAME:CEST
DTSTART:20250330T010000
END:DAYLIGHT
BEGIN:STANDARD
TZOFFSETFROM:+0200
TZOFFSETTO:+0100
TZNAME:CET
DTSTART:20251026T010000
END:STANDARD
END:VTIMEZONE
BEGIN:VEVENT
DTSTART;TZID=Europe/Paris:20240607T203000
DTEND;TZID=Europe/Paris:20240607T233000
DTSTAMP:20260422T230319
CREATED:20240420T072108Z
LAST-MODIFIED:20240611T095614Z
UID:10000519-1717792200-1717803000@lemelville.fr
SUMMARY:Olivier Franc Trio
DESCRIPTION:Olivier Franc: Saxophoniste Soprano\, prix Sidney Bechet de l’académie du jazz\, joue sur le saxophone personnel de Sidney Bechet. Olivier est le fils de René Franc\, clarinettiste des orchestres de Pierre Braslavsky et d’André Réwéliotty qui accompagnèrent Sidney Bechet. Olivier débute sa carrière au début des années 1970 avant de fonder en 1976 sa propre formation. En 1979\, il reçoit le Prix Sidney Bechet de l’Académie puis obtient le Prix Musiciens Français du Hot Club de France en 1997\, pour son disque “Swing Folies” et en 2012\, pour son disque “Ellington Mood”. Il est aujourd’hui reconnu dans le monde entier comme étant le meilleur disciple de Sidney Bechet\, comme en témoigne son invitation par Wynton Marsalis sur la grande scène de Jazz in Marciac ou ses prestations à New York comme à la Nouvelle Orléans . \nTout en restant fidèle au style et à l’esprit de la musique de Sidney Bechet\, Olivier Franc propose une musique nouvelle et personnelle avec des compositions originales. Depuis 2006\, il a le privilège de jouer sur le saxophone personnel de Sidney Bechet. En 2015\, il se produit à l’Olympia et en 2019 au Victoria Hall de Genève\, deux concerts salués par des standing ovations.
URL:https://lemelville.fr/accueil/evenements/olivier-franc-trio-3/
LOCATION:Le Melville\, 28 Rue Jean Mermoz\, Paris\, 75008\, France
CATEGORIES:Swing
ATTACH;FMTTYPE=image/png:https://lemelville.fr/wp-content/uploads/2023/12/Olivier-Franc-Trio.png
END:VEVENT
BEGIN:VEVENT
DTSTART;TZID=Europe/Paris:20240620T203000
DTEND;TZID=Europe/Paris:20240620T230000
DTSTAMP:20260422T230319
CREATED:20240420T073420Z
LAST-MODIFIED:20240611T103246Z
UID:10000551-1718915400-1718924400@lemelville.fr
SUMMARY:Kanis & Lou
DESCRIPTION:La chanteuse et guitariste Lou Richard et le Paolo Conti\, joueur de guitare hawaïenne (aka steel guitar aka kika kila) conjuguent leurs passions pour le swing et la musique hawaïenne. Matthieu Duretz à la basse électrique et à la contrebasse et Corentin Boizot-Blaise aux percussions ont rejoint ce duo magique.  \nD’abord résidant du fameux Tiki Lounge\, bar parisien antre de la culture Tiki\, ils se sont par la suite produits lors de concerts et festivals en France.   \nLou Richard : guitare\, chant \nPaolo Conti : guitare hawaïenne \nMatthieu Duretz : basse électrique et contrebasse \n 
URL:https://lemelville.fr/accueil/evenements/kanis-lou-2/
LOCATION:Le Melville\, 28 Rue Jean Mermoz\, Paris\, 75008\, France
CATEGORIES:Swing,World
ATTACH;FMTTYPE=image/png:https://lemelville.fr/wp-content/uploads/2023/09/Kanis-et-Lou.png
END:VEVENT
END:VCALENDAR