BEGIN:VCALENDAR
VERSION:2.0
PRODID:-//Le Melville - ECPv6.15.17//NONSGML v1.0//EN
CALSCALE:GREGORIAN
METHOD:PUBLISH
X-WR-CALNAME:Le Melville
X-ORIGINAL-URL:https://lemelville.fr/accueil
X-WR-CALDESC:Évènements pour Le Melville
REFRESH-INTERVAL;VALUE=DURATION:PT1H
X-Robots-Tag:noindex
X-PUBLISHED-TTL:PT1H
BEGIN:VTIMEZONE
TZID:Europe/Paris
BEGIN:DAYLIGHT
TZOFFSETFROM:+0100
TZOFFSETTO:+0200
TZNAME:CEST
DTSTART:20240331T010000
END:DAYLIGHT
BEGIN:STANDARD
TZOFFSETFROM:+0200
TZOFFSETTO:+0100
TZNAME:CET
DTSTART:20241027T010000
END:STANDARD
BEGIN:DAYLIGHT
TZOFFSETFROM:+0100
TZOFFSETTO:+0200
TZNAME:CEST
DTSTART:20250330T010000
END:DAYLIGHT
BEGIN:STANDARD
TZOFFSETFROM:+0200
TZOFFSETTO:+0100
TZNAME:CET
DTSTART:20251026T010000
END:STANDARD
BEGIN:DAYLIGHT
TZOFFSETFROM:+0100
TZOFFSETTO:+0200
TZNAME:CEST
DTSTART:20260329T010000
END:DAYLIGHT
BEGIN:STANDARD
TZOFFSETFROM:+0200
TZOFFSETTO:+0100
TZNAME:CET
DTSTART:20261025T010000
END:STANDARD
END:VTIMEZONE
BEGIN:VEVENT
DTSTART;TZID=Europe/Paris:20250205T203000
DTEND;TZID=Europe/Paris:20250205T230000
DTSTAMP:20260422T122833
CREATED:20241210T125713Z
LAST-MODIFIED:20241211T104949Z
UID:10000676-1738787400-1738796400@lemelville.fr
SUMMARY:Olivier Franc Quartet
DESCRIPTION:Olivier Franc: Saxophoniste Soprano\, prix Sidney Bechet de l’académie du jazz\, joue sur le saxophone personnel de Sidney Bechet. Olivier est le fils de René Franc\, clarinettiste des orchestres de Pierre Braslavsky et d’André Réwéliotty qui accompagnèrent Sidney Bechet. Olivier débute sa carrière au début des années 1970 avant de fonder en 1976 sa propre formation. En 1979\, il reçoit le Prix Sidney Bechet de l’Académie puis obtient le Prix Musiciens Français du Hot Club de France en 1997\, pour son disque “Swing Folies” et en 2012\, pour son disque “Ellington Mood”. Il est aujourd’hui reconnu dans le monde entier comme étant le meilleur disciple de Sidney Bechet\, comme en témoigne son invitation par Wynton Marsalis sur la grande scène de Jazz in Marciac ou ses prestations à New York comme à la Nouvelle Orléans . \nTout en restant fidèle au style et à l’esprit de la musique de Sidney Bechet\, Olivier Franc propose une musique nouvelle et personnelle avec des compositions originales. Depuis 2006\, il a le privilège de jouer sur le saxophone personnel de Sidney Bechet. En 2015\, il se produit à l’Olympia et en 2019 au Victoria Hall de Genève\, deux concerts salués par des standing ovations. \nOlivier Franc : saxo \nJean Baptiste Franc : piano \nAmaidy : contrebasse \nSchael Michanol : batterie \n  \n 
URL:https://lemelville.fr/accueil/evenements/olivier-franc-quartet/
LOCATION:Le Melville\, 28 Rue Jean Mermoz\, Paris\, 75008\, France
CATEGORIES:Swing
ATTACH;FMTTYPE=image/png:https://lemelville.fr/wp-content/uploads/2024/12/Olivier-Franc-Qtet-Affiche-NF.png
END:VEVENT
BEGIN:VEVENT
DTSTART;TZID=Europe/Paris:20250205T203000
DTEND;TZID=Europe/Paris:20250205T230000
DTSTAMP:20260422T122833
CREATED:20250211T003544Z
LAST-MODIFIED:20250211T003544Z
UID:10000782-1738787400-1738796400@lemelville.fr
SUMMARY:Olivier Franc 4tet
DESCRIPTION:Olivier Franc\, saxophoniste prodige et digne héritier de Sidney Bechet\, brille sur scène avec son groupe depuis les années 70. Récompensé par les plus prestigieux prix du jazz\, il enflamme les foules à travers le monde tout en restant fidèle à son mentor. Un virtuose incontournable ! \nOlivier Franc\, Saxophoniste Soprano\,  prix Sidney Bechet de l’académie du jazz\, joue sur le saxophone personnel de Sidney Bechet. Olivier est le fils de René Franc\, clarinettiste des orchestres de Pierre Braslavsky et d’André Réwéliotty qui accompagnèrent Sidney Bechet. Olivier débute sa carrière au début des années 1970 avant de fonder en 1976 sa propre formation. En 1979\, il reçoit le Prix Sidney Bechet de l’Académie puis obtient le Prix Musiciens Français du Hot Club de France en 1997\, pour son disque "Swing Folies" et en 2012\, pour son disque "Ellington Mood". Il est aujourd’hui reconnu dans le monde entier comme étant le meilleur disciple de Sidney Bechet\, comme en témoigne son invitation par Wynton Marsalis sur la grande scène de Jazz in Marciac ou ses prestations à New York comme à la Nouvelle Orléans .   \nTout en restant fidèle au style et à l’esprit de la musique de Sidney Bechet\, Olivier Franc propose une musique nouvelle et personnelle avec des compositions originales. Depuis 2006\, il a le privilège de jouer sur le saxophone personnel de Sidney Bechet. En 2015\, il se produit à l’Olympia et en 2019 au Victoria Hall de Genève\, deux concerts salués par des standing ovations.   \nOlivier Franc : saxo\nJean Baptiste Franc : piano\nAmaidy : contrebasse\nThomas Racine : batterie\nBenoit de Flamensil : trombone
URL:https://lemelville.fr/accueil/evenements/olivier-franc-4tet/
LOCATION:Le Melville\, 28 Rue Jean Mermoz\, Paris\, 75008\, France
CATEGORIES:Swing
ATTACH;FMTTYPE=image/png:https://lemelville.fr/wp-content/uploads/2025/02/Olivier-Franc-Qtet-Affiche-NF-1.png
END:VEVENT
BEGIN:VEVENT
DTSTART;TZID=Europe/Paris:20250225T203000
DTEND;TZID=Europe/Paris:20250225T230000
DTSTAMP:20260422T122833
CREATED:20250225T112837Z
LAST-MODIFIED:20250225T112837Z
UID:10000795-1740515400-1740524400@lemelville.fr
SUMMARY:The Rooftop BarberShop
DESCRIPTION:The Rooftop Barbershop revisite avec énergie et harmonie le jazz des années 20-30 à trois voix. Un trio talentueux mêlant voix\, clarinette\, guitare et contrebasse. \nDans l’esprit des quatuors Barbershop\, et de groupes vocaux tels que les Mills Brothers ou les Andrews Sisters\, The Rooftop Barbershop reprend et arrange\, à trois voix\, un répertoire jazz New-Orleans et Swing des années 20 aux années 30.  \nRémi Fahed : Chant/Clarinette\nLucas Montagnier : Chant/Guitare\nAntoine Bonvoisin : Chant/Contrebasse
URL:https://lemelville.fr/accueil/evenements/the-rooftop-barbershop-2/
LOCATION:Le Melville\, 28 Rue Jean Mermoz\, Paris\, 75008\, France
CATEGORIES:New Orleans,Swing
ATTACH;FMTTYPE=image/png:https://lemelville.fr/wp-content/uploads/2025/02/The-Rooftop-Barber-Shop-Affiche-NF.png
END:VEVENT
END:VCALENDAR