BEGIN:VCALENDAR
VERSION:2.0
PRODID:-//Le Melville - ECPv6.15.17//NONSGML v1.0//EN
CALSCALE:GREGORIAN
METHOD:PUBLISH
X-WR-CALNAME:Le Melville
X-ORIGINAL-URL:https://lemelville.fr/accueil
X-WR-CALDESC:Évènements pour Le Melville
REFRESH-INTERVAL;VALUE=DURATION:PT1H
X-Robots-Tag:noindex
X-PUBLISHED-TTL:PT1H
BEGIN:VTIMEZONE
TZID:Europe/Paris
BEGIN:DAYLIGHT
TZOFFSETFROM:+0100
TZOFFSETTO:+0200
TZNAME:CEST
DTSTART:20240331T010000
END:DAYLIGHT
BEGIN:STANDARD
TZOFFSETFROM:+0200
TZOFFSETTO:+0100
TZNAME:CET
DTSTART:20241027T010000
END:STANDARD
BEGIN:DAYLIGHT
TZOFFSETFROM:+0100
TZOFFSETTO:+0200
TZNAME:CEST
DTSTART:20250330T010000
END:DAYLIGHT
BEGIN:STANDARD
TZOFFSETFROM:+0200
TZOFFSETTO:+0100
TZNAME:CET
DTSTART:20251026T010000
END:STANDARD
BEGIN:DAYLIGHT
TZOFFSETFROM:+0100
TZOFFSETTO:+0200
TZNAME:CEST
DTSTART:20260329T010000
END:DAYLIGHT
BEGIN:STANDARD
TZOFFSETFROM:+0200
TZOFFSETTO:+0100
TZNAME:CET
DTSTART:20261025T010000
END:STANDARD
END:VTIMEZONE
BEGIN:VEVENT
DTSTART;TZID=Europe/Paris:20251107T210000
DTEND;TZID=Europe/Paris:20251107T233000
DTSTAMP:20260421T235212
CREATED:20251017T085325Z
LAST-MODIFIED:20251017T085325Z
UID:10000997-1762549200-1762558200@lemelville.fr
SUMMARY:Sylvain Bellegarde  4tet
DESCRIPTION:Sylvain Bellegarde\, chanteur québécois passé du classique au jazz\, brille sur scène avec les Voice Messengers. Entre crooners et swing\, il vous emporte dans son univers captivant ce soir. Issu de la scène du chant canadien\, sa voix envoûtante fait sensation partout dans le monde. \nLe chanteur québécois Sylvain Bellegarde\, formé auprès de légendes du chant canadien\, s’est lancé dans le jazz en France au début des années 2000. Avec les Voice Messengers\, il enflamme les scènes du monde entier. Ce soir\, il vous transporte avec brio dans l’univers des crooners et du swing. \nSylvain Bellegarde : guitare\, chant\nLaurent Epstein : piano\nGilles  Naturel : contrebasse\nVincent De Jesus Frade : batterie
URL:https://lemelville.fr/accueil/evenements/sylvain-bellegarde-4tet/
LOCATION:Le Melville\, 28 Rue Jean Mermoz\, Paris\, 75008\, France
CATEGORIES:Swing,Vocal Jazz
ATTACH;FMTTYPE=image/png:https://lemelville.fr/wp-content/uploads/2025/10/Sylvain-Bellegarde-4tet-Affiche-NF.png
END:VEVENT
BEGIN:VEVENT
DTSTART;TZID=Europe/Paris:20251114T210000
DTEND;TZID=Europe/Paris:20251114T233000
DTSTAMP:20260421T235212
CREATED:20251017T094500Z
LAST-MODIFIED:20251017T094500Z
UID:10001002-1763154000-1763163000@lemelville.fr
SUMMARY:Olivier Franc 4tet
DESCRIPTION:Olivier Franc\, saxophoniste brillant et digne héritier de Sidney Bechet\, a parcouru le monde avec sa musique captivante. Accompagné de son fils\, pianiste talentueux surnommé “Little Fats”\, ils enflamment les scènes internationales avec leur swing unique. Ce duo pétillant est accompagné ce soir du génial Benoït de Flamesnil au Trombone et du flamboyant Amaïdi à la contrebasse. \nOlivier Franc\, Saxophoniste Soprano\,  prix Sidney Bechet de l’académie du jazz\, joue sur le saxophone personnel de Sidney Bechet. Olivier est le fils de René Franc\, clarinettiste des orchestres de Pierre Braslavsky et d’André Réwéliotty qui accompagnèrent Sidney Bechet. Olivier débute sa carrière au début des années 1970 avant de fonder en 1976 sa propre formation. En 1979\, il reçoit le Prix Sidney Bechet de l’Académie puis obtient le Prix Musiciens Français du Hot Club de France en 1997\, pour son disque "Swing Folies" et en 2012\, pour son disque "Ellington Mood". Il est aujourd’hui reconnu dans le monde entier comme étant le meilleur disciple de Sidney Bechet\, comme en témoigne son invitation par Wynton Marsalis sur la grande scène de Jazz in Marciac ou ses prestations à New York comme à la Nouvelle Orléans .   \nTout en restant fidèle au style et à l’esprit de la musique de Sidney Bechet\, Olivier Franc propose une musique nouvelle et personnelle avec des compositions originales. Depuis 2006\, il a le privilège de jouer sur le saxophone personnel de Sidney Bechet. En 2015\, il se produit à l’Olympia et en 2019 au Victoria Hall de Genève\, deux concerts salués par des standing ovations.   \nIl sera accompagné ce soir de son fils\, Jean Baptiste Franc\, pianiste de swing\, stride et blues surnommé “Little Fats” par le guitariste de Fats Waller\, Al Casey remporte le 1er prix du concours international de piano stride organisé par l’université Ole Miss du Mississippi en mai 2018.  \nIl a déjà eu le privilège de jouer avec Arwell Shaw\, le contrebassiste de Louis Armstrong et a obtenu les encouragements de Wynton Marsalis et Monty Alexander pour son 1 er cd enregistré avec le batteur de Count Basie: Duffy Jackson.  \nEn 2010 il enregistre un disque de compositions originales avec Melody Federer à Hollywood produit par le chanteur Pat Boon.  \nIl s’est déjà produit à l’Olympia en 2015\, au Victoria Hall de Genève en 2019\, Symphony Space de New York ainsi qu’aux Opéras de Dresde et Francfort en Allemagne.   \nEt a enregistré des émissions pour France Musique et TSF.\nEn 2022\, nouveau cd: "Garner in my mind" avec Yann-Lou Bertrand à la contrebasse et Mourad Benhamou à la batterie.  \nLP produit par JC Hopkins\, compositeur New Yorkais\, producteur de Norah Jones\, Madeleine Peyroux…  \nJean Baptiste  Franc : piano\nBenoit Gueroult De Flamesnil : trombonne\nOlivier Franc : sax\nAmaidi : contrebasse
URL:https://lemelville.fr/accueil/evenements/olivier-franc-4tet-3/
LOCATION:Le Melville\, 28 Rue Jean Mermoz\, Paris\, 75008\, France
CATEGORIES:Jazz Standard,Swing
ATTACH;FMTTYPE=image/png:https://lemelville.fr/wp-content/uploads/2025/10/Olivier-Franc-Qtet-Affiche-NF.png
END:VEVENT
END:VCALENDAR