BEGIN:VCALENDAR
VERSION:2.0
PRODID:-//Le Melville - ECPv6.15.17//NONSGML v1.0//EN
CALSCALE:GREGORIAN
METHOD:PUBLISH
X-ORIGINAL-URL:https://lemelville.fr/accueil
X-WR-CALDESC:Évènements pour Le Melville
REFRESH-INTERVAL;VALUE=DURATION:PT1H
X-Robots-Tag:noindex
X-PUBLISHED-TTL:PT1H
BEGIN:VTIMEZONE
TZID:Europe/Paris
BEGIN:DAYLIGHT
TZOFFSETFROM:+0100
TZOFFSETTO:+0200
TZNAME:CEST
DTSTART:20250330T010000
END:DAYLIGHT
BEGIN:STANDARD
TZOFFSETFROM:+0200
TZOFFSETTO:+0100
TZNAME:CET
DTSTART:20251026T010000
END:STANDARD
BEGIN:DAYLIGHT
TZOFFSETFROM:+0100
TZOFFSETTO:+0200
TZNAME:CEST
DTSTART:20260329T010000
END:DAYLIGHT
BEGIN:STANDARD
TZOFFSETFROM:+0200
TZOFFSETTO:+0100
TZNAME:CET
DTSTART:20261025T010000
END:STANDARD
BEGIN:DAYLIGHT
TZOFFSETFROM:+0100
TZOFFSETTO:+0200
TZNAME:CEST
DTSTART:20270328T010000
END:DAYLIGHT
BEGIN:STANDARD
TZOFFSETFROM:+0200
TZOFFSETTO:+0100
TZNAME:CET
DTSTART:20271031T010000
END:STANDARD
END:VTIMEZONE
BEGIN:VEVENT
DTSTART;TZID=Europe/Paris:20260226T203000
DTEND;TZID=Europe/Paris:20260226T230000
DTSTAMP:20260421T192938
CREATED:20260104T084843Z
LAST-MODIFIED:20260104T084843Z
UID:10001099-1772137800-1772146800@lemelville.fr
SUMMARY:Victor Demange
DESCRIPTION:Victor Demange\, virtuose du piano au style original\, brille sur la scène française. Avec des collaborations prestigieuses et son trio de choc\, il réveille le swing et le blues de la Nouvelle Orléans. De Chuck Berry à des réarrangements inattendus\, ce pianiste talentueux saura vous surprendre! \nVictor Demange est un pianiste virtuose au style original qui a su se faire une place sur la scène française. Régulièrement invité dans les festivals\, il compte plusieurs collaborations prestigieuses comme notamment Bob Baldori\, le pianiste qui a accompagné Chuck Berry pendant plus de 40 ans ou encore Fabrice Eulry\, pianiste français spécialiste du piano stride.\nAccompagné de ses deux musiciens de marque\, Mat Le Rouge au saxophone et Thomas Racine à la batterie\, il propose un style swing\, boogie\, blues inspiré du vieux jazz de la Nouvelle Orléans. Il vous étonnera avec un répertoire varié allant de standards à des réarrangements de musique classique toujours dans un style de vieux jazz américain.  \nVictor Demange : piano\nMat Le Rouge : sax\nThomas Racine : batterie
URL:https://lemelville.fr/accueil/evenements/victor-demange-12/
LOCATION:Le Melville\, 28 Rue Jean Mermoz\, Paris\, 75008\, France
CATEGORIES:Boogie,Swing
ATTACH;FMTTYPE=image/png:https://lemelville.fr/wp-content/uploads/2026/01/Victor-Demange-Racine-Affiche-NF.png
END:VEVENT
BEGIN:VEVENT
DTSTART;TZID=Europe/Paris:20260227T210000
DTEND;TZID=Europe/Paris:20260227T233000
DTSTAMP:20260421T192938
CREATED:20260207T081743Z
LAST-MODIFIED:20260207T081743Z
UID:10001123-1772226000-1772235000@lemelville.fr
SUMMARY:The Spicy L'il Devils
DESCRIPTION:Ali Affleck\, chanteuse passionnée\, transporte avec brio le répertoire des années 1920. Accompagnée de talents comme Michel Pastre\, elle mêle humour et érudition pour offrir des performances uniques et vibrantes. Une expérience musicale envoûtante à ne pas manquer ! 🎶 \nAli Affleck est une chanteuse écossaise et américaine basée à Édimbourg. Une des quelques spécialistes mondiales du répertoire des années 1920\, elle connaît intimement la vie et le style des grandes chanteuses de blues et de jazz des premières années. Ses représentations sont toujours hautement divertissantes\, notamment car elle sait bien présenter et contextualiser les chansons qu’elle interprète\, en alliant humour et érudition. \nElle apporte une touche très personnelle à un répertoire peu interprété qu’elle défend avec passion. \nCe soir\, elle sera accompagnée de Lorenzo Cortes (guitare et MD)\, Matthieu Meyer (piano)\, rejoints par l’un des meilleurs saxophoniste français\, Michel Pastre. \nCette musique audacieuse est aussi vibrante et pertinente aujourd’hui qu’elle l’était dans les salles de danse des années 1930 et les Spicy l’il Devils ont pour objectif d’embrasser nos oreilles du 21e siècle avec le même ravissement et le même esprit joyeux que les compositeurs originaux ont voulu.  \nLaurent Le Gall : contrebasse\nThomas Racine : batterie\nAli Afleck : chant\nLorenzo  Cortés  : guitare
URL:https://lemelville.fr/accueil/evenements/the-spicy-lil-devils-2/
LOCATION:Le Melville\, 28 Rue Jean Mermoz\, Paris\, 75008\, France
CATEGORIES:Jazz Standard,Swing
ATTACH;FMTTYPE=image/png:https://lemelville.fr/wp-content/uploads/2026/02/Spicy-Lle-Devils-02-26-Affiche-NF.png
END:VEVENT
END:VCALENDAR