BEGIN:VCALENDAR
VERSION:2.0
PRODID:-//Le Melville - ECPv6.15.17//NONSGML v1.0//EN
CALSCALE:GREGORIAN
METHOD:PUBLISH
X-ORIGINAL-URL:https://lemelville.fr/accueil
X-WR-CALDESC:Évènements pour Le Melville
REFRESH-INTERVAL;VALUE=DURATION:PT1H
X-Robots-Tag:noindex
X-PUBLISHED-TTL:PT1H
BEGIN:VTIMEZONE
TZID:Europe/Paris
BEGIN:DAYLIGHT
TZOFFSETFROM:+0100
TZOFFSETTO:+0200
TZNAME:CEST
DTSTART:20250330T010000
END:DAYLIGHT
BEGIN:STANDARD
TZOFFSETFROM:+0200
TZOFFSETTO:+0100
TZNAME:CET
DTSTART:20251026T010000
END:STANDARD
BEGIN:DAYLIGHT
TZOFFSETFROM:+0100
TZOFFSETTO:+0200
TZNAME:CEST
DTSTART:20260329T010000
END:DAYLIGHT
BEGIN:STANDARD
TZOFFSETFROM:+0200
TZOFFSETTO:+0100
TZNAME:CET
DTSTART:20261025T010000
END:STANDARD
BEGIN:DAYLIGHT
TZOFFSETFROM:+0100
TZOFFSETTO:+0200
TZNAME:CEST
DTSTART:20270328T010000
END:DAYLIGHT
BEGIN:STANDARD
TZOFFSETFROM:+0200
TZOFFSETTO:+0100
TZNAME:CET
DTSTART:20271031T010000
END:STANDARD
END:VTIMEZONE
BEGIN:VEVENT
DTSTART;TZID=Europe/Paris:20260306T210000
DTEND;TZID=Europe/Paris:20260306T233000
DTSTAMP:20260421T164608
CREATED:20260124T101017Z
LAST-MODIFIED:20260124T101017Z
UID:10001121-1772830800-1772839800@lemelville.fr
SUMMARY:Tommy Roots Trio
DESCRIPTION:Le Tommy Roots Trio réinvente le jazz en mêlant habilement classiques revisités et compositions originales. Un pianiste virtuose\, un saxophoniste ébouriffant et un batteur de génie offrent des improvisations audacieuses et des arrangements élégants. Ambiance nostalgique et innovante garantie ! 🎶 \nLe Tommy Roots Trio est un groupe de jazz moderne qui explore les racines du genre tout en y apportant une touche contemporaine. Composé d’un pianiste virtuose\, d’un saxophoniste ébouriffant et d’un batteurde genie\, ce trio se distingue par ses improvisations audacieuses et ses arrangements élégants. Leur répertoire mêle des classiques du jazz revisités à des compositions originales\, offrant une ambiance à la fois nostalgique et innovante. \nProkor Burlhak : sax\nMathieu Meyer : piano\nThomas Racine : batterie
URL:https://lemelville.fr/accueil/evenements/tommy-roots-trio-4/
LOCATION:Le Melville\, 28 Rue Jean Mermoz\, Paris\, 75008\, France
CATEGORIES:Jazz,Swing
ATTACH;FMTTYPE=image/png:https://lemelville.fr/wp-content/uploads/2026/01/Tommy-Roots-Trio-Affiche-Nf.png
END:VEVENT
BEGIN:VEVENT
DTSTART;TZID=Europe/Paris:20260318T203000
DTEND;TZID=Europe/Paris:20260318T230000
DTSTAMP:20260421T164608
CREATED:20260208T180145Z
LAST-MODIFIED:20260208T180145Z
UID:10001131-1773865800-1773874800@lemelville.fr
SUMMARY:New York Swing 4tet
DESCRIPTION:Eliz Corbett a deux amours — le Jazz et Paris. \nDepuis qu’elle a succombé au virus du jazz durant ses années fac près de New York\, où elle fréquentait les élèves de Kenny Barron\, Eliz est complètement accro. Mais c’est à Paris sa ville d’adoption qu’elle apprend à chanter pour de vrai et à improviser sur les fameuses ‘grilles’ du jazz. Pour l’américaine qu’elle est\, les ‘standards de jazz’ sont des chansons à texte intemporelles écrites par les virtuoses de l’âge d’or de Broadway. Par conséquent\, elle les offre au public avec autant de respect pour la composition originale & la poésie des paroles que de liberté pour l’expression personnelle. Aidée par un timbre de voix chaleureux et une présence scénique généreuse\, Eliz et son orchestre proposent une bulle d’humanité joyeuse et réconfortante. \nEliz & son New York Swing ont profité de l’occasion pour inviter un soliste de prestige : le trompettiste et compositeur Jean Gobinet\, avec qui Eliz a chanté en grande formation. Les musiciens chevronnés Vinh Lê au piano et Michel Rosciglione à la contrebasse forment une section rythmique aussi puissante que fusionnelle. \nElizabeth Corbett : chant\nJean Gobinet : trompette\nVinh Lê : piano\nMichel Rosciglione : contrebasse
URL:https://lemelville.fr/accueil/evenements/new-york-swing-4tet/
LOCATION:Le Melville\, 28 Rue Jean Mermoz\, Paris\, 75008\, France
CATEGORIES:Jazz Standard,Swing
ATTACH;FMTTYPE=image/png:https://lemelville.fr/wp-content/uploads/2026/02/New-York-Swing-4tet-Affiche-NF-1.png
END:VEVENT
BEGIN:VEVENT
DTSTART;TZID=Europe/Paris:20260327T210000
DTEND;TZID=Europe/Paris:20260327T233000
DTSTAMP:20260421T164608
CREATED:20260301T153617Z
LAST-MODIFIED:20260301T153617Z
UID:10001163-1774645200-1774654200@lemelville.fr
SUMMARY:Melville Mode Swing !
DESCRIPTION:Venez vibrer au son envoûtant du violoniste Daniel John Martin et du guitariste Julien Cattiaux\, rejoints par le virtuose Eric Founier pour une soirée “En toute intimité” au Melville. Plongez dans l’univers acoustique de ce trio d’exception\, réunissant des talents de renommée mondiale. \nLe violoniste Daniel John Martin et le guitariste rythmique Julien Cattiaux invitent Adrien Moignard à les rejoindre « En toute intimité » pour une soirée exceptionnelle au Melville.\nCe trio vous offrira une séance de musique acoustique avec une proximité que seul le Melville peut offrir.\nEric Founier est un guitariste phare de sa génération. Dans la lignée directe de Django Reinhardt et Biréli Lagrène\, il est une influence majeure pour la nouvelle école héritière du Hot Club de France.\nRéservez vite pour un moment privilégié avec ces trois concertistes à rayonnement international ! \nDaniel John Martin : violon\nJulien  Cattiaux : guitare\nRobin Pouvreau : guitare
URL:https://lemelville.fr/accueil/evenements/melville-mode-swing-4/
LOCATION:Le Melville\, 28 Rue Jean Mermoz\, Paris\, 75008\, France
CATEGORIES:Manouche,Swing
ATTACH;FMTTYPE=image/png:https://lemelville.fr/wp-content/uploads/2026/03/DJM-Melville-Mode-Swing-260327-Affiche-NF.png
END:VEVENT
END:VCALENDAR