BEGIN:VCALENDAR
VERSION:2.0
PRODID:-//Le Melville - ECPv6.15.17//NONSGML v1.0//EN
CALSCALE:GREGORIAN
METHOD:PUBLISH
X-WR-CALNAME:Le Melville
X-ORIGINAL-URL:https://lemelville.fr/accueil
X-WR-CALDESC:Évènements pour Le Melville
REFRESH-INTERVAL;VALUE=DURATION:PT1H
X-Robots-Tag:noindex
X-PUBLISHED-TTL:PT1H
BEGIN:VTIMEZONE
TZID:Europe/Paris
BEGIN:DAYLIGHT
TZOFFSETFROM:+0100
TZOFFSETTO:+0200
TZNAME:CEST
DTSTART:20250330T010000
END:DAYLIGHT
BEGIN:STANDARD
TZOFFSETFROM:+0200
TZOFFSETTO:+0100
TZNAME:CET
DTSTART:20251026T010000
END:STANDARD
BEGIN:DAYLIGHT
TZOFFSETFROM:+0100
TZOFFSETTO:+0200
TZNAME:CEST
DTSTART:20260329T010000
END:DAYLIGHT
BEGIN:STANDARD
TZOFFSETFROM:+0200
TZOFFSETTO:+0100
TZNAME:CET
DTSTART:20261025T010000
END:STANDARD
BEGIN:DAYLIGHT
TZOFFSETFROM:+0100
TZOFFSETTO:+0200
TZNAME:CEST
DTSTART:20270328T010000
END:DAYLIGHT
BEGIN:STANDARD
TZOFFSETFROM:+0200
TZOFFSETTO:+0100
TZNAME:CET
DTSTART:20271031T010000
END:STANDARD
END:VTIMEZONE
BEGIN:VEVENT
DTSTART;TZID=Europe/Paris:20260422T203000
DTEND;TZID=Europe/Paris:20260422T230000
DTSTAMP:20260421T151713
CREATED:20260301T153803Z
LAST-MODIFIED:20260301T153803Z
UID:10001164-1776889800-1776898800@lemelville.fr
SUMMARY:Melville Mode Swing !
DESCRIPTION:Venez vibrer au son envoûtant du violoniste Daniel John Martin et du guitariste Julien Cattiaux\, rejoints par le virtuose Eric Founier pour une soirée “En toute intimité” au Melville. Plongez dans l’univers acoustique de ce trio d’exception\, réunissant des talents de renommée mondiale. \nLe violoniste Daniel John Martin et le guitariste rythmique Julien Cattiaux invitent Adrien Moignard à les rejoindre « En toute intimité » pour une soirée exceptionnelle au Melville.\nCe trio vous offrira une séance de musique acoustique avec une proximité que seul le Melville peut offrir.\nEric Founier est un guitariste phare de sa génération. Dans la lignée directe de Django Reinhardt et Biréli Lagrène\, il est une influence majeure pour la nouvelle école héritière du Hot Club de France.\nRéservez vite pour un moment privilégié avec ces trois concertistes à rayonnement international ! \nDaniel John Martin : violon\nJulien  Cattiaux : guitare\nSébastien  Giniaux : guitare
URL:https://lemelville.fr/accueil/evenements/melville-mode-swing-5/
LOCATION:Le Melville\, 28 Rue Jean Mermoz\, Paris\, 75008\, France
CATEGORIES:Manouche,Swing
ATTACH;FMTTYPE=image/png:https://lemelville.fr/wp-content/uploads/2026/03/DJM-Melville-Mode-Swing-260422-Affiche-NF-2.png
END:VEVENT
BEGIN:VEVENT
DTSTART;TZID=Europe/Paris:20260430T203000
DTEND;TZID=Europe/Paris:20260430T230000
DTSTAMP:20260421T151713
CREATED:20260301T082812Z
LAST-MODIFIED:20260301T082812Z
UID:10001157-1777581000-1777590000@lemelville.fr
SUMMARY:The Rooftop BarberShop
DESCRIPTION:The Rooftop Barbershop revisite avec énergie et harmonie le jazz des années 20-30 à trois voix. Un trio talentueux mêlant voix\, clarinette\, guitare et contrebasse. \nDans l’esprit des quatuors Barbershop\, et de groupes vocaux tels que les Mills Brothers ou les Andrews Sisters\, The Rooftop Barbershop reprend et arrange\, à trois voix\, un répertoire jazz New-Orleans et Swing des années 20 aux années 30.  \nRemi Fahed : chant\, clarinette\nLucas Montagnier : chant\, guitare\nAntoine Bonvoisin : chant\, contrebasse
URL:https://lemelville.fr/accueil/evenements/the-rooftop-barbershop-3/
LOCATION:Le Melville\, 28 Rue Jean Mermoz\, Paris\, 75008\, France
CATEGORIES:New Orleans,Swing
ATTACH;FMTTYPE=image/png:https://lemelville.fr/wp-content/uploads/2026/03/The-Rooftop-Barber-Shop-Affiche-NF.png
END:VEVENT
BEGIN:VEVENT
DTSTART;TZID=Europe/Paris:20260506T203000
DTEND;TZID=Europe/Paris:20260506T230000
DTSTAMP:20260421T151713
CREATED:20260407T161248Z
LAST-MODIFIED:20260407T161248Z
UID:10001188-1778099400-1778108400@lemelville.fr
SUMMARY:Melville Mode Swing !
DESCRIPTION:Venez vibrer au son envoûtant du violoniste Daniel John Martin et du guitariste Julien Cattiaux\, rejoints par le virtuose Eric Founier pour une soirée “En toute intimité” au Melville. Plongez dans l’univers acoustique de ce trio d’exception\, réunissant des talents de renommée mondiale. \nLe violoniste Daniel John Martin et le guitariste rythmique Julien Cattiaux invitent Adrien Moignard à les rejoindre « En toute intimité » pour une soirée exceptionnelle au Melville.\nCe trio vous offrira une séance de musique acoustique avec une proximité que seul le Melville peut offrir.\nEric Founier est un guitariste phare de sa génération. Dans la lignée directe de Django Reinhardt et Biréli Lagrène\, il est une influence majeure pour la nouvelle école héritière du Hot Club de France.\nRéservez vite pour un moment privilégié avec ces trois concertistes à rayonnement international ! \nDaniel John Martin : violon\nJulien  Cattiaux : guitare\nHugo Guezbar : guitare
URL:https://lemelville.fr/accueil/evenements/melville-mode-swing-6/
LOCATION:Le Melville\, 28 Rue Jean Mermoz\, Paris\, 75008\, France
CATEGORIES:Manouche,Swing
ATTACH;FMTTYPE=image/png:https://lemelville.fr/wp-content/uploads/2026/04/DJM-Melville-Mode-Swing-7-mai-26-Affiche-NF.png
END:VEVENT
BEGIN:VEVENT
DTSTART;TZID=Europe/Paris:20260609T203000
DTEND;TZID=Europe/Paris:20260609T230000
DTSTAMP:20260421T151713
CREATED:20260420T072900Z
LAST-MODIFIED:20260420T072900Z
UID:10001200-1781037000-1781046000@lemelville.fr
SUMMARY:Olivier Franc 4tet
DESCRIPTION:Olivier Franc\, saxophoniste brillant et digne héritier de Sidney Bechet\, a parcouru le monde avec sa musique captivante. Accompagné de son fils\, pianiste talentueux surnommé “Little Fats”\, ils enflamment les scènes internationales avec leur swing unique. Ce duo pétillant est accompagné ce soir du génial Benoït de Flamesnil au Trombone et du flamboyant Amaïdi à la contrebasse. \nOlivier Franc\, Saxophoniste Soprano\,  prix Sidney Bechet de l’académie du jazz\, joue sur le saxophone personnel de Sidney Bechet. Olivier est le fils de René Franc\, clarinettiste des orchestres de Pierre Braslavsky et d’André Réwéliotty qui accompagnèrent Sidney Bechet. Olivier débute sa carrière au début des années 1970 avant de fonder en 1976 sa propre formation. En 1979\, il reçoit le Prix Sidney Bechet de l’Académie puis obtient le Prix Musiciens Français du Hot Club de France en 1997\, pour son disque "Swing Folies" et en 2012\, pour son disque "Ellington Mood". Il est aujourd’hui reconnu dans le monde entier comme étant le meilleur disciple de Sidney Bechet\, comme en témoigne son invitation par Wynton Marsalis sur la grande scène de Jazz in Marciac ou ses prestations à New York comme à la Nouvelle Orléans .   \nTout en restant fidèle au style et à l’esprit de la musique de Sidney Bechet\, Olivier Franc propose une musique nouvelle et personnelle avec des compositions originales. Depuis 2006\, il a le privilège de jouer sur le saxophone personnel de Sidney Bechet. En 2015\, il se produit à l’Olympia et en 2019 au Victoria Hall de Genève\, deux concerts salués par des standing ovations.   \nIl sera accompagné ce soir de son fils\, Jean Baptiste Franc\, pianiste de swing\, stride et blues surnommé “Little Fats” par le guitariste de Fats Waller\, Al Casey remporte le 1er prix du concours international de piano stride organisé par l’université Ole Miss du Mississippi en mai 2018.  \nIl a déjà eu le privilège de jouer avec Arwell Shaw\, le contrebassiste de Louis Armstrong et a obtenu les encouragements de Wynton Marsalis et Monty Alexander pour son 1 er cd enregistré avec le batteur de Count Basie: Duffy Jackson.  \nEn 2010 il enregistre un disque de compositions originales avec Melody Federer à Hollywood produit par le chanteur Pat Boon.  \nIl s’est déjà produit à l’Olympia en 2015\, au Victoria Hall de Genève en 2019\, Symphony Space de New York ainsi qu’aux Opéras de Dresde et Francfort en Allemagne.   \nEt a enregistré des émissions pour France Musique et TSF.\nEn 2022\, nouveau cd: "Garner in my mind" avec Yann-Lou Bertrand à la contrebasse et Mourad Benhamou à la batterie.  \nLP produit par JC Hopkins\, compositeur New Yorkais\, producteur de Norah Jones\, Madeleine Peyroux…  \nJean Baptiste  Franc : piano\nBenoit Gueroult De Flamesnil : trombonne\nOlivier Franc : sax\nAmaidi : contrebasse\nSchael Michanol : batterie
URL:https://lemelville.fr/accueil/evenements/olivier-franc-4tet-4/
LOCATION:Le Melville\, 28 Rue Jean Mermoz\, Paris\, 75008\, France
CATEGORIES:Swing
ATTACH;FMTTYPE=image/png:https://lemelville.fr/wp-content/uploads/2026/04/Olivier-Franc-Qtet-Affiche-NF.png
END:VEVENT
BEGIN:VEVENT
DTSTART;TZID=Europe/Paris:20260728T203000
DTEND;TZID=Europe/Paris:20260728T230000
DTSTAMP:20260421T151713
CREATED:20260420T091132Z
LAST-MODIFIED:20260420T091132Z
UID:10001210-1785270600-1785279600@lemelville.fr
SUMMARY:Remi Toulon Trio
DESCRIPTION:Rémi Toulon\, pianiste et compositeur jazz hyperactif\, a secoué la scène avec plus de vingt albums et une énergie débordante. Avec son trio primé\, il a conquis festivals et clubs\, jonglant entre ses propres morceaux et des collaborations passionnantes. Un vituose ! \nRémi Toulon s’est frotté au Jazz sous toutes ses formes\, son insatiable appétit musical l’a amené à participer à plus d’une vingtaine d’albums et à multiplier les rencontres en tant que pianiste\, compositeur ou arrangeur. \nC’est en 2011 qu’il enregistre l’album NOVEMBRE et remporte avec son trio le 1er prix du trophée International d’orchestres organisé par le festival Jazz à Montauban. Le trio devient vite habitué des clubs et festivals\, en tant que groupe defendant sa propre musique ou en tant que rythmique au service de divers solistes ou chanteurs.\nL’album QUIETLY (2014)\, sélectionné par FIP et France Musique\, est salué dès sa sortie comme « Révélation » par Jazzman/Jazz magazine.\nAvec cette même rythmique\, plus soudée que jamais\, Rémi Toulon signe ADAGIORINHO (2017) et THE CRAVE (2022) qui explorent en quintet la frontière ténue entre le Jazz et ses musiques cousines du brésil et des Caraïbes. \nDistillant une musique généreuse avec un plaisir de jouer évident\, Rémi Toulon défend une musique à la fois personnelle et ancrée dans la grande tradition du Jazz.  \n“Rémi Toulon\, musicien français éclectique et surdoué.”\nFrance Musique  \n“Impossible de rester impassible devant un tel sens du swing\, devant une joie de jouer aussi débordante !”\nTSF JAZZ \n“Ils ont une façon\, par leurs arrangements\, de réinventer l’art du trio jazz à chaque morceau\, qui est tout à fait réjouissante.”\nJazzman/Jazzmag  \nRémi Toulon : piano\nVincent Frade : batterie\nMarc Bollengier : contrebasse
URL:https://lemelville.fr/accueil/evenements/remi-toulon-trio-7/
LOCATION:Le Melville\, 28 Rue Jean Mermoz\, Paris\, 75008\, France
CATEGORIES:Jazz Standard,Swing
ATTACH;FMTTYPE=image/png:https://lemelville.fr/wp-content/uploads/2026/04/Remi-Toulon-trio-251219-Affiche-Nf.png
END:VEVENT
BEGIN:VEVENT
DTSTART;TZID=Europe/Paris:20260729T203000
DTEND;TZID=Europe/Paris:20260729T230000
DTSTAMP:20260421T151713
CREATED:20260420T091405Z
LAST-MODIFIED:20260420T091405Z
UID:10001211-1785357000-1785366000@lemelville.fr
SUMMARY:Victor Demange
DESCRIPTION:Victor Demange\, virtuose du piano au style original\, brille sur la scène française. Avec des collaborations prestigieuses et son trio de choc\, il réveille le swing et le blues de la Nouvelle Orléans. De Chuck Berry à des réarrangements inattendus\, ce pianiste talentueux saura vous surprendre! \nVictor Demange est un pianiste virtuose au style original qui a su se faire une place sur la scène française. Régulièrement invité dans les festivals\, il compte plusieurs collaborations prestigieuses comme notamment Bob Baldori\, le pianiste qui a accompagné Chuck Berry pendant plus de 40 ans ou encore Fabrice Eulry\, pianiste français spécialiste du piano stride.\nAccompagné de ses deux musiciens de marque\, Mat Le Rouge au saxophone et Thomas Racine à la batterie\, il propose un style swing\, boogie\, blues inspiré du vieux jazz de la Nouvelle Orléans. Il vous étonnera avec un répertoire varié allant de standards à des réarrangements de musique classique toujours dans un style de vieux jazz américain.  \nVictor Demange : piano\nMat Le Rouge : sax\nThomas Racine : batterie
URL:https://lemelville.fr/accueil/evenements/victor-demange-13/
LOCATION:Le Melville\, 28 Rue Jean Mermoz\, Paris\, 75008\, France
CATEGORIES:Boogie,Swing
ATTACH;FMTTYPE=image/png:https://lemelville.fr/wp-content/uploads/2026/04/Victor-Demange-Racine-Affiche-NF.png
END:VEVENT
END:VCALENDAR