BEGIN:VCALENDAR
VERSION:2.0
PRODID:-//Le Melville - ECPv6.15.17//NONSGML v1.0//EN
CALSCALE:GREGORIAN
METHOD:PUBLISH
X-ORIGINAL-URL:https://lemelville.fr/accueil
X-WR-CALDESC:Évènements pour Le Melville
REFRESH-INTERVAL;VALUE=DURATION:PT1H
X-Robots-Tag:noindex
X-PUBLISHED-TTL:PT1H
BEGIN:VTIMEZONE
TZID:Europe/Paris
BEGIN:DAYLIGHT
TZOFFSETFROM:+0100
TZOFFSETTO:+0200
TZNAME:CEST
DTSTART:20240331T010000
END:DAYLIGHT
BEGIN:STANDARD
TZOFFSETFROM:+0200
TZOFFSETTO:+0100
TZNAME:CET
DTSTART:20241027T010000
END:STANDARD
BEGIN:DAYLIGHT
TZOFFSETFROM:+0100
TZOFFSETTO:+0200
TZNAME:CEST
DTSTART:20250330T010000
END:DAYLIGHT
BEGIN:STANDARD
TZOFFSETFROM:+0200
TZOFFSETTO:+0100
TZNAME:CET
DTSTART:20251026T010000
END:STANDARD
BEGIN:DAYLIGHT
TZOFFSETFROM:+0100
TZOFFSETTO:+0200
TZNAME:CEST
DTSTART:20260329T010000
END:DAYLIGHT
BEGIN:STANDARD
TZOFFSETFROM:+0200
TZOFFSETTO:+0100
TZNAME:CET
DTSTART:20261025T010000
END:STANDARD
END:VTIMEZONE
BEGIN:VEVENT
DTSTART;TZID=Europe/Paris:20251211T203000
DTEND;TZID=Europe/Paris:20251211T230000
DTSTAMP:20260421T224106
CREATED:20251112T033039Z
LAST-MODIFIED:20251112T033039Z
UID:10001032-1765485000-1765494000@lemelville.fr
SUMMARY:Gashka
DESCRIPTION:Partez en voyage avec Gashka dans les Balkans sur des rythmes fous mêlant mélodies russes\, hongroises\, moldaves\, klezmers et tziganes. Un tourbillon musical joyeux et nostalgique qui va faire danser vos oreilles ! 🎶🌍💃 \nGashka vous invite à un voyage musical joyeux et nostalgique au cœur des Balkans\, sur des rythmes endiablés \, avec ses mélodies russes\, hongroises \, moldaves \, klezmers\, et bien sûr tziganes !  \nVelizar Assenov : violon\nHenry Kisiel : contrebasse\nGheorghe Ciumasu : accordéon
URL:https://lemelville.fr/accueil/evenements/gashka-4/
LOCATION:Le Melville\, 28 Rue Jean Mermoz\, Paris\, 75008\, France
CATEGORIES:Tzigane
ATTACH;FMTTYPE=image/png:https://lemelville.fr/wp-content/uploads/2025/11/Gashka-Trio-250410-Affiche-NF-1.png
END:VEVENT
END:VCALENDAR