BEGIN:VCALENDAR
VERSION:2.0
PRODID:-//Le Melville - ECPv6.15.17//NONSGML v1.0//EN
CALSCALE:GREGORIAN
METHOD:PUBLISH
X-ORIGINAL-URL:https://lemelville.fr/accueil
X-WR-CALDESC:Évènements pour Le Melville
REFRESH-INTERVAL;VALUE=DURATION:PT1H
X-Robots-Tag:noindex
X-PUBLISHED-TTL:PT1H
BEGIN:VTIMEZONE
TZID:Europe/Paris
BEGIN:DAYLIGHT
TZOFFSETFROM:+0100
TZOFFSETTO:+0200
TZNAME:CEST
DTSTART:20240331T010000
END:DAYLIGHT
BEGIN:STANDARD
TZOFFSETFROM:+0200
TZOFFSETTO:+0100
TZNAME:CET
DTSTART:20241027T010000
END:STANDARD
BEGIN:DAYLIGHT
TZOFFSETFROM:+0100
TZOFFSETTO:+0200
TZNAME:CEST
DTSTART:20250330T010000
END:DAYLIGHT
BEGIN:STANDARD
TZOFFSETFROM:+0200
TZOFFSETTO:+0100
TZNAME:CET
DTSTART:20251026T010000
END:STANDARD
BEGIN:DAYLIGHT
TZOFFSETFROM:+0100
TZOFFSETTO:+0200
TZNAME:CEST
DTSTART:20260329T010000
END:DAYLIGHT
BEGIN:STANDARD
TZOFFSETFROM:+0200
TZOFFSETTO:+0100
TZNAME:CET
DTSTART:20261025T010000
END:STANDARD
END:VTIMEZONE
BEGIN:VEVENT
DTSTART;TZID=Europe/Paris:20250206T203000
DTEND;TZID=Europe/Paris:20250206T230000
DTSTAMP:20260422T131350
CREATED:20250211T003720Z
LAST-MODIFIED:20250211T003720Z
UID:10000783-1738873800-1738882800@lemelville.fr
SUMMARY:Lana Gray
DESCRIPTION:Lana Gray\, artiste aux origines diverses illuminées par l’amour\, les rêves et l’inspiration\, transporte son public dans un univers musical métissé\, entre jazz\, swing et bossa nova. Accompagnée de talentueux musiciens\, sa voix envoûtante incarne un monde artistique infini. \n Là où il y a des rêves\, de l’amour et de l’inspiration\, vous ne pourrez pas vous tromper. » Le parcours de Lana GRAY semble avoir été éclairé par cette pensée d’Ella FITZGERALD. L’autrice-compositrice et chanteuse\, Lana Gray\, est née au Sénégal et ses origines diverses s’étendent de l’Europe du Sud\, aux rivages du Sud-Est asiatique et de l’Afrique de l’Ouest. Ainsi\, Sa voix de velours envoûtante porte en elle l’infinité d’un monde enrichi de multiples croisements artistiques. Son univers musical métissé offre un jazz aux accents swing et latin. Lana a enregistré des albums avec Philippe Baden Powell\, Thierry Éliez et Alain Jean-Marie. Lana sera accompagnée du guitariste et chanteur brésilien Sidney Rodrigues et du pianiste Hiroshi Murayama au son de ses compositions\, de standards et de bossa nova.  \nLana Gray : chant\nHiroshi Murayama : piano\nSidney Rodrigues : guitare\, chant
URL:https://lemelville.fr/accueil/evenements/lana-gray/
LOCATION:Le Melville\, 28 Rue Jean Mermoz\, Paris\, 75008\, France
CATEGORIES:Vocal Jazz
ATTACH;FMTTYPE=image/png:https://lemelville.fr/wp-content/uploads/2025/02/Lana-Gray-Affiche-NF.png
END:VEVENT
END:VCALENDAR