BEGIN:VCALENDAR
VERSION:2.0
PRODID:-//Le Melville - ECPv6.15.17//NONSGML v1.0//EN
CALSCALE:GREGORIAN
METHOD:PUBLISH
X-ORIGINAL-URL:https://lemelville.fr/accueil
X-WR-CALDESC:Évènements pour Le Melville
REFRESH-INTERVAL;VALUE=DURATION:PT1H
X-Robots-Tag:noindex
X-PUBLISHED-TTL:PT1H
BEGIN:VTIMEZONE
TZID:Europe/Paris
BEGIN:DAYLIGHT
TZOFFSETFROM:+0100
TZOFFSETTO:+0200
TZNAME:CEST
DTSTART:20240331T010000
END:DAYLIGHT
BEGIN:STANDARD
TZOFFSETFROM:+0200
TZOFFSETTO:+0100
TZNAME:CET
DTSTART:20241027T010000
END:STANDARD
BEGIN:DAYLIGHT
TZOFFSETFROM:+0100
TZOFFSETTO:+0200
TZNAME:CEST
DTSTART:20250330T010000
END:DAYLIGHT
BEGIN:STANDARD
TZOFFSETFROM:+0200
TZOFFSETTO:+0100
TZNAME:CET
DTSTART:20251026T010000
END:STANDARD
BEGIN:DAYLIGHT
TZOFFSETFROM:+0100
TZOFFSETTO:+0200
TZNAME:CEST
DTSTART:20260329T010000
END:DAYLIGHT
BEGIN:STANDARD
TZOFFSETFROM:+0200
TZOFFSETTO:+0100
TZNAME:CET
DTSTART:20261025T010000
END:STANDARD
END:VTIMEZONE
BEGIN:VEVENT
DTSTART;TZID=Europe/Paris:20250319T203000
DTEND;TZID=Europe/Paris:20250319T233000
DTSTAMP:20260422T115022
CREATED:20250118T154042Z
LAST-MODIFIED:20250118T154042Z
UID:10000738-1742416200-1742427000@lemelville.fr
SUMMARY:Isabelle Seleskovitch Trio
DESCRIPTION:Isabelle Seleskovitch vous conduira dans l’âge d’or du jazz et des divas avec son trio. Sur scène\, sa voix suave se mêle au piano envoûtant de Laurent Marode et à la contrebasse envoûtante de Denis Dessallien. Un cocktail musical raffiné. \nLe trio d’Isabelle Seleskovitch avec Laurent Marode (piano) et Denis Dessallien (contrebasse) est le tout premier band que la chanteuse crée à ses débuts sur la scène parisienne. Il fait revivre l’esprit du jazz et de ses icônes\, à l’âge d’or des comédies musicales\, des divas et des clubs mythiques. Standards de l’American Songbook\, compositions originales mais aussi chanson française et italienne : la voix suave d’Isabelle se prête aux plus belles mélodies.\nUne soirée sous le signe de l’élégance et du swing !  \nIsabelle Seleskovitch : voix\nLaurent Marode : piano\nDenis Dessallien : contrebasse
URL:https://lemelville.fr/accueil/evenements/isabelle-seleskovitch-trio-2/
LOCATION:Le Melville\, 28 Rue Jean Mermoz\, Paris\, 75008\, France
CATEGORIES:Vocal Jazz
ATTACH;FMTTYPE=image/png:https://lemelville.fr/wp-content/uploads/2025/01/Isabelle-Seleskovitch-Trio-Affiche-NF.png
END:VEVENT
END:VCALENDAR