BEGIN:VCALENDAR
VERSION:2.0
PRODID:-//Le Melville - ECPv6.15.17//NONSGML v1.0//EN
CALSCALE:GREGORIAN
METHOD:PUBLISH
X-WR-CALNAME:Le Melville
X-ORIGINAL-URL:https://lemelville.fr/accueil
X-WR-CALDESC:Évènements pour Le Melville
REFRESH-INTERVAL;VALUE=DURATION:PT1H
X-Robots-Tag:noindex
X-PUBLISHED-TTL:PT1H
BEGIN:VTIMEZONE
TZID:Europe/Paris
BEGIN:DAYLIGHT
TZOFFSETFROM:+0100
TZOFFSETTO:+0200
TZNAME:CEST
DTSTART:20240331T010000
END:DAYLIGHT
BEGIN:STANDARD
TZOFFSETFROM:+0200
TZOFFSETTO:+0100
TZNAME:CET
DTSTART:20241027T010000
END:STANDARD
BEGIN:DAYLIGHT
TZOFFSETFROM:+0100
TZOFFSETTO:+0200
TZNAME:CEST
DTSTART:20250330T010000
END:DAYLIGHT
BEGIN:STANDARD
TZOFFSETFROM:+0200
TZOFFSETTO:+0100
TZNAME:CET
DTSTART:20251026T010000
END:STANDARD
BEGIN:DAYLIGHT
TZOFFSETFROM:+0100
TZOFFSETTO:+0200
TZNAME:CEST
DTSTART:20260329T010000
END:DAYLIGHT
BEGIN:STANDARD
TZOFFSETFROM:+0200
TZOFFSETTO:+0100
TZNAME:CET
DTSTART:20261025T010000
END:STANDARD
END:VTIMEZONE
BEGIN:VEVENT
DTSTART;TZID=Europe/Paris:20250501T203000
DTEND;TZID=Europe/Paris:20250501T230000
DTSTAMP:20260422T085730
CREATED:20250330T131925Z
LAST-MODIFIED:20250330T131925Z
UID:10000833-1746131400-1746140400@lemelville.fr
SUMMARY:Leïla Duclos "Fille du feu"
DESCRIPTION:Leïla Duclos enflamme les notes de son jazz vocal avec un album étincelant “FILLE DU FEU”\, illuminé par ses chansons originales et son scat virtuose. Funambule musical\, elle jongle entre jazz manouche et cordes pour un spectacle envoûtant. Un tourbillon musical inoubliable ! \nDans son chant\, il y a comme des flammes qui dansent. Dans ses doigts\, des feux follets swinguent en diable…\nVoici Leïla Duclos avec des chansons françaises fraîchement sorties de sa guitare\, un jazz aux accents manouches et un scat indomptable. \nL’étoile du jazz vocal\, présente son album “FILLE DU FEU”\, élu Révélation par Jazz Magazine\, un premier opus de chansons originales où elle révèle l’étendue de sa personnalité musicale\, en particulier dans la virtuosité de son scat.\nCet album à la grande richesse musicale\, des arrangements de cordes au travail du texte\, en passant par l’influence du jazz manouche\, révèle au travers de ses différentes couleurs\, la singularité artistique de Leila Duclos\, véritable funambule de la musique. \nLeïla Duclos : chant\, guitare\nLeandro Aconcha : piano\nJean-Philippe Bordier : guitare\nGilles Coquard : basse
URL:https://lemelville.fr/accueil/evenements/leila-duclos-fille-du-feu/
LOCATION:Le Melville\, 28 Rue Jean Mermoz\, Paris\, 75008\, France
CATEGORIES:Manouche,Vocal Jazz
ATTACH;FMTTYPE=image/png:https://lemelville.fr/wp-content/uploads/2025/03/Leila-Duclos-01-05-25-Affiche-NF-1.png
END:VEVENT
BEGIN:VEVENT
DTSTART;TZID=Europe/Paris:20250510T210000
DTEND;TZID=Europe/Paris:20250510T233000
DTSTAMP:20260422T085730
CREATED:20250318T133242Z
LAST-MODIFIED:20250318T133242Z
UID:10000825-1746910800-1746919800@lemelville.fr
SUMMARY:Joan Minor Quartet
DESCRIPTION:Joan Minor\, diva américaine du jazz à Paris\, s’entoure de 3 virtuoses français. Le Joan Minor Quartet enflamme les scènes d’Europe\, d’Afrique et même de New York. Avec sa voix envoûtante et son groove sans artifice\, elle captive son public à chaque note. Une expérience musicale \nJoan Minor\, américaine vivant à Paris\, est accompagné de 3 musiciens français – Christian Duperray à la basse électrique et contrebasse\, Étienne Brachet à la batterie et Michael Dravigny aux claviers  –   et depuis plus 10 ans\, ce quartet de jazz/ soul/blues joue régulièrement en France\, ainsi qu’aux Etats Unis et en Afrique.   \nLe Joan Minor Quartet conjugue le style américain de Joan avec le talent d’un groupe de français. Grâce à un répertoire aux multiples facettes\, ils ont suscité l’enthousiasme de leur public en Europe comme en Afrique\, mais aussi à New York ! \nBasée à Paris\, Joan\, c’est l’authenticité du jazz américain mélangée à la French Touch de ses 3 musiciens français\, un son pur\, une musique « #nofilter » et une communion chaleureuse entre une artiste et son public. Elle se produit régulièrement dans sa deuxième maison – Las Vegas\, et tourne régulièrement pour le Département d’État américain en Afrique. \nJoan interprète toute la gamme du jazz\, de la soul et du blues\, dans son style énergétique et émotionnel inimitable : un son brut et non filtré unique. \nJoan Minor : chant\nChristian Duperray : contrebasse\nEtienne  Brachet  : batterie\nMichael Dravigny : piano
URL:https://lemelville.fr/accueil/evenements/joan-minor-quartet/
LOCATION:Le Melville\, 28 Rue Jean Mermoz\, Paris\, 75008\, France
CATEGORIES:Vocal Jazz
ATTACH;FMTTYPE=image/png:https://lemelville.fr/wp-content/uploads/2025/03/Joan-Minor-Quartet-Affiche-241122-2.png
END:VEVENT
BEGIN:VEVENT
DTSTART;TZID=Europe/Paris:20250516T210000
DTEND;TZID=Europe/Paris:20250516T233000
DTSTAMP:20260422T085730
CREATED:20250222T221936Z
LAST-MODIFIED:20250222T221936Z
UID:10000793-1747429200-1747438200@lemelville.fr
SUMMARY:Shjazz
DESCRIPTION:Shjazz\, une artiste multiculturelle aux origines multiples\, mélange jazz et traditions pour des performances touchantes. Accompagnée de talentueux musiciens\, elle captive son public avec passion et émotion. Un mélange culturel à découvrir!  \nShjazz est une vocaliste\, conteuse et artiste multiculturelle dont les racines s’étendent à travers plusieurs continents. D’origines chinoises\, javanaises\, arawak\, ghanéennes\, créoles françaises et juives portugaises\, elle incarne une véritable mosaïque culturelle. Cette richesse se reflète dans son art\, où elle fusionne jazz\, récits et traditions diverses. Inspirée par Billie Holiday et Dinah Washington\, Shjazz propose des performances émouvantes qui touchent le cœur de chaque spectateur.  \nJesus Vega : batterie\nSharon Doelwijt : chant\nGilles  Naturel : contrebasse\nFranck Amsellem : piano
URL:https://lemelville.fr/accueil/evenements/shjazz/
LOCATION:Le Melville\, 28 Rue Jean Mermoz\, Paris\, 75008\, France
CATEGORIES:Jazz Standard,Vocal Jazz
ATTACH;FMTTYPE=image/png:https://lemelville.fr/wp-content/uploads/2025/02/ShJazz-Affiche-NF-1.png
END:VEVENT
BEGIN:VEVENT
DTSTART;TZID=Europe/Paris:20250521T203000
DTEND;TZID=Europe/Paris:20250521T230000
DTSTAMP:20260422T085730
CREATED:20250318T074152Z
LAST-MODIFIED:20250401T081721Z
UID:10000820-1747859400-1747868400@lemelville.fr
SUMMARY:Ellen Birath et Matthieu Boré
DESCRIPTION:Un duo exceptionnel\, Matthieu Boré et Ellen Birath revisitent les classiques du jazz avec sensibilité et modernité. Boré\, le ‘French Crooner’\, rend le jazz populaire et abordable. Birath\, chanteuse suédoise envoûtante\, mêle swing\, blues et émotions avec une touche nordique unique.  \nMatthieu Boré et Ellen Birath nous entraînent dans une délicieuse soirée de standards\, voix contrebasse. Les crooner classique revisités par ce duo exceptionnel.  \nMatthieu Boré\, on l’appelle aussi le ‘French Crooner’ est chanteur\, pianiste et compositeur. Il démocratise le jazz\, le rendant à nouveau populaire\, abordable\, tout en demeurant de grande qualité et généreux. Mêlant les univers jazz\, rock\, blues\, il convoque les standards qu’il revisite avec une extrême sensibilité.  \nEllen Birath\, chanteuse de jazz suédoise\, enchante par sa voix envoûtante et sa présence captivante. Alliant swing\, blues et modernité\, elle explore des émotions universelles avec une touche nordique singulière. Sur scène\, son authenticité transporte le public dans un univers à la fois intime et vibrant.  \nMatthieu Bore : chant\nEllen Berge Birath : chant\nStephen Binet : piano\nAnne  Gouraud Shrestha : contrebasse\nVincent Touchard : batterie
URL:https://lemelville.fr/accueil/evenements/ellen-birath-et-matthieu-bore-3/
LOCATION:Melville-hors-les-murs Bagatelle\, 42 route de Sèvre à Neully\, Paris\, 75116
CATEGORIES:Jazz Standard,Vocal Jazz
ATTACH;FMTTYPE=image/png:https://lemelville.fr/wp-content/uploads/2025/03/Helene-Birath-Matthieu-Bore-Affiche-NF.png
END:VEVENT
END:VCALENDAR