BEGIN:VCALENDAR
VERSION:2.0
PRODID:-//Le Melville - ECPv6.15.17//NONSGML v1.0//EN
CALSCALE:GREGORIAN
METHOD:PUBLISH
X-WR-CALNAME:Le Melville
X-ORIGINAL-URL:https://lemelville.fr/accueil
X-WR-CALDESC:Évènements pour Le Melville
REFRESH-INTERVAL;VALUE=DURATION:PT1H
X-Robots-Tag:noindex
X-PUBLISHED-TTL:PT1H
BEGIN:VTIMEZONE
TZID:Europe/Paris
BEGIN:DAYLIGHT
TZOFFSETFROM:+0100
TZOFFSETTO:+0200
TZNAME:CEST
DTSTART:20240331T010000
END:DAYLIGHT
BEGIN:STANDARD
TZOFFSETFROM:+0200
TZOFFSETTO:+0100
TZNAME:CET
DTSTART:20241027T010000
END:STANDARD
BEGIN:DAYLIGHT
TZOFFSETFROM:+0100
TZOFFSETTO:+0200
TZNAME:CEST
DTSTART:20250330T010000
END:DAYLIGHT
BEGIN:STANDARD
TZOFFSETFROM:+0200
TZOFFSETTO:+0100
TZNAME:CET
DTSTART:20251026T010000
END:STANDARD
BEGIN:DAYLIGHT
TZOFFSETFROM:+0100
TZOFFSETTO:+0200
TZNAME:CEST
DTSTART:20260329T010000
END:DAYLIGHT
BEGIN:STANDARD
TZOFFSETFROM:+0200
TZOFFSETTO:+0100
TZNAME:CET
DTSTART:20261025T010000
END:STANDARD
END:VTIMEZONE
BEGIN:VEVENT
DTSTART;TZID=Europe/Paris:20251029T203000
DTEND;TZID=Europe/Paris:20251029T233000
DTSTAMP:20260422T015440
CREATED:20250923T074131Z
LAST-MODIFIED:20250923T074250Z
UID:10000980-1761769800-1761780600@lemelville.fr
SUMMARY:Shjazz
DESCRIPTION:Shjazz\, une artiste multiculturelle aux origines multiples\, mélange jazz et traditions pour des performances touchantes. Accompagnée de talentueux musiciens\, elle captive son public avec passion et émotion. Un mélange culturel à découvrir! \nShjazz est une vocaliste\, conteuse et artiste multiculturelle dont les racines s’étendent à travers plusieurs continents. D’origines chinoises\, javanaises\, arawak\, ghanéennes\, créoles françaises et juives portugaises\, elle incarne une véritable mosaïque culturelle. Cette richesse se reflète dans son art\, où elle fusionne jazz\, récits et traditions diverses. Inspirée par Billie Holiday et Dinah Washington\, Shjazz propose des performances émouvantes qui touchent le cœur de chaque spectateur. \n\n\n\n\n\n\n\n\n\n\n\n\n\n\n\n\nJesus Vega : batterie\nKim Baiunco : contrebasse\nSharon Carlin Doelwijt : chant\nDamien Argentieri : piano
URL:https://lemelville.fr/accueil/evenements/shjazz-2/
LOCATION:Le Melville\, 28 Rue Jean Mermoz\, Paris\, 75008\, France
CATEGORIES:Jazz Standard,Vocal Jazz
ATTACH;FMTTYPE=image/png:https://lemelville.fr/wp-content/uploads/2025/09/Shjazz-2-Affiche-NF.png
END:VEVENT
BEGIN:VEVENT
DTSTART;TZID=Europe/Paris:20251030T203000
DTEND;TZID=Europe/Paris:20251030T230000
DTSTAMP:20260422T015440
CREATED:20250926T132109Z
LAST-MODIFIED:20250926T132109Z
UID:10000992-1761856200-1761865200@lemelville.fr
SUMMARY:Antoine Dessane & The Jive Messengers
DESCRIPTION:Jive\, concept novateur d’Antoine Dessane\, revisite le “vocalise” dans un concert original mêlant jazz instrumental\, paroles et improvisation. Avec Fédia Amice\, Fady Farah et Stéphane Chandelier\, découvrez un cocktail musical électrisant des années 50-60. Des standards revisités pour une soir de folie. \nCréé à l’initiative d’Antoine Dessane\, Jive présente au grand public l’art du “vocalise”; qui consiste à composer des paroles sur les thèmes de jazz instrumentaux soit en amont\, soit en temps réel à travers l’improvisation.\nCe n’est plus au “scat”\, improvisation qui utilise des onomatopées\, mais au “vocalise” ou “Jive” usant des mots\, qu’Antoine Dessane vous convie à travers ce concert unique.\nLa formation est également originale car elle s’inscrit dans la tradition du jazz “électrique” des années 50-60 avec la combinaison de la guitare amplifiée et de l’orgue Hammond. \nFédia Amice\, jeune prodige de la guitare sera accompagné des talentueux Fady Farah à l’orgue et de Stéphane Chandelier à la batterie. \nDes standards encore jamais entendus chantés de Wes Montgomery\, Grant Green et bien d’autres vous attendent pour cette soirée riche en découvertes musicales. \nAntoine Dessane : chant\nFedia Amice : guitare\nStéphane Chandelier : batterie\nLaurent Marode : piano
URL:https://lemelville.fr/accueil/evenements/antoine-dessane-the-jive-messengers/
LOCATION:Le Melville\, 28 Rue Jean Mermoz\, Paris\, 75008\, France
CATEGORIES:Jazz Standard,Vocal Jazz
ATTACH;FMTTYPE=image/png:https://lemelville.fr/wp-content/uploads/2025/09/Antoine-Dessane-the-Jive-Band-Affiche-NF.png
END:VEVENT
END:VCALENDAR