BEGIN:VCALENDAR
VERSION:2.0
PRODID:-//Le Melville - ECPv6.15.17//NONSGML v1.0//EN
CALSCALE:GREGORIAN
METHOD:PUBLISH
X-WR-CALNAME:Le Melville
X-ORIGINAL-URL:https://lemelville.fr/accueil
X-WR-CALDESC:Évènements pour Le Melville
REFRESH-INTERVAL;VALUE=DURATION:PT1H
X-Robots-Tag:noindex
X-PUBLISHED-TTL:PT1H
BEGIN:VTIMEZONE
TZID:Europe/Paris
BEGIN:DAYLIGHT
TZOFFSETFROM:+0100
TZOFFSETTO:+0200
TZNAME:CEST
DTSTART:20250330T010000
END:DAYLIGHT
BEGIN:STANDARD
TZOFFSETFROM:+0200
TZOFFSETTO:+0100
TZNAME:CET
DTSTART:20251026T010000
END:STANDARD
BEGIN:DAYLIGHT
TZOFFSETFROM:+0100
TZOFFSETTO:+0200
TZNAME:CEST
DTSTART:20260329T010000
END:DAYLIGHT
BEGIN:STANDARD
TZOFFSETFROM:+0200
TZOFFSETTO:+0100
TZNAME:CET
DTSTART:20261025T010000
END:STANDARD
BEGIN:DAYLIGHT
TZOFFSETFROM:+0100
TZOFFSETTO:+0200
TZNAME:CEST
DTSTART:20270328T010000
END:DAYLIGHT
BEGIN:STANDARD
TZOFFSETFROM:+0200
TZOFFSETTO:+0100
TZNAME:CET
DTSTART:20271031T010000
END:STANDARD
END:VTIMEZONE
BEGIN:VEVENT
DTSTART;TZID=Europe/Paris:20260109T210000
DTEND;TZID=Europe/Paris:20260109T233000
DTSTAMP:20260421T211022
CREATED:20251121T095526Z
LAST-MODIFIED:20251121T095526Z
UID:10001055-1767992400-1768001400@lemelville.fr
SUMMARY:Vik Sings The Blues
DESCRIPTION:Viktorija Gečytė\, finaliste du Concours International Sarah Vaughan\, se lance dans une aventure musicale passionnante avec son quartet. Du blues à vous donner des frissons en reprenant des légendes comme Billie Holiday et Nina Simone. Préparez-vous à vibrer au rythme de l’émotion authentique \nViktorija Gečytė\, finaliste du prestigieux Concours International Sarah Vaughan aux côtés de Samara Joy\, De la joie débridée à la mélancolie\, aucune autre forme de musique ne communique plus d’émotion authentique que le blues !  C’est cette émotion et que Viktorija Gečytė et son quartet international se proposent de partager avec vous au gré de leurs interprétations blues de Billie Holiday\, Nina Simone\, Thelonious Monk\, Sting\, Tom Waits\, James Taylor et d’autres.  \nViktorija Gecyte : chant\nYoan Fernandez : guitare\nPeter Giron : contrebasse\nMourad Benhammou : batterie
URL:https://lemelville.fr/accueil/evenements/vik-sings-the-blues-3/
LOCATION:Le Melville\, 28 Rue Jean Mermoz\, Paris\, 75008\, France
CATEGORIES:Swing,Vocal Jazz
ATTACH;FMTTYPE=image/png:https://lemelville.fr/wp-content/uploads/2025/11/Vik-sings-the-blues-Affiche-NF.png
END:VEVENT
BEGIN:VEVENT
DTSTART;TZID=Europe/Paris:20260115T203000
DTEND;TZID=Europe/Paris:20260115T230000
DTSTAMP:20260421T211022
CREATED:20251120T091738Z
LAST-MODIFIED:20251120T091738Z
UID:10001054-1768509000-1768518000@lemelville.fr
SUMMARY:Eva Mortelle Trio
DESCRIPTION:En 2024\, Eva Mortelmans forme un trio jazz-pop au CMDL avec Martin Chenu Noury et Antonin Gibet. Leur musique originale\, mêlant jazz et pop\, reflète leur complicité et leur talent. \nEva Mortelmans crée en 2024 un trio inspiré par le jazz et la pop\, avec des compositions originales. Réunis au CMDL\, les musiciens\, Eva (chant)\, Martin Chenu Noury (guitare) et Antonin Gibet (contrebasse)\, créent une musique riche en influences\, portée par leur cohésion et sensibilité musicale. \nEva Mortelmans : chant\nMartin Chenu Noury : guitare\nAntonin Gibet : contrebasse
URL:https://lemelville.fr/accueil/evenements/eva-mortelle-trio/
LOCATION:Le Melville\, 28 Rue Jean Mermoz\, Paris\, 75008\, France
CATEGORIES:Jazz Standard,Vocal Jazz
ATTACH;FMTTYPE=image/png:https://lemelville.fr/wp-content/uploads/2025/11/Eva-Mortelmans-Trio-NF-.png
END:VEVENT
BEGIN:VEVENT
DTSTART;TZID=Europe/Paris:20260129T203000
DTEND;TZID=Europe/Paris:20260129T230000
DTSTAMP:20260421T211022
CREATED:20251214T172351Z
LAST-MODIFIED:20251214T172351Z
UID:10001075-1769718600-1769727600@lemelville.fr
SUMMARY:Mathieu Boré 4tet
DESCRIPTION:Matthieu Boré\, le ‘French Crooner’\, réinvente le jazz pour le rendre accessible et de qualité. Avec son 4tet\, il mélange jazz\, rock\, blues avec sensibilité. Une bouffée d’air frais pour les amateurs de musique exigeants et curieux ! \nOn l’appelle aussi le ‘French Crooner’. Matthieu Boré\, chanteur\, pianiste\, compositeur\, démocratise le jazz\, le rendant à nouveau populaire\, abordable\, tout en demeurant de grande qualité et généreux. Mêlant les univers jazz\, rock\, blues\, il convoque les standards qu’il revisite\, en 4tet avec Stephen Binet\, Anne Shrestha et Vincent Touchard avec une extrême sensibilité.  \nMatthieu Boré : chant\nAnne Shrestha : contrebasse\, chant\nStephen Binet : piano\nVincent Touchard : batterie
URL:https://lemelville.fr/accueil/evenements/mathieu-bore-4tet/
LOCATION:Le Melville\, 28 Rue Jean Mermoz\, Paris\, 75008\, France
CATEGORIES:Jazz Standard,Vocal Jazz
ATTACH;FMTTYPE=image/png:https://lemelville.fr/wp-content/uploads/2025/12/Matthieu-Bore-4tet-Affiche-NF.png
END:VEVENT
BEGIN:VEVENT
DTSTART;TZID=Europe/Paris:20260130T210000
DTEND;TZID=Europe/Paris:20260130T233000
DTSTAMP:20260421T211022
CREATED:20251214T172959Z
LAST-MODIFIED:20251214T172959Z
UID:10001077-1769806800-1769815800@lemelville.fr
SUMMARY:Anna Stevens Quintet
DESCRIPTION:Anna Stevens\, passionnée de swing\, chante et danse avec brio les classiques des années 30-40. Accompagnée par un quintet de musiciens talentueux\, elle revisite les légendes comme Ella Fitzgerald et Frank Sinatra. Leur complicité enflamme les scènes mondiales\, des festivals de jazz aux plus beaux club de jazz. \nAnna Stevens est passionnée de swing. Chanteuse et danseuse\, elle s’exprime avec plaisir et engagement dans tout le répertoire des années 30 à 40. Avec son quintet composé de musiciens internationaux\, ils revisitent Ella Fitzgerald\, Nat King Cole\, Fats Waller\, Sarah Vaughan\, Mel Torme\, Frank Sinatra et tous les plus grands noms du swing. Anna Stevens propose un répertoire joyeux et élégant avec une interprétation personnelle et sensible\, en tissant une grande complicité avec le public.  \nCe quintet joue sur les scènes du monde entier\, que ce soit pour des festivals de jazz\, pour des soirées de danses swing ou encore pour des événements de prestige comme le Bal de l’X à l’Opéra Garnier et les soirées de la Maison Dior .  \nAnna Stevens : chant\nHillel Salem : trompette\nGalaad  Moutoz : piano\nFabricio Nicolas : contrebasse\nOrelio Paladini : batterie
URL:https://lemelville.fr/accueil/evenements/anna-stevens-quintet/
LOCATION:Le Melville\, 28 Rue Jean Mermoz\, Paris\, 75008\, France
CATEGORIES:Jazz Standard,Vocal Jazz
ATTACH;FMTTYPE=image/png:https://lemelville.fr/wp-content/uploads/2025/12/Anna-Stevens-5tet-Affiche-NF-Affiche-NF-1.png
END:VEVENT
BEGIN:VEVENT
DTSTART;TZID=Europe/Paris:20260131T210000
DTEND;TZID=Europe/Paris:20260131T233000
DTSTAMP:20260421T211022
CREATED:20251217T224644Z
LAST-MODIFIED:20251217T224644Z
UID:10001081-1769893200-1769902200@lemelville.fr
SUMMARY:Luciana Morelli: Words of the Wind
DESCRIPTION:La chanteuse Luciana Morelli brille dans son album “Words of the Wind”\, fusionnant poèmes et musique avec maestria. Sa voix évocatrice nous guide à travers des paysages sonores riches\, explorant amour\, nature\, solitude avec une touche de jazz et de passion argentine. Une expérience musicale captivante. \nLa chanteuse argentine résidant à Bâle\, Luciana Morelli\, a intégré avec maîtrise et polyvalence ses facettes d’interprète\, de compositrice et d’arrangeuse dans son nouvel album « Words of the Wind » (Habitable Records\, 2024). Des poèmes d’Emily Brontë\, Alejandra Pizarnik\, Anne Carson et Robin Myers trouvent leur expression musicale dans la voix de la chanteuse et dans ses compositions créatives\, où sa voix expressive guide l’auditeur à travers des mondes soigneusement choisis de textures instrumentales et vocales à l’état brut. Approfondissant des thèmes tels que la nature\, l’amour\, la mort\, la solitude\, l’identité\, le désir et la mémoire\, et s’inspirant de la musique argentine\, classique et du jazz\, chaque pièce mêle narration\, poésie et harmonies riches dans une palette personnelle et distinctive pour créer une image complète et dynamique de l’expérience humaine. \n«Morelli a créé une œuvre qui intéressera certainement les amateurs de musique et de littérature. Ce n’est pas seulement de la musique\, c’est une histoire racontée avec des sons». Laboratorium MF (PL)\n«Sa voix est extrêmement expressive\, elle place des accents précis et vibre avec la dramaturgie des textes. Les chansons sont interprétées de manière si créative que l’auditeur ne s’ennuie jamais. Il y a toujours quelque chose de nouveau à découvrir.» Jazz and More (Suisse) \n« … La voix envoûtante de Morelli. Sa voix et l’articulation de chaque mot dégagent une énergie différente de celle du poème original et transforment chaque chanson en une création à part entière. » Twisted Soul Music (Royaume-Uni) \nLuciana Morelli : chant\nPhilipp Hillebrand : clarinette\nMauricio Silva Orendain : piano\nTommy Fuller : contrebasse\nAxel Filip : batterie
URL:https://lemelville.fr/accueil/evenements/luciana-morelli-words-of-the-wind/
LOCATION:Le Melville\, 28 Rue Jean Mermoz\, Paris\, 75008\, France
CATEGORIES:Contemporary jazz,Vocal Jazz
ATTACH;FMTTYPE=image/png:https://lemelville.fr/wp-content/uploads/2025/12/Luciana-Morelli-Affiche-NF-2.png
END:VEVENT
END:VCALENDAR