BEGIN:VCALENDAR
VERSION:2.0
PRODID:-//Le Melville - ECPv6.15.17//NONSGML v1.0//EN
CALSCALE:GREGORIAN
METHOD:PUBLISH
X-WR-CALNAME:Le Melville
X-ORIGINAL-URL:https://lemelville.fr/accueil
X-WR-CALDESC:Évènements pour Le Melville
REFRESH-INTERVAL;VALUE=DURATION:PT1H
X-Robots-Tag:noindex
X-PUBLISHED-TTL:PT1H
BEGIN:VTIMEZONE
TZID:Europe/Paris
BEGIN:DAYLIGHT
TZOFFSETFROM:+0100
TZOFFSETTO:+0200
TZNAME:CEST
DTSTART:20250330T010000
END:DAYLIGHT
BEGIN:STANDARD
TZOFFSETFROM:+0200
TZOFFSETTO:+0100
TZNAME:CET
DTSTART:20251026T010000
END:STANDARD
BEGIN:DAYLIGHT
TZOFFSETFROM:+0100
TZOFFSETTO:+0200
TZNAME:CEST
DTSTART:20260329T010000
END:DAYLIGHT
BEGIN:STANDARD
TZOFFSETFROM:+0200
TZOFFSETTO:+0100
TZNAME:CET
DTSTART:20261025T010000
END:STANDARD
BEGIN:DAYLIGHT
TZOFFSETFROM:+0100
TZOFFSETTO:+0200
TZNAME:CEST
DTSTART:20270328T010000
END:DAYLIGHT
BEGIN:STANDARD
TZOFFSETFROM:+0200
TZOFFSETTO:+0100
TZNAME:CET
DTSTART:20271031T010000
END:STANDARD
END:VTIMEZONE
BEGIN:VEVENT
DTSTART;TZID=Europe/Paris:20260508T210000
DTEND;TZID=Europe/Paris:20260508T233000
DTSTAMP:20260421T164625
CREATED:20260407T133804Z
LAST-MODIFIED:20260407T133804Z
UID:10001187-1778274000-1778283000@lemelville.fr
SUMMARY:Joan Minor Quartet
DESCRIPTION:Joan Minor\, chanteuse américaine à Paris\, forme un quartet de jazz/soul/blues avec 3 musiciens français talentueux. Leur authenticité musicale a conquis l’Europe\, l’Afrique et même New York ! Joan incarne le jazz américain avec une French Touch et une énergie brute\, captivant totalement son public. \nJoan Minor\, américaine vivant à Paris\, est accompagné de 3 musiciens français – Christian Duperray à la basse électrique et contrebasse\, Étienne Brachet à la batterie et Michael Dravigny aux claviers  –   et depuis plus 10 ans\, ce quartet de jazz/ soul/blues joue régulièrement en France\, ainsi qu’aux Etats Unis et en Afrique.   \nLe Joan Minor Quartet conjugue le style américain de Joan avec le talent d’un groupe de français. Grâce à un répertoire aux multiples facettes\, ils ont suscité l’enthousiasme de leur public en Europe comme en Afrique\, mais aussi à New York ! \nBasée à Paris\, Joan\, c’est l’authenticité du jazz américain mélangée à la French Touch de ses 3 musiciens français\, un son pur\, une musique « #nofilter » et une communion chaleureuse entre une artiste et son public. Elle se produit régulièrement dans sa deuxième maison – Las Vegas\, et tourne régulièrement pour le Département d’État américain en Afrique. \nJoan interprète toute la gamme du jazz\, de la soul et du blues\, dans son style énergétique et émotionnel inimitable : un son brut et non filtré unique. \nJoan Minor : chant\nChristian Duperray : contrebasse\nEtienne  Brachet  : batterie\nMichael Dravigny : piano
URL:https://lemelville.fr/accueil/evenements/joan-minor-quartet-4/
LOCATION:Le Melville\, 28 Rue Jean Mermoz\, Paris\, 75008\, France
CATEGORIES:Soul,Vocal Jazz
ATTACH;FMTTYPE=image/png:https://lemelville.fr/wp-content/uploads/2026/04/Joan-Minor-Quartet-Affiche-241122.png
END:VEVENT
BEGIN:VEVENT
DTSTART;TZID=Europe/Paris:20260516T210000
DTEND;TZID=Europe/Paris:20260516T233000
DTSTAMP:20260421T164625
CREATED:20260407T172357Z
LAST-MODIFIED:20260407T172357Z
UID:10001192-1778965200-1778974200@lemelville.fr
SUMMARY:Nancy Murillo 5tet
DESCRIPTION:Plongée dans l’univers musical en Colombie avant de conquérir l’Europe\, Nancy Murillo enflamme les festivals avec Rico Changuï et son titre de “Sonera Moderna”. Accompagnée de talents comme Frédéric\, Sébastien et Richard\, elle réinvente la salsa et le folklore colombien. 🎶 \nAprès des études de chant\, de danse et d’art dramatique et des collaborations avec les groupes Bahia et Azul Amazonas dans son pays natal la Colombie\, Nancy Murillo arrive en Europe en 1993 où elle met depuis le feu à de nombreux festivals et soirées de musiques latines. Avec sa formation Rico Changuï\, Nancu Murillo autant inspiré par la reine de la salsa Celia Cruz que par Lupe\, concrétise son caractère de « Sonera Moderna » en interprétant un vaste répertoire de musiques latines et de folklore traditionnel colombien. \nNancy  Murillo  : chant\nFrancesco  Marzetti  : piano\nManuel Anoy : piano\nNicola Anoyvega : sax\nThérèse  Henry : basse
URL:https://lemelville.fr/accueil/evenements/nancy-murillo-5tet-2/
LOCATION:Le Melville\, 28 Rue Jean Mermoz\, Paris\, 75008\, France
CATEGORIES:Latin Jazz,Vocal Jazz
ATTACH;FMTTYPE=image/png:https://lemelville.fr/wp-content/uploads/2026/04/Nancy-Murillo-Quartet-21-mars-NB-Affiche-NF.png
END:VEVENT
BEGIN:VEVENT
DTSTART;TZID=Europe/Paris:20260521T203000
DTEND;TZID=Europe/Paris:20260521T230000
DTSTAMP:20260421T164625
CREATED:20260410T124234Z
LAST-MODIFIED:20260410T124234Z
UID:10001194-1779395400-1779404400@lemelville.fr
SUMMARY:Nicolle Rochelle & Lucas Montagnier 4tet
DESCRIPTION:Le guitariste parisien Lucas Montagnier invite la chanteuse franco américaine Nicolle Rochelle.\nAccompagnés de Mathieu Meyer au Piano et de Josselin Prud’hom à la contrebasse\, ils revisiteront les grandes heures de la musique noire américaine\, du swing de Billie Holiday au Rhythm Blues de Ruth Brown. \nLe guitariste parisien Lucas Montagnier invite la chanteuse franco américaine Nicolle Rochelle.\nAccompagnés de Mathieu Meyer au Piano et de Josselin Prud’hom à la contrebasse\, ils revisiteront les grandes heures de la musique noire américaine\, du swing de Billie Holiday au Rhythm Blues de Ruth Brown. \nLucas Montagnier : chant\, guitare\nMathieu Meyer : piano\nJocelyn Prud’Hom  : contrebasse\nNicolle Rochelle : chant
URL:https://lemelville.fr/accueil/evenements/nicolle-rochelle-lucas-montagnier-4tet/
LOCATION:Le Melville\, 28 Rue Jean Mermoz\, Paris\, 75008\, France
CATEGORIES:Jazz Standard,Vocal Jazz
ATTACH;FMTTYPE=image/png:https://lemelville.fr/wp-content/uploads/2026/04/Montagnier-Rochelle-4tet-Affiche-NF.png
END:VEVENT
BEGIN:VEVENT
DTSTART;TZID=Europe/Paris:20260523T210000
DTEND;TZID=Europe/Paris:20260523T233000
DTSTAMP:20260421T164625
CREATED:20260402T100752Z
LAST-MODIFIED:20260402T100752Z
UID:10001182-1779570000-1779579000@lemelville.fr
SUMMARY:Chloé Lecerf 4tet
DESCRIPTION:La chanteuse franco-taïwanaise Chloé Lecerf est de retour avec un nouveau quartet. À ses côtés\, Simon Chivallon au piano\, figure incontournable du jazz français actuel et compositeur prolifique\, auteur de nombreux albums salués pour leur singularité. Tom Guillois à la contrebasse\, le benjamin du groupe\, musicien virtuose au parcours atypique : initialement guitariste\, il s’est tourné vers la contrebasse pendant le confinement et s’est rapidement imposé comme l’une des figures montantes de la scène parisienne. À la batterie\, Malte Arndal\, dont l’énergie et la musicalité l’ont conduit sur les plus grandes scènes\, notamment lors de la première tournée européenne de Samara Joy\, considérée comme l’Ella Fitzgerald de notre temps.\nEnsemble\, ils proposent une musique profondément habitée et chargée d’émotion\, entre standards revisités et compositions\, portée par l’improvisation\, l’écoute et une forte complicité musicale. \nChloé Lecerf : chant\nTom Guillois : contrebasse\nSimon Chivallon : piano\nMalte Arndal : batterie
URL:https://lemelville.fr/accueil/evenements/chloe-lecerf-4tet-2/
LOCATION:Le Melville\, 28 Rue Jean Mermoz\, Paris\, 75008\, France
CATEGORIES:Jazz Standard,Vocal Jazz
ATTACH;FMTTYPE=image/png:https://lemelville.fr/wp-content/uploads/2026/04/Chloe-Lecerf-4tet-Affiche-NF.png
END:VEVENT
BEGIN:VEVENT
DTSTART;TZID=Europe/Paris:20260528T203000
DTEND;TZID=Europe/Paris:20260528T230000
DTSTAMP:20260421T164625
CREATED:20260420T084554Z
LAST-MODIFIED:20260420T084554Z
UID:10001205-1780000200-1780009200@lemelville.fr
SUMMARY:Faby Medina & Friends
DESCRIPTION:Faby Médina\, « LA VOIX FÉMININE » du Big Band de Claude Bolling\, fusionne jazz\, soul et pop avec grâce. Avec ses albums\, elle rend hommage aux icônes féminines de la musique. Découvrez son univers sensible à travers son quartet et le fabuleux trio de la scène parisienne qui l’accompagne. \nFaby Médina est une chanteuse de jazz vocal\, auteure-compositrice-interprète à la voix élégante et expressive. Révélée comme « LA VOIX FÉMININE » du Big Band de Claude Bolling pendant près de 20 ans\, elle mêle avec finesse jazz\, soul et influences pop. À travers ses albums\, dont Following Love et Wild is the Flower\, elle propose un univers sensible\, rendant hommage aux grandes figures féminines de la musique.\nChoriste dans de nombreux show télé\, elle aura plaisir de vous présenter ce quartet accompagnée par l’un des meilleurs trio de la scène parisienne et sideman très demandés.   \nFaby Medina : chant\nGuillaume Naud : piano\nMichel Rosciglione : contrebasse\nVincent Frade : batterie
URL:https://lemelville.fr/accueil/evenements/faby-medina-friends/
LOCATION:Le Melville\, 28 Rue Jean Mermoz\, Paris\, 75008\, France
CATEGORIES:Jazz Standard,Vocal Jazz
ATTACH;FMTTYPE=image/png:https://lemelville.fr/wp-content/uploads/2026/04/Faby-Medina-et-friends-Affiche-NF.png
END:VEVENT
BEGIN:VEVENT
DTSTART;TZID=Europe/Paris:20260630T203000
DTEND;TZID=Europe/Paris:20260630T230000
DTSTAMP:20260421T164625
CREATED:20260420T180532Z
LAST-MODIFIED:20260420T180532Z
UID:10001216-1782851400-1782860400@lemelville.fr
SUMMARY:EHRAN JADE QUARTET
DESCRIPTION:Ehran Edwards\, passionnée par le jazz et la mode vintage\, quitte Sydney pour la magie de Paris. Avec son quartet\, elle enchante les clubs parisiens\, mélangeant élégance et raffinement. Une artiste talentueuse au parcours aussi fascinant que son jazz envoûtant. \nParis\, ville de la mode et de la culture\, a toujours fasciné la jeune Ehran Edwards. C’est tout naturellement qu’elle se passionne pour le jazz dans le Paris d’avant-guerre\, pour son ambiance\, son esprit de liberté\, son art de vivre et sa mode.\nDouée pour la musique et le chant\, égérie de la mode "vintage"\, elle charme les scènes musicales de Sydney et d’Auckland avec ses premiers groupes « The Hepburns » et « The Golden Age Band ».\nEn 2021\, la talentueuse Ehran saute le pas\, traverse les océans pour réaliser son rêve et s’installe à Paris.\nSa rencontre avec des musiciens français lui permettra de monter le "Ehran Jade quartet" et de se produire régulièrement dans les clubs parisiens. \nEhran Jade quartet vous fera voyager avec élégance et raffinement de Sydney à Paris !  \nEhran Jade : chant\nCatherine Escoffier : piano\nLaurent Besse : contrebasse\nGérard Dantec : batterie
URL:https://lemelville.fr/accueil/evenements/ehran-jade-quartet/
LOCATION:Le Melville\, 28 Rue Jean Mermoz\, Paris\, 75008\, France
CATEGORIES:Jazz Standard,Vocal Jazz
ATTACH;FMTTYPE=image/png:https://lemelville.fr/wp-content/uploads/2026/04/Ehran-Jade-4tet-260630-Aff.png
END:VEVENT
BEGIN:VEVENT
DTSTART;TZID=Europe/Paris:20260708T203000
DTEND;TZID=Europe/Paris:20260708T230000
DTSTAMP:20260421T164625
CREATED:20260420T085723Z
LAST-MODIFIED:20260420T085723Z
UID:10001206-1783542600-1783551600@lemelville.fr
SUMMARY:Vik Sings The Blues
DESCRIPTION:Viktorija Gečytė\, finaliste du Concours International Sarah Vaughan\, se lance dans une aventure musicale passionnante avec son quartet. Du blues à vous donner des frissons en reprenant des légendes comme Billie Holiday et Nina Simone. Préparez-vous à vibrer au rythme de l’émotion authentique \nViktorija Gečytė\, finaliste du prestigieux Concours International Sarah Vaughan aux côtés de Samara Joy\, De la joie débridée à la mélancolie\, aucune autre forme de musique ne communique plus d’émotion authentique que le blues !  C’est cette émotion et que Viktorija Gečytė et son quartet international se proposent de partager avec vous au gré de leurs interprétations blues de Billie Holiday\, Nina Simone\, Thelonious Monk\, Sting\, Tom Waits\, James Taylor et d’autres.  \nViktorija Gecyte : chant\nYoan Fernandez : guitare\nPeter Giron : contrebasse\nMourad Benhammou : batterie
URL:https://lemelville.fr/accueil/evenements/vik-sings-the-blues-4/
LOCATION:Le Melville\, 28 Rue Jean Mermoz\, Paris\, 75008\, France
CATEGORIES:Blues,Vocal Jazz
ATTACH;FMTTYPE=image/png:https://lemelville.fr/wp-content/uploads/2026/04/Vik-sings-the-blues-Affiche-NF.png
END:VEVENT
BEGIN:VEVENT
DTSTART;TZID=Europe/Paris:20260715T203000
DTEND;TZID=Europe/Paris:20260715T230000
DTSTAMP:20260421T164625
CREATED:20260420T085820Z
LAST-MODIFIED:20260420T085820Z
UID:10001207-1784147400-1784156400@lemelville.fr
SUMMARY:Ellen Birath et Matthieu Boré
DESCRIPTION:Un duo exceptionnel\, Matthieu Boré et Ellen Birath revisitent les classiques du jazz avec sensibilité et modernité. Boré\, le ‘French Crooner’\, rend le jazz populaire et abordable. Birath\, chanteuse suédoise envoûtante\, mêle swing\, blues et émotions avec une touche nordique unique.  \nMatthieu Boré et Ellen Birath nous entraînent dans une délicieuse soirée de standards\, voix contrebasse. Les crooner classique revisités par ce duo exceptionnel.  \nMatthieu Boré\, on l’appelle aussi le ‘French Crooner’ est chanteur\, pianiste et compositeur. Il démocratise le jazz\, le rendant à nouveau populaire\, abordable\, tout en demeurant de grande qualité et généreux. Mêlant les univers jazz\, rock\, blues\, il convoque les standards qu’il revisite avec une extrême sensibilité.  \nEllen Birath\, chanteuse de jazz suédoise\, enchante par sa voix envoûtante et sa présence captivante. Alliant swing\, blues et modernité\, elle explore des émotions universelles avec une touche nordique singulière. Sur scène\, son authenticité transporte le public dans un univers à la fois intime et vibrant.  \nMatthieu Bore : chant\nEllen Berge Birath : chant\nStephen Binet : piano\nAnne  Gouraud Shrestha : contrebasse\nVincent Touchard : batterie
URL:https://lemelville.fr/accueil/evenements/ellen-birath-et-matthieu-bore-4/
LOCATION:Le Melville\, 28 Rue Jean Mermoz\, Paris\, 75008\, France
CATEGORIES:Jazz Standard,Vocal Jazz
ATTACH;FMTTYPE=image/png:https://lemelville.fr/wp-content/uploads/2026/04/Helene-Birath-Matthieu-Bore-Affiche-NF.png
END:VEVENT
END:VCALENDAR